Workbook

Sheet CIE
B1: V(L) | C1: 685 | D1: x̅ | E1: y̅ | F1: z̅ | G1: x | H1: y | I1: w̅ | J1: R1 | K1: R2 | L1: R3 | M1: R4 | N1: R5 | O1: R6 | P1: R7 | Q1: R8 | R1: R9 | S1: R10 | T1: R11 | U1: R12 | V1: R13 | W1: R14
A2: 380 | B2: 3.9e-05 | C2: =B2*$C$1 -> 0.026715 | D2: 0.001368 | E2: 3.9e-05 | F2: 0.006450001 | G2: =D2/SUM($D2:$F2) -> 0.17411223 | H2: =E2/SUM($D2:$F2) -> 0.004963726 | I2: =SUM(D2:F2) -> 0.007857001 | J2: 0.219 | K2: 0.07 | L2: 0.065 | M2: 0.074 | N2: 0.295 | O2: 0.151 | P2: 0.378 | Q2: 0.104 | R2: 0.066 | S2: 0.05 | T2: 0.111 | U2: 0.12 | V2: 0.104 | W2: 0.036
A3: =A2+1 -> 381 | B3: 4.28264e-05 | C3: =B3*$C$1 -> 0.029336084 | D3: 0.00150205 | E3: 4.28264e-05 | F3: 0.007083216 | G3: =D3/SUM($D3:$F3) -> 0.17408831 | H3: =E3/SUM($D3:$F3) -> 0.0049636001 | I3: =SUM(D3:F3) -> 0.0086280924 | J3: 0.223 | K3: 0.0718 | L3: 0.0656 | M3: 0.0758 | N3: 0.2972 | O3: 0.1614 | P3: 0.3942 | Q3: 0.109 | R3: 0.0652 | S3: 0.0508 | T3: 0.113 | U3: 0.1166 | V3: 0.1086 | W3: 0.036
A4: =A3+1 -> 382 | B4: 4.69146e-05 | C4: =B4*$C$1 -> 0.032136501 | D4: 0.001642328 | E4: 4.69146e-05 | F4: 0.007745488 | G4: =D4/SUM($D4:$F4) -> 0.17407259 | H4: =E4/SUM($D4:$F4) -> 0.0049725426 | I4: =SUM(D4:F4) -> 0.0094347306 | J4: 0.227 | K4: 0.0736 | L4: 0.0662 | M4: 0.0776 | N4: 0.2994 | O4: 0.1718 | P4: 0.4104 | Q4: 0.114 | R4: 0.0644 | S4: 0.0516 | T4: 0.115 | U4: 0.1132 | V4: 0.1132 | W4: 0.036
A5: =A4+1 -> 383 | B5: 5.15896e-05 | C5: =B5*$C$1 -> 0.035338876 | D5: 0.001802382 | E5: 5.15896e-05 | F5: 0.008501152 | G5: =D5/SUM($D5:$F5) -> 0.17405702 | H5: =E5/SUM($D5:$F5) -> 0.0049820361 | I5: =SUM(D5:F5) -> 0.010355124 | J5: 0.231 | K5: 0.0754 | L5: 0.0668 | M5: 0.0794 | N5: 0.3016 | O5: 0.1822 | P5: 0.4266 | Q5: 0.119 | R5: 0.0636 | S5: 0.0524 | T5: 0.117 | U5: 0.1098 | V5: 0.1178 | W5: 0.036
A6: =A5+1 -> 384 | B6: 5.71764e-05 | C6: =B6*$C$1 -> 0.039165834 | D6: 0.001995757 | E6: 5.71764e-05 | F6: 0.009414544 | G6: =D6/SUM($D6:$F6) -> 0.17403627 | H6: =E6/SUM($D6:$F6) -> 0.0049859614 | I6: =SUM(D6:F6) -> 0.011467477 | J6: 0.235 | K6: 0.0772 | L6: 0.0674 | M6: 0.0812 | N6: 0.3038 | O6: 0.1926 | P6: 0.4428 | Q6: 0.124 | R6: 0.0628 | S6: 0.0532 | T6: 0.119 | U6: 0.1064 | V6: 0.1224 | W6: 0.036
A7: =A6+1 -> 385 | B7: 6.4e-05 | C7: =B7*$C$1 -> 0.04384 | D7: 0.002236 | E7: 6.4e-05 | F7: 0.01054999 | G7: =D7/SUM($D7:$F7) -> 0.17400792 | H7: =E7/SUM($D7:$F7) -> 0.0049805486 | I7: =SUM(D7:F7) -> 0.01284999 | J7: 0.239 | K7: 0.079 | L7: 0.068 | M7: 0.083 | N7: 0.306 | O7: 0.203 | P7: 0.459 | Q7: 0.129 | R7: 0.062 | S7: 0.054 | T7: 0.121 | U7: 0.103 | V7: 0.127 | W7: 0.036
A8: =A7+1 -> 386 | B8: 7.234421e-05 | C8: =B8*$C$1 -> 0.049555784 | D8: 0.002535385 | E8: 7.234421e-05 | F8: 0.0119658 | G8: =D8/SUM($D8:$F8) -> 0.17397193 | H8: =E8/SUM($D8:$F8) -> 0.0049640831 | I8: =SUM(D8:F8) -> 0.014573529 | J8: 0.2416 | K8: 0.081 | L8: 0.0684 | M8: 0.085 | N8: 0.3068 | O8: 0.2154 | P8: 0.472 | Q8: 0.1372 | R8: 0.0612 | S8: 0.055 | T8: 0.1222 | U8: 0.1004 | V8: 0.1338 | W8: 0.0362
A9: =A8+1 -> 387 | B9: 8.221224e-05 | C9: =B9*$C$1 -> 0.056315384 | D9: 0.002892603 | E9: 8.221224e-05 | F9: 0.01365587 | G9: =D9/SUM($D9:$F9) -> 0.17393168 | H9: =E9/SUM($D9:$F9) -> 0.0049434066 | I9: =SUM(D9:F9) -> 0.016630685 | J9: 0.2442 | K9: 0.083 | L9: 0.0688 | M9: 0.087 | N9: 0.3076 | O9: 0.2278 | P9: 0.485 | Q9: 0.1454 | R9: 0.0604 | S9: 0.056 | T9: 0.1234 | U9: 0.0978 | V9: 0.1406 | W9: 0.0364
A10: =A9+1 -> 388 | B10: 9.350816e-05 | C10: =B10*$C$1 -> 0.06405309 | D10: 0.003300829 | E10: 9.350816e-05 | F10: 0.01558805 | G10: =D10/SUM($D10:$F10) -> 0.17388904 | H10: =E10/SUM($D10:$F10) -> 0.0049260485 | I10: =SUM(D10:F10) -> 0.018982387 | J10: 0.2468 | K10: 0.085 | L10: 0.0692 | M10: 0.089 | N10: 0.3084 | O10: 0.2402 | P10: 0.498 | Q10: 0.1536 | R10: 0.0596 | S10: 0.057 | T10: 0.1246 | U10: 0.0952 | V10: 0.1474 | W10: 0.0366
A11: =A10+1 -> 389 | B11: 0.0001061361 | C11: =B11*$C$1 -> 0.072703228 | D11: 0.003753236 | E11: 0.0001061361 | F11: 0.01773015 | G11: =D11/SUM($D11:$F11) -> 0.17384526 | H11: =E11/SUM($D11:$F11) -> 0.0049160931 | I11: =SUM(D11:F11) -> 0.021589522 | J11: 0.2494 | K11: 0.087 | L11: 0.0696 | M11: 0.091 | N11: 0.3092 | O11: 0.2526 | P11: 0.511 | Q11: 0.1618 | R11: 0.0588 | S11: 0.058 | T11: 0.1258 | U11: 0.0926 | V11: 0.1542 | W11: 0.0368
A12: =A11+1 -> 390 | B12: 0.00012 | C12: =B12*$C$1 -> 0.0822 | D12: 0.004243 | E12: 0.00012 | F12: 0.02005001 | G12: =D12/SUM($D12:$F12) -> 0.17380077 | H12: =E12/SUM($D12:$F12) -> 0.0049154119 | I12: =SUM(D12:F12) -> 0.02441301 | J12: 0.252 | K12: 0.089 | L12: 0.07 | M12: 0.093 | N12: 0.31 | O12: 0.265 | P12: 0.524 | Q12: 0.17 | R12: 0.058 | S12: 0.059 | T12: 0.127 | U12: 0.09 | V12: 0.161 | W12: 0.037
A13: =A12+1 -> 391 | B13: 0.000134984 | C13: =B13*$C$1 -> 0.09246404 | D13: 0.004762389 | E13: 0.000134984 | F13: 0.02251136 | G13: =D13/SUM($D13:$F13) -> 0.17375444 | H13: =E13/SUM($D13:$F13) -> 0.0049248537 | I13: =SUM(D13:F13) -> 0.027408733 | J13: 0.2528 | K13: 0.0914 | L13: 0.0704 | M13: 0.0954 | N13: 0.3104 | O13: 0.2798 | P13: 0.5284 | Q13: 0.184 | R13: 0.0574 | S13: 0.0598 | T13: 0.1274 | U13: 0.0884 | V13: 0.171 | W13: 0.0372
A14: =A13+1 -> 392 | B14: 0.000151492 | C14: =B14*$C$1 -> 0.10377202 | D14: 0.005330048 | E14: 0.000151492 | F14: 0.02520288 | G14: =D14/SUM($D14:$F14) -> 0.17370535 | H14: =E14/SUM($D14:$F14) -> 0.0049370984 | I14: =SUM(D14:F14) -> 0.03068442 | J14: 0.2536 | K14: 0.0938 | L14: 0.0708 | M14: 0.0978 | N14: 0.3108 | O14: 0.2946 | P14: 0.5328 | Q14: 0.198 | R14: 0.0568 | S14: 0.0606 | T14: 0.1278 | U14: 0.0868 | V14: 0.181 | W14: 0.0374
... A402: =A401+1 -> 780 | B402: 1.499e-05 | C402: =B402*$C$1 -> 0.01026815 | D402: 4.150994e-05 | E402: 1.499e-05 | F402: 0 | G402: =D402/SUM($D402:$F402) -> 0.73468998 | H402: =E402/SUM($D402:$F402) -> 0.26531002 | I402: =SUM(D402:F402) -> 5.649994e-05 | J402: 0.467 | K402: 0.314 | L402: 0.516 | M402: 0.197 | N402: 0.219 | O402: 0.485 | P402: 0.581 | Q402: 0.73 | R402: 0.839 | S402: 0.759 | T402: 0.338 | U402: 0.645 | V402: 0.747 | W402: 0.399

Sheet Planck
B2: c | C2: 299792458
B3: h | C3: 6.62607e-34 | K3: UV | L3: =SUM(L16:L196)/L11 -> 0.081292998
B4: k | C4: 1.380648e-23 | K4: IR | L4: =SUM(L604:L3416)/L11 -> 0.44940231
B5: sigma | C5: =2*PI()^5*C4^4/15/C3^3/C2^2 -> 5.6703584e-08 | D5: sigma_P | E5: =4*PI()*C4^3/C3^3/C2^2*1.2 -> 1.5178559e+15
M6: Sun
B7: T | C7: 1000 | D7: 1500 | E7: 2000 | F7: 2700 | G7: 3000 | H7: 3200 | I7: 4000 | J7: 4300 | K7: 5000 | L7: 5500 | M7: 5778 | N7: 6500 | O7: 7000 | P7: 7500 | Q7: 8000 | R7: 8500 | S7: 9000 | T7: 9500 | U7: 10000 | V7: 10500 | W7: 11000 | X7: 11500 | Y7: 12000 | AA7: =C7 -> 1000 | AB7: =D7 -> 1500 | AC7: =E7 -> 2000 | AD7: =F7 -> 2700 | AE7: =G7 -> 3000 | AF7: =H7 -> 3200 | AG7: =I7 -> 4000 | AH7: =J7 -> 4300 | ... AW7: =Y7 -> 12000 | AX7: =AA7 -> 1000 | AY7: =AB7 -> 1500 | AZ7: =AC7 -> 2000 | BA7: =AD7 -> 2700 | BB7: =AE7 -> 3000 | BC7: =AF7 -> 3200 | BD7: =AG7 -> 4000 | BE7: =AH7 -> 4300 | ... CQ7: =BT7 -> 12000
B9: Stefan-Boltzmann radiance | C9: =$C$5*C7^4/PI() -> 18049.311 | D9: =$C$5*D7^4/PI() -> 91374.638 | E9: =$C$5*E7^4/PI() -> 288788.98 | F9: =$C$5*F7^4/PI() -> 959214.4 | G9: =$C$5*G7^4/PI() -> 1461994.2 | H9: =$C$5*H7^4/PI() -> 1892607.5 | I9: =$C$5*I7^4/PI() -> 4620623.7 | J9: =$C$5*J7^4/PI() -> 6170700.3 | ... Y9: =$C$5*Y7^4/PI() -> 3.7427052e+08
B10: luminous efficacy of radiation | C10: =C12/C9 -> 0.00014882668 | D10: =D12/D9 -> 0.084705233 | E10: =E12/E9 -> 1.6058546 | F10: =F12/F9 -> 12.355544 | G10: =G12/G9 -> 20.66892 | H10: =H12/H9 -> 27.086914 | I10: =I12/I9 -> 54.712275 | J10: =J12/J9 -> 64.142855 | ... Y10: =Y12/Y9 -> 57.295289
B11: spectral radiance sum | C11: =SUM(C16:C5816) -> 13317.35 | D11: =SUM(D16:D5816) -> 81324.382 | E11: =SUM(E16:E5816) -> 272924.25 | F11: =SUM(F16:F5816) -> 934867.35 | G11: =SUM(G16:G5816) -> 1433948.1 | H11: =SUM(H16:H5816) -> 1862081.4 | I11: =SUM(I16:I5816) -> 4580033.5 | J11: =SUM(J16:J5816) -> 6126135 | ... Y11: =SUM(Y16:Y5816) -> 3.2209878e+08 | AA11: =SUM(AA16:AA616) -> 0.0074520394 | AB11: =SUM(AB16:AB616) -> 16.883529 | AC11: =SUM(AC16:AC616) -> 865.25052 | AD11: =SUM(AD16:AD616) -> 19433.819 | AE11: =SUM(AE16:AE616) -> 47839.689 | AF11: =SUM(AF16:AF616) -> 79649.151 | AG11: =SUM(AG16:AG616) -> 373755.16 | AH11: =SUM(AH16:AH616) -> 578579.47 | ... CQ11: =SUM(CQ16:CQ616) -> 50944285
B12: luminance | C12: =SUMPRODUCT(CIE!$B$2:$B$402,Planck!C196:C596)*683 -> 2.6862191 | D12: =SUMPRODUCT(CIE!$B$2:$B$402,Planck!D196:D596)*683 -> 7739.9101 | E12: =SUMPRODUCT(CIE!$B$2:$B$402,Planck!E196:E596)*683 -> 463753.11 | F12: =SUMPRODUCT(CIE!$B$2:$B$402,Planck!F196:F596)*683 -> 11851615 | G12: =SUMPRODUCT(CIE!$B$2:$B$402,Planck!G196:G596)*683 -> 30217841 | H12: =SUMPRODUCT(CIE!$B$2:$B$402,Planck!H196:H596)*683 -> 51264895 | I12: =SUMPRODUCT(CIE!$B$2:$B$402,Planck!I196:I596)*683 -> 2.5280483e+08 | J12: =SUMPRODUCT(CIE!$B$2:$B$402,Planck!J196:J596)*683 -> 3.9580634e+08 | ... Y12: =SUMPRODUCT(CIE!$B$2:$B$402,Planck!Y196:Y596)*683 -> 2.1443938e+10 | AA12: x̅ | AB12: x̅ | AC12: x̅ | AD12: x̅ | AE12: x̅ | AF12: x̅ | AG12: x̅ | AH12: x̅ | AI12: x̅ | AJ12: x̅ | AK12: x̅ | AL12: x̅ | AM12: x̅ | AN12: x̅ | AO12: x̅ | AP12: x̅ | AQ12: x̅ | AR12: x̅ | AS12: x̅ | AT12: x̅ | AU12: x̅ | AV12: x̅ | AW12: x̅ | AX12: y̅ | AY12: y̅ | AZ12: y̅ | BA12: y̅ | BB12: y̅ | BC12: y̅ | BD12: y̅ | BE12: y̅ | BF12: y̅ | BG12: y̅ | BH12: y̅ | BI12: y̅ | BJ12: y̅ | BK12: y̅ | BL12: y̅ | BM12: y̅ | BN12: y̅ | BO12: y̅ | BP12: y̅ | BQ12: y̅ | BR12: y̅ | BS12: y̅ | BT12: y̅ | BU12: z̅ | BV12: z̅ | BW12: z̅ | BX12: z̅ | BY12: z̅ | BZ12: z̅ | CA12: z̅ | CB12: z̅ | CC12: z̅ | CD12: z̅ | CE12: z̅ | CF12: z̅ | CG12: z̅ | CH12: z̅ | CI12: z̅ | CJ12: z̅ | CK12: z̅ | CL12: z̅ | CM12: z̅ | CN12: z̅ | CO12: z̅ | CP12: z̅ | CQ12: z̅
B13: x | C13: =AA11/(AA11+AX11+BU11) -> 0.65272306 | D13: =AB11/(AB11+AY11+BV11) -> 0.58570983 | E13: =AC11/(AC11+AZ11+BW11) -> 0.5266743 | F13: =AD11/(AD11+BA11+BX11) -> 0.45986087 | G13: =AE11/(AE11+BB11+BY11) -> 0.43693518 | H13: =AF11/(AF11+BC11+BZ11) -> 0.42336527 | I13: =AG11/(AG11+BD11+CA11) -> 0.38045118 | J13: =AH11/(AH11+BE11+CB11) -> 0.36812354 | ... Y13: =AW11/(AW11+BT11+CQ11) -> 0.27181691
B14: y | C14: =AX11/(AA11+AX11+BU11) -> 0.34448836 | D14: =AY11/(AB11+AY11+BV11) -> 0.39312848 | E14: =AZ11/(AC11+AZ11+BW11) -> 0.41330095 | F14: =BA11/(AD11+BA11+BX11) -> 0.41060588 | G14: =BB11/(AE11+BB11+BY11) -> 0.40408376 | H14: =BC11/(AF11+BC11+BZ11) -> 0.39896377 | I14: =BD11/(AG11+BD11+CA11) -> 0.37677009 | J14: =BE11/(AH11+BE11+CB11) -> 0.36871654 | ... Y14: =BT11/(AW11+BT11+CQ11) -> 0.27765687
A16: 200 | B16: =A16*0.000000001 -> 2e-07 | C16: =2*$C$3*$C$2^2/$B16^5/(EXP($C$3*$C$2/$B16/$C$4/C$7)-1)/1000000000 -> 2.1286908e-23 | D16: =2*$C$3*$C$2^2/$B16^5/(EXP($C$3*$C$2/$B16/$C$4/D$7)-1)/1000000000 -> 5.5250245e-13 | E16: =2*$C$3*$C$2^2/$B16^5/(EXP($C$3*$C$2/$B16/$C$4/E$7)-1)/1000000000 -> 8.9011274e-08 | F16: =2*$C$3*$C$2^2/$B16^5/(EXP($C$3*$C$2/$B16/$C$4/F$7)-1)/1000000000 -> 0.0009986656 | G16: =2*$C$3*$C$2^2/$B16^5/(EXP($C$3*$C$2/$B16/$C$4/G$7)-1)/1000000000 -> 0.01434022 | H16: =2*$C$3*$C$2^2/$B16^5/(EXP($C$3*$C$2/$B16/$C$4/H$7)-1)/1000000000 -> 0.064186645 | I16: =2*$C$3*$C$2^2/$B16^5/(EXP($C$3*$C$2/$B16/$C$4/I$7)-1)/1000000000 -> 5.7558734 | J16: =2*$C$3*$C$2^2/$B16^5/(EXP($C$3*$C$2/$B16/$C$4/J$7)-1)/1000000000 -> 20.18559 | ... Y16: =2*$C$3*$C$2^2/$B16^5/(EXP($C$3*$C$2/$B16/$C$4/Y$7)-1)/1000000000 -> 929619.86
A17: 201 | B17: =A17*0.000000001 -> 2.01e-07 | C17: =2*$C$3*$C$2^2/$B17^5/(EXP($C$3*$C$2/$B17/$C$4/C$7)-1)/1000000000 -> 2.96974e-23 | D17: =2*$C$3*$C$2^2/$B17^5/(EXP($C$3*$C$2/$B17/$C$4/D$7)-1)/1000000000 -> 6.8411324e-13 | E17: =2*$C$3*$C$2^2/$B17^5/(EXP($C$3*$C$2/$B17/$C$4/E$7)-1)/1000000000 -> 1.0383237e-07 | F17: =2*$C$3*$C$2^2/$B17^5/(EXP($C$3*$C$2/$B17/$C$4/F$7)-1)/1000000000 -> 0.0011121381 | G17: =2*$C$3*$C$2^2/$B17^5/(EXP($C$3*$C$2/$B17/$C$4/G$7)-1)/1000000000 -> 0.015759323 | H17: =2*$C$3*$C$2^2/$B17^5/(EXP($C$3*$C$2/$B17/$C$4/H$7)-1)/1000000000 -> 0.070014528 | I17: =2*$C$3*$C$2^2/$B17^5/(EXP($C$3*$C$2/$B17/$C$4/I$7)-1)/1000000000 -> 6.1395984 | J17: =2*$C$3*$C$2^2/$B17^5/(EXP($C$3*$C$2/$B17/$C$4/J$7)-1)/1000000000 -> 21.397306 | ... Y17: =2*$C$3*$C$2^2/$B17^5/(EXP($C$3*$C$2/$B17/$C$4/Y$7)-1)/1000000000 -> 934245.33
A18: 202 | B18: =A18*0.000000001 -> 2.02e-07 | C18: =2*$C$3*$C$2^2/$B18^5/(EXP($C$3*$C$2/$B18/$C$4/C$7)-1)/1000000000 -> 4.1289444e-23 | D18: =2*$C$3*$C$2^2/$B18^5/(EXP($C$3*$C$2/$B18/$C$4/D$7)-1)/1000000000 -> 8.4518066e-13 | E18: =2*$C$3*$C$2^2/$B18^5/(EXP($C$3*$C$2/$B18/$C$4/E$7)-1)/1000000000 -> 1.2092186e-07 | F18: =2*$C$3*$C$2^2/$B18^5/(EXP($C$3*$C$2/$B18/$C$4/F$7)-1)/1000000000 -> 0.0012370325 | G18: =2*$C$3*$C$2^2/$B18^5/(EXP($C$3*$C$2/$B18/$C$4/G$7)-1)/1000000000 -> 0.017300556 | H18: =2*$C$3*$C$2^2/$B18^5/(EXP($C$3*$C$2/$B18/$C$4/H$7)-1)/1000000000 -> 0.076296474 | I18: =2*$C$3*$C$2^2/$B18^5/(EXP($C$3*$C$2/$B18/$C$4/I$7)-1)/1000000000 -> 6.5439157 | J18: =2*$C$3*$C$2^2/$B18^5/(EXP($C$3*$C$2/$B18/$C$4/J$7)-1)/1000000000 -> 22.665879 | ... Y18: =2*$C$3*$C$2^2/$B18^5/(EXP($C$3*$C$2/$B18/$C$4/Y$7)-1)/1000000000 -> 938734.19
A19: 203 | B19: =A19*0.000000001 -> 2.03e-07 | C19: =2*$C$3*$C$2^2/$B19^5/(EXP($C$3*$C$2/$B19/$C$4/C$7)-1)/1000000000 -> 5.7213253e-23 | D19: =2*$C$3*$C$2^2/$B19^5/(EXP($C$3*$C$2/$B19/$C$4/D$7)-1)/1000000000 -> 1.0418699e-12 | E19: =2*$C$3*$C$2^2/$B19^5/(EXP($C$3*$C$2/$B19/$C$4/E$7)-1)/1000000000 -> 1.4059567e-07 | F19: =2*$C$3*$C$2^2/$B19^5/(EXP($C$3*$C$2/$B19/$C$4/F$7)-1)/1000000000 -> 0.0013743431 | G19: =2*$C$3*$C$2^2/$B19^5/(EXP($C$3*$C$2/$B19/$C$4/G$7)-1)/1000000000 -> 0.018972754 | H19: =2*$C$3*$C$2^2/$B19^5/(EXP($C$3*$C$2/$B19/$C$4/H$7)-1)/1000000000 -> 0.083061577 | I19: =2*$C$3*$C$2^2/$B19^5/(EXP($C$3*$C$2/$B19/$C$4/I$7)-1)/1000000000 -> 6.9696279 | J19: =2*$C$3*$C$2^2/$B19^5/(EXP($C$3*$C$2/$B19/$C$4/J$7)-1)/1000000000 -> 23.993116 | ... Y19: =2*$C$3*$C$2^2/$B19^5/(EXP($C$3*$C$2/$B19/$C$4/Y$7)-1)/1000000000 -> 943087.23
A20: 204 | B20: =A20*0.000000001 -> 2.04e-07 | C20: =2*$C$3*$C$2^2/$B20^5/(EXP($C$3*$C$2/$B20/$C$4/C$7)-1)/1000000000 -> 7.901563e-23 | D20: =2*$C$3*$C$2^2/$B20^5/(EXP($C$3*$C$2/$B20/$C$4/D$7)-1)/1000000000 -> 1.281546e-12 | E20: =2*$C$3*$C$2^2/$B20^5/(EXP($C$3*$C$2/$B20/$C$4/E$7)-1)/1000000000 -> 1.6320926e-07 | F20: =2*$C$3*$C$2^2/$B20^5/(EXP($C$3*$C$2/$B20/$C$4/F$7)-1)/1000000000 -> 0.0015251361 | G20: =2*$C$3*$C$2^2/$B20^5/(EXP($C$3*$C$2/$B20/$C$4/G$7)-1)/1000000000 -> 0.020785257 | H20: =2*$C$3*$C$2^2/$B20^5/(EXP($C$3*$C$2/$B20/$C$4/H$7)-1)/1000000000 -> 0.090340339 | I20: =2*$C$3*$C$2^2/$B20^5/(EXP($C$3*$C$2/$B20/$C$4/I$7)-1)/1000000000 -> 7.4175537 | J20: =2*$C$3*$C$2^2/$B20^5/(EXP($C$3*$C$2/$B20/$C$4/J$7)-1)/1000000000 -> 25.380841 | ... Y20: =2*$C$3*$C$2^2/$B20^5/(EXP($C$3*$C$2/$B20/$C$4/Y$7)-1)/1000000000 -> 947305.29
A21: 205 | B21: =A21*0.000000001 -> 2.05e-07 | C21: =2*$C$3*$C$2^2/$B21^5/(EXP($C$3*$C$2/$B21/$C$4/C$7)-1)/1000000000 -> 1.0877009e-22 | D21: =2*$C$3*$C$2^2/$B21^5/(EXP($C$3*$C$2/$B21/$C$4/D$7)-1)/1000000000 -> 1.572989e-12 | E21: =2*$C$3*$C$2^2/$B21^5/(EXP($C$3*$C$2/$B21/$C$4/E$7)-1)/1000000000 -> 1.8916196e-07 | F21: =2*$C$3*$C$2^2/$B21^5/(EXP($C$3*$C$2/$B21/$C$4/F$7)-1)/1000000000 -> 0.0016905538 | G21: =2*$C$3*$C$2^2/$B21^5/(EXP($C$3*$C$2/$B21/$C$4/G$7)-1)/1000000000 -> 0.022747931 | H21: =2*$C$3*$C$2^2/$B21^5/(EXP($C$3*$C$2/$B21/$C$4/H$7)-1)/1000000000 -> 0.098164717 | I21: =2*$C$3*$C$2^2/$B21^5/(EXP($C$3*$C$2/$B21/$C$4/I$7)-1)/1000000000 -> 7.8885279 | J21: =2*$C$3*$C$2^2/$B21^5/(EXP($C$3*$C$2/$B21/$C$4/J$7)-1)/1000000000 -> 26.830898 | ... Y21: =2*$C$3*$C$2^2/$B21^5/(EXP($C$3*$C$2/$B21/$C$4/Y$7)-1)/1000000000 -> 951389.24
A22: 206 | B22: =A22*0.000000001 -> 2.06e-07 | C22: =2*$C$3*$C$2^2/$B22^5/(EXP($C$3*$C$2/$B22/$C$4/C$7)-1)/1000000000 -> 1.4924748e-22 | D22: =2*$C$3*$C$2^2/$B22^5/(EXP($C$3*$C$2/$B22/$C$4/D$7)-1)/1000000000 -> 1.9266453e-12 | E22: =2*$C$3*$C$2^2/$B22^5/(EXP($C$3*$C$2/$B22/$C$4/E$7)-1)/1000000000 -> 2.1890171e-07 | F22: =2*$C$3*$C$2^2/$B22^5/(EXP($C$3*$C$2/$B22/$C$4/F$7)-1)/1000000000 -> 0.0018718187 | G22: =2*$C$3*$C$2^2/$B22^5/(EXP($C$3*$C$2/$B22/$C$4/G$7)-1)/1000000000 -> 0.024871189 | H22: =2*$C$3*$C$2^2/$B22^5/(EXP($C$3*$C$2/$B22/$C$4/H$7)-1)/1000000000 -> 0.10656816 | I22: =2*$C$3*$C$2^2/$B22^5/(EXP($C$3*$C$2/$B22/$C$4/I$7)-1)/1000000000 -> 8.3834012 | J22: =2*$C$3*$C$2^2/$B22^5/(EXP($C$3*$C$2/$B22/$C$4/J$7)-1)/1000000000 -> 28.345148 | ... Y22: =2*$C$3*$C$2^2/$B22^5/(EXP($C$3*$C$2/$B22/$C$4/Y$7)-1)/1000000000 -> 955340.02
A23: 207 | B23: =A23*0.000000001 -> 2.07e-07 | C23: =2*$C$3*$C$2^2/$B23^5/(EXP($C$3*$C$2/$B23/$C$4/C$7)-1)/1000000000 -> 2.0413905e-22 | D23: =2*$C$3*$C$2^2/$B23^5/(EXP($C$3*$C$2/$B23/$C$4/D$7)-1)/1000000000 -> 2.3549189e-12 | E23: =2*$C$3*$C$2^2/$B23^5/(EXP($C$3*$C$2/$B23/$C$4/E$7)-1)/1000000000 -> 2.5293032e-07 | F23: =2*$C$3*$C$2^2/$B23^5/(EXP($C$3*$C$2/$B23/$C$4/F$7)-1)/1000000000 -> 0.002070238 | G23: =2*$C$3*$C$2^2/$B23^5/(EXP($C$3*$C$2/$B23/$C$4/G$7)-1)/1000000000 -> 0.027166008 | H23: =2*$C$3*$C$2^2/$B23^5/(EXP($C$3*$C$2/$B23/$C$4/H$7)-1)/1000000000 -> 0.11558566 | I23: =2*$C$3*$C$2^2/$B23^5/(EXP($C$3*$C$2/$B23/$C$4/I$7)-1)/1000000000 -> 8.9030395 | J23: =2*$C$3*$C$2^2/$B23^5/(EXP($C$3*$C$2/$B23/$C$4/J$7)-1)/1000000000 -> 29.925467 | ... Y23: =2*$C$3*$C$2^2/$B23^5/(EXP($C$3*$C$2/$B23/$C$4/Y$7)-1)/1000000000 -> 959158.59
A24: 208 | B24: =A24*0.000000001 -> 2.08e-07 | C24: =2*$C$3*$C$2^2/$B24^5/(EXP($C$3*$C$2/$B24/$C$4/C$7)-1)/1000000000 -> 2.783472e-22 | D24: =2*$C$3*$C$2^2/$B24^5/(EXP($C$3*$C$2/$B24/$C$4/D$7)-1)/1000000000 -> 2.8725096e-12 | E24: =2*$C$3*$C$2^2/$B24^5/(EXP($C$3*$C$2/$B24/$C$4/E$7)-1)/1000000000 -> 2.9180908e-07 | F24: =2*$C$3*$C$2^2/$B24^5/(EXP($C$3*$C$2/$B24/$C$4/F$7)-1)/1000000000 -> 0.0022872077 | G24: =2*$C$3*$C$2^2/$B24^5/(EXP($C$3*$C$2/$B24/$C$4/G$7)-1)/1000000000 -> 0.029643953 | H24: =2*$C$3*$C$2^2/$B24^5/(EXP($C$3*$C$2/$B24/$C$4/H$7)-1)/1000000000 -> 0.12525376 | I24: =2*$C$3*$C$2^2/$B24^5/(EXP($C$3*$C$2/$B24/$C$4/I$7)-1)/1000000000 -> 9.4483242 | J24: =2*$C$3*$C$2^2/$B24^5/(EXP($C$3*$C$2/$B24/$C$4/J$7)-1)/1000000000 -> 31.57375 | ... Y24: =2*$C$3*$C$2^2/$B24^5/(EXP($C$3*$C$2/$B24/$C$4/Y$7)-1)/1000000000 -> 962845.98
A25: 209 | B25: =A25*0.000000001 -> 2.09e-07 | C25: =2*$C$3*$C$2^2/$B25^5/(EXP($C$3*$C$2/$B25/$C$4/C$7)-1)/1000000000 -> 3.7836334e-22 | D25: =2*$C$3*$C$2^2/$B25^5/(EXP($C$3*$C$2/$B25/$C$4/D$7)-1)/1000000000 -> 3.4968046e-12 | E25: =2*$C$3*$C$2^2/$B25^5/(EXP($C$3*$C$2/$B25/$C$4/E$7)-1)/1000000000 -> 3.3616502e-07 | F25: =2*$C$3*$C$2^2/$B25^5/(EXP($C$3*$C$2/$B25/$C$4/F$7)-1)/1000000000 -> 0.0025242174 | G25: =2*$C$3*$C$2^2/$B25^5/(EXP($C$3*$C$2/$B25/$C$4/G$7)-1)/1000000000 -> 0.032317196 | H25: =2*$C$3*$C$2^2/$B25^5/(EXP($C$3*$C$2/$B25/$C$4/H$7)-1)/1000000000 -> 0.13561066 | I25: =2*$C$3*$C$2^2/$B25^5/(EXP($C$3*$C$2/$B25/$C$4/I$7)-1)/1000000000 -> 10.020151 | J25: =2*$C$3*$C$2^2/$B25^5/(EXP($C$3*$C$2/$B25/$C$4/J$7)-1)/1000000000 -> 33.291902 | ... Y25: =2*$C$3*$C$2^2/$B25^5/(EXP($C$3*$C$2/$B25/$C$4/Y$7)-1)/1000000000 -> 966403.23
A26: 210 | B26: =A26*0.000000001 -> 2.1e-07 | C26: =2*$C$3*$C$2^2/$B26^5/(EXP($C$3*$C$2/$B26/$C$4/C$7)-1)/1000000000 -> 5.1275752e-22 | D26: =2*$C$3*$C$2^2/$B26^5/(EXP($C$3*$C$2/$B26/$C$4/D$7)-1)/1000000000 -> 4.248331e-12 | E26: =2*$C$3*$C$2^2/$B26^5/(EXP($C$3*$C$2/$B26/$C$4/E$7)-1)/1000000000 -> 3.8669762e-07 | F26: =2*$C$3*$C$2^2/$B26^5/(EXP($C$3*$C$2/$B26/$C$4/F$7)-1)/1000000000 -> 0.0027828552 | G26: =2*$C$3*$C$2^2/$B26^5/(EXP($C$3*$C$2/$B26/$C$4/G$7)-1)/1000000000 -> 0.03519854 | H26: =2*$C$3*$C$2^2/$B26^5/(EXP($C$3*$C$2/$B26/$C$4/H$7)-1)/1000000000 -> 0.14669617 | I26: =2*$C$3*$C$2^2/$B26^5/(EXP($C$3*$C$2/$B26/$C$4/I$7)-1)/1000000000 -> 10.619431 | J26: =2*$C$3*$C$2^2/$B26^5/(EXP($C$3*$C$2/$B26/$C$4/J$7)-1)/1000000000 -> 35.081844 | ... Y26: =2*$C$3*$C$2^2/$B26^5/(EXP($C$3*$C$2/$B26/$C$4/Y$7)-1)/1000000000 -> 969831.42
A27: 211 | B27: =A27*0.000000001 -> 2.11e-07 | C27: =2*$C$3*$C$2^2/$B27^5/(EXP($C$3*$C$2/$B27/$C$4/C$7)-1)/1000000000 -> 6.9281106e-22 | D27: =2*$C$3*$C$2^2/$B27^5/(EXP($C$3*$C$2/$B27/$C$4/D$7)-1)/1000000000 -> 5.1512772e-12 | E27: =2*$C$3*$C$2^2/$B27^5/(EXP($C$3*$C$2/$B27/$C$4/E$7)-1)/1000000000 -> 4.4418611e-07 | F27: =2*$C$3*$C$2^2/$B27^5/(EXP($C$3*$C$2/$B27/$C$4/F$7)-1)/1000000000 -> 0.0030648125 | G27: =2*$C$3*$C$2^2/$B27^5/(EXP($C$3*$C$2/$B27/$C$4/G$7)-1)/1000000000 -> 0.038301434 | H27: =2*$C$3*$C$2^2/$B27^5/(EXP($C$3*$C$2/$B27/$C$4/H$7)-1)/1000000000 -> 0.15855184 | I27: =2*$C$3*$C$2^2/$B27^5/(EXP($C$3*$C$2/$B27/$C$4/I$7)-1)/1000000000 -> 11.247088 | J27: =2*$C$3*$C$2^2/$B27^5/(EXP($C$3*$C$2/$B27/$C$4/J$7)-1)/1000000000 -> 36.945507 | ... Y27: =2*$C$3*$C$2^2/$B27^5/(EXP($C$3*$C$2/$B27/$C$4/Y$7)-1)/1000000000 -> 973131.68
... A195: 379 | B195: =A195*0.000000001 -> 3.79e-07 | C195: =2*$C$3*$C$2^2/$B195^5/(EXP($C$3*$C$2/$B195/$C$4/C$7)-1)/1000000000 -> 4.9640596e-10 | D195: =2*$C$3*$C$2^2/$B195^5/(EXP($C$3*$C$2/$B195/$C$4/D$7)-1)/1000000000 -> 0.00015540624 | E195: =2*$C$3*$C$2^2/$B195^5/(EXP($C$3*$C$2/$B195/$C$4/E$7)-1)/1000000000 -> 0.086952923 | F195: =2*$C$3*$C$2^2/$B195^5/(EXP($C$3*$C$2/$B195/$C$4/F$7)-1)/1000000000 -> 11.925443 | G195: =2*$C$3*$C$2^2/$B195^5/(EXP($C$3*$C$2/$B195/$C$4/G$7)-1)/1000000000 -> 48.652067 | H195: =2*$C$3*$C$2^2/$B195^5/(EXP($C$3*$C$2/$B195/$C$4/H$7)-1)/1000000000 -> 107.29511 | I195: =2*$C$3*$C$2^2/$B195^5/(EXP($C$3*$C$2/$B195/$C$4/I$7)-1)/1000000000 -> 1150.908 | J195: =2*$C$3*$C$2^2/$B195^5/(EXP($C$3*$C$2/$B195/$C$4/J$7)-1)/1000000000 -> 2231.6882 | ... Y195: =2*$C$3*$C$2^2/$B195^5/(EXP($C$3*$C$2/$B195/$C$4/Y$7)-1)/1000000000 -> 672330.88
A196: 380 | B196: =A196*0.000000001 -> 3.8e-07 | C196: =2*$C$3*$C$2^2/$B196^5/(EXP($C$3*$C$2/$B196/$C$4/C$7)-1)/1000000000 -> 5.4137927e-10 | D196: =2*$C$3*$C$2^2/$B196^5/(EXP($C$3*$C$2/$B196/$C$4/D$7)-1)/1000000000 -> 0.0001639347 | E196: =2*$C$3*$C$2^2/$B196^5/(EXP($C$3*$C$2/$B196/$C$4/E$7)-1)/1000000000 -> 0.090210176 | F196: =2*$C$3*$C$2^2/$B196^5/(EXP($C$3*$C$2/$B196/$C$4/F$7)-1)/1000000000 -> 12.212982 | G196: =2*$C$3*$C$2^2/$B196^5/(EXP($C$3*$C$2/$B196/$C$4/G$7)-1)/1000000000 -> 49.641123 | H196: =2*$C$3*$C$2^2/$B196^5/(EXP($C$3*$C$2/$B196/$C$4/H$7)-1)/1000000000 -> 109.24873 | I196: =2*$C$3*$C$2^2/$B196^5/(EXP($C$3*$C$2/$B196/$C$4/I$7)-1)/1000000000 -> 1164.5714 | J196: =2*$C$3*$C$2^2/$B196^5/(EXP($C$3*$C$2/$B196/$C$4/J$7)-1)/1000000000 -> 2254.2547 | ... Y196: =2*$C$3*$C$2^2/$B196^5/(EXP($C$3*$C$2/$B196/$C$4/Y$7)-1)/1000000000 -> 669324.87 | AA196: =C196*CIE!$D2 -> 7.4060684e-13 | AB196: =D196*CIE!$D2 -> 2.2426267e-07 | AC196: =E196*CIE!$D2 -> 0.00012340752 | AD196: =F196*CIE!$D2 -> 0.016707359 | AE196: =G196*CIE!$D2 -> 0.067909057 | AF196: =H196*CIE!$D2 -> 0.14945226 | AG196: =I196*CIE!$D2 -> 1.5931337 | AH196: =J196*CIE!$D2 -> 3.0838204 | ... AW196: =Y196*CIE!$D2 -> 915.63643 | AX196: =C196*CIE!$E2 -> 2.1113792e-14 | AY196: =D196*CIE!$E2 -> 6.3934534e-09 | AZ196: =E196*CIE!$E2 -> 3.5181969e-06 | BA196: =F196*CIE!$E2 -> 0.00047630629 | BB196: =G196*CIE!$E2 -> 0.0019360038 | BC196: =H196*CIE!$E2 -> 0.0042607005 | BD196: =I196*CIE!$E2 -> 0.045418286 | BE196: =J196*CIE!$E2 -> 0.087915932 | ... BT196: =Y196*CIE!$E2 -> 26.10367 | BU196: =C196*CIE!$F2 -> 3.4918968e-12 | BV196: =D196*CIE!$F2 -> 1.057379e-06 | BW196: =E196*CIE!$F2 -> 0.00058185573 | BX196: =F196*CIE!$F2 -> 0.078773745 | BY196: =G196*CIE!$F2 -> 0.32018529 | BZ196: =H196*CIE!$F2 -> 0.70465443 | CA196: =I196*CIE!$F2 -> 7.5114868 | CB196: =J196*CIE!$F2 -> 14.539945 | ... CQ196: =Y196*CIE!$F2 -> 4317.1461
A197: 381 | B197: =A197*0.000000001 -> 3.81e-07 | C197: =2*$C$3*$C$2^2/$B197^5/(EXP($C$3*$C$2/$B197/$C$4/C$7)-1)/1000000000 -> 5.9013794e-10 | D197: =2*$C$3*$C$2^2/$B197^5/(EXP($C$3*$C$2/$B197/$C$4/D$7)-1)/1000000000 -> 0.00017287673 | E197: =2*$C$3*$C$2^2/$B197^5/(EXP($C$3*$C$2/$B197/$C$4/E$7)-1)/1000000000 -> 0.09356815 | F197: =2*$C$3*$C$2^2/$B197^5/(EXP($C$3*$C$2/$B197/$C$4/F$7)-1)/1000000000 -> 12.505457 | G197: =2*$C$3*$C$2^2/$B197^5/(EXP($C$3*$C$2/$B197/$C$4/G$7)-1)/1000000000 -> 50.643187 | H197: =2*$C$3*$C$2^2/$B197^5/(EXP($C$3*$C$2/$B197/$C$4/H$7)-1)/1000000000 -> 111.22355 | I197: =2*$C$3*$C$2^2/$B197^5/(EXP($C$3*$C$2/$B197/$C$4/I$7)-1)/1000000000 -> 1178.2835 | J197: =2*$C$3*$C$2^2/$B197^5/(EXP($C$3*$C$2/$B197/$C$4/J$7)-1)/1000000000 -> 2276.8506 | ... Y197: =2*$C$3*$C$2^2/$B197^5/(EXP($C$3*$C$2/$B197/$C$4/Y$7)-1)/1000000000 -> 666327.1 | AA197: =C197*CIE!$D3 -> 8.864167e-13 | AB197: =D197*CIE!$D3 -> 2.5966949e-07 | AC197: =E197*CIE!$D3 -> 0.00014054404 | AD197: =F197*CIE!$D3 -> 0.018783822 | AE197: =G197*CIE!$D3 -> 0.076068598 | AF197: =H197*CIE!$D3 -> 0.16706333 | AG197: =I197*CIE!$D3 -> 1.7698407 | AH197: =J197*CIE!$D3 -> 3.4199435 | ... AW197: =Y197*CIE!$D3 -> 1000.8566 | AX197: =C197*CIE!$E3 -> 2.5273484e-14 | AY197: =D197*CIE!$E3 -> 7.403688e-09 | AZ197: =E197*CIE!$E3 -> 4.007187e-06 | BA197: =F197*CIE!$E3 -> 0.00053556371 | BB197: =G197*CIE!$E3 -> 0.0021688654 | BC197: =H197*CIE!$E3 -> 0.0047633041 | BD197: =I197*CIE!$E3 -> 0.050461639 | BE197: =J197*CIE!$E3 -> 0.097509315 | ... BT197: =Y197*CIE!$E3 -> 28.536391 | BU197: =C197*CIE!$F3 -> 4.1800745e-12 | BV197: =D197*CIE!$F3 -> 1.2245232e-06 | BW197: =E197*CIE!$F3 -> 0.00066276342 | BX197: =F197*CIE!$F3 -> 0.088578855 | BY197: =G197*CIE!$F3 -> 0.35871663 | BZ197: =H197*CIE!$F3 -> 0.7878204 | CA197: =I197*CIE!$F3 -> 8.3460363 | CB197: =J197*CIE!$F3 -> 16.127425 | ... CQ197: =Y197*CIE!$F3 -> 4719.7388
A198: 382 | B198: =A198*0.000000001 -> 3.82e-07 | C198: =2*$C$3*$C$2^2/$B198^5/(EXP($C$3*$C$2/$B198/$C$4/C$7)-1)/1000000000 -> 6.4297554e-10 | D198: =2*$C$3*$C$2^2/$B198^5/(EXP($C$3*$C$2/$B198/$C$4/D$7)-1)/1000000000 -> 0.00018224957 | E198: =2*$C$3*$C$2^2/$B198^5/(EXP($C$3*$C$2/$B198/$C$4/E$7)-1)/1000000000 -> 0.097029218 | F198: =2*$C$3*$C$2^2/$B198^5/(EXP($C$3*$C$2/$B198/$C$4/F$7)-1)/1000000000 -> 12.80291 | G198: =2*$C$3*$C$2^2/$B198^5/(EXP($C$3*$C$2/$B198/$C$4/G$7)-1)/1000000000 -> 51.658297 | H198: =2*$C$3*$C$2^2/$B198^5/(EXP($C$3*$C$2/$B198/$C$4/H$7)-1)/1000000000 -> 113.21955 | I198: =2*$C$3*$C$2^2/$B198^5/(EXP($C$3*$C$2/$B198/$C$4/I$7)-1)/1000000000 -> 1192.043 | J198: =2*$C$3*$C$2^2/$B198^5/(EXP($C$3*$C$2/$B198/$C$4/J$7)-1)/1000000000 -> 2299.4742 | ... Y198: =2*$C$3*$C$2^2/$B198^5/(EXP($C$3*$C$2/$B198/$C$4/Y$7)-1)/1000000000 -> 663337.68 | AA198: =C198*CIE!$D4 -> 1.0559767e-12 | AB198: =D198*CIE!$D4 -> 2.9931357e-07 | AC198: =E198*CIE!$D4 -> 0.0001593538 | AD198: =F198*CIE!$D4 -> 0.021026578 | AE198: =G198*CIE!$D4 -> 0.084839868 | AF198: =H198*CIE!$D4 -> 0.18594363 | AG198: =I198*CIE!$D4 -> 1.9577256 | AH198: =J198*CIE!$D4 -> 3.7764908 | ... AW198: =Y198*CIE!$D4 -> 1089.418 | AX198: =C198*CIE!$E4 -> 3.016494e-14 | AY198: =D198*CIE!$E4 -> 8.5501655e-09 | AZ198: =E198*CIE!$E4 -> 4.552087e-06 | BA198: =F198*CIE!$E4 -> 0.00060064342 | BB198: =G198*CIE!$E4 -> 0.0024235284 | BC198: =H198*CIE!$E4 -> 0.0053116498 | BD198: =I198*CIE!$E4 -> 0.055924221 | BE198: =J198*CIE!$E4 -> 0.10787891 | ... BT198: =Y198*CIE!$E4 -> 31.120222 | BU198: =C198*CIE!$F4 -> 4.9801594e-12 | BV198: =D198*CIE!$F4 -> 1.4116118e-06 | BW198: =E198*CIE!$F4 -> 0.00075153865 | BX198: =F198*CIE!$F4 -> 0.099164789 | BY198: =G198*CIE!$F4 -> 0.40011872 | BZ198: =H198*CIE!$F4 -> 0.87694065 | CA198: =I198*CIE!$F4 -> 9.2329548 | CB198: =J198*CIE!$F4 -> 17.81055 | ... CQ198: =Y198*CIE!$F4 -> 5137.874
A199: 383 | B199: =A199*0.000000001 -> 3.83e-07 | C199: =2*$C$3*$C$2^2/$B199^5/(EXP($C$3*$C$2/$B199/$C$4/C$7)-1)/1000000000 -> 7.0020637e-10 | D199: =2*$C$3*$C$2^2/$B199^5/(EXP($C$3*$C$2/$B199/$C$4/D$7)-1)/1000000000 -> 0.00019207104 | E199: =2*$C$3*$C$2^2/$B199^5/(EXP($C$3*$C$2/$B199/$C$4/E$7)-1)/1000000000 -> 0.10059579 | F199: =2*$C$3*$C$2^2/$B199^5/(EXP($C$3*$C$2/$B199/$C$4/F$7)-1)/1000000000 -> 13.105382 | G199: =2*$C$3*$C$2^2/$B199^5/(EXP($C$3*$C$2/$B199/$C$4/G$7)-1)/1000000000 -> 52.686494 | H199: =2*$C$3*$C$2^2/$B199^5/(EXP($C$3*$C$2/$B199/$C$4/H$7)-1)/1000000000 -> 115.23673 | I199: =2*$C$3*$C$2^2/$B199^5/(EXP($C$3*$C$2/$B199/$C$4/I$7)-1)/1000000000 -> 1205.849 | J199: =2*$C$3*$C$2^2/$B199^5/(EXP($C$3*$C$2/$B199/$C$4/J$7)-1)/1000000000 -> 2322.1235 | ... Y199: =2*$C$3*$C$2^2/$B199^5/(EXP($C$3*$C$2/$B199/$C$4/Y$7)-1)/1000000000 -> 660356.7 | AA199: =C199*CIE!$D5 -> 1.2620394e-12 | AB199: =D199*CIE!$D5 -> 3.4618539e-07 | AC199: =E199*CIE!$D5 -> 0.00018131204 | AD199: =F199*CIE!$D5 -> 0.023620905 | AE199: =G199*CIE!$D5 -> 0.094961189 | AF199: =H199*CIE!$D5 -> 0.20770061 | AG199: =I199*CIE!$D5 -> 2.1734005 | AH199: =J199*CIE!$D5 -> 4.1853535 | ... AW199: =Y199*CIE!$D5 -> 1190.215 | AX199: =C199*CIE!$E5 -> 3.6123367e-14 | AY199: =D199*CIE!$E5 -> 9.9088681e-09 | AZ199: =E199*CIE!$E5 -> 5.1896966e-06 | BA199: =F199*CIE!$E5 -> 0.00067610142 | BB199: =G199*CIE!$E5 -> 0.0027180752 | BC199: =H199*CIE!$E5 -> 0.0059450168 | BD199: =I199*CIE!$E5 -> 0.062209265 | BE199: =J199*CIE!$E5 -> 0.11979742 | ... BT199: =Y199*CIE!$E5 -> 34.067538 | BU199: =C199*CIE!$F5 -> 5.9525608e-12 | BV199: =D199*CIE!$F5 -> 1.6328251e-06 | BW199: =E199*CIE!$F5 -> 0.0008551801 | BX199: =F199*CIE!$F5 -> 0.11141085 | BY199: =G199*CIE!$F5 -> 0.4478959 | BZ199: =H199*CIE!$F5 -> 0.97964495 | CA199: =I199*CIE!$F5 -> 10.251105 | CB199: =J199*CIE!$F5 -> 19.740724 | ... CQ199: =Y199*CIE!$F5 -> 5613.7927
A200: 384 | B200: =A200*0.000000001 -> 3.84e-07 | C200: =2*$C$3*$C$2^2/$B200^5/(EXP($C$3*$C$2/$B200/$C$4/C$7)-1)/1000000000 -> 7.6216679e-10 | D200: =2*$C$3*$C$2^2/$B200^5/(EXP($C$3*$C$2/$B200/$C$4/D$7)-1)/1000000000 -> 0.00020235959 | E200: =2*$C$3*$C$2^2/$B200^5/(EXP($C$3*$C$2/$B200/$C$4/E$7)-1)/1000000000 -> 0.10427031 | F200: =2*$C$3*$C$2^2/$B200^5/(EXP($C$3*$C$2/$B200/$C$4/F$7)-1)/1000000000 -> 13.412912 | G200: =2*$C$3*$C$2^2/$B200^5/(EXP($C$3*$C$2/$B200/$C$4/G$7)-1)/1000000000 -> 53.727815 | H200: =2*$C$3*$C$2^2/$B200^5/(EXP($C$3*$C$2/$B200/$C$4/H$7)-1)/1000000000 -> 117.27508 | I200: =2*$C$3*$C$2^2/$B200^5/(EXP($C$3*$C$2/$B200/$C$4/I$7)-1)/1000000000 -> 1219.7002 | J200: =2*$C$3*$C$2^2/$B200^5/(EXP($C$3*$C$2/$B200/$C$4/J$7)-1)/1000000000 -> 2344.7966 | ... Y200: =2*$C$3*$C$2^2/$B200^5/(EXP($C$3*$C$2/$B200/$C$4/Y$7)-1)/1000000000 -> 657384.3 | AA200: =C200*CIE!$D6 -> 1.5210997e-12 | AB200: =D200*CIE!$D6 -> 4.0386056e-07 | AC200: =E200*CIE!$D6 -> 0.0002080982 | AD200: =F200*CIE!$D6 -> 0.026768914 | AE200: =G200*CIE!$D6 -> 0.10722766 | AF200: =H200*CIE!$D6 -> 0.23405255 | AG200: =I200*CIE!$D6 -> 2.4342253 | AH200: =J200*CIE!$D6 -> 4.6796442 | ... AW200: =Y200*CIE!$D6 -> 1311.9793 | AX200: =C200*CIE!$E6 -> 4.3577953e-14 | AY200: =D200*CIE!$E6 -> 1.1570193e-08 | AZ200: =E200*CIE!$E6 -> 5.9618009e-06 | BA200: =F200*CIE!$E6 -> 0.00076690204 | BB200: =G200*CIE!$E6 -> 0.003071963 | BC200: =H200*CIE!$E6 -> 0.0067053666 | BD200: =I200*CIE!$E6 -> 0.069738069 | BE200: =J200*CIE!$E6 -> 0.13406703 | ... BT200: =Y200*CIE!$E6 -> 37.586867 | BU200: =C200*CIE!$F6 -> 7.1754528e-12 | BV200: =D200*CIE!$F6 -> 1.9051232e-06 | BW200: =E200*CIE!$F6 -> 0.00098165742 | BX200: =F200*CIE!$F6 -> 0.12627645 | BY200: =G200*CIE!$F6 -> 0.50582287 | BZ200: =H200*CIE!$F6 -> 1.1040914 | CA200: =I200*CIE!$F6 -> 11.482922 | CB200: =J200*CIE!$F6 -> 22.075191 | ... CQ200: =Y200*CIE!$F6 -> 6188.9734
A201: 385 | B201: =A201*0.000000001 -> 3.85e-07 | C201: =2*$C$3*$C$2^2/$B201^5/(EXP($C$3*$C$2/$B201/$C$4/C$7)-1)/1000000000 -> 8.2921664e-10 | D201: =2*$C$3*$C$2^2/$B201^5/(EXP($C$3*$C$2/$B201/$C$4/D$7)-1)/1000000000 -> 0.00021313426 | E201: =2*$C$3*$C$2^2/$B201^5/(EXP($C$3*$C$2/$B201/$C$4/E$7)-1)/1000000000 -> 0.10805526 | F201: =2*$C$3*$C$2^2/$B201^5/(EXP($C$3*$C$2/$B201/$C$4/F$7)-1)/1000000000 -> 13.725541 | G201: =2*$C$3*$C$2^2/$B201^5/(EXP($C$3*$C$2/$B201/$C$4/G$7)-1)/1000000000 -> 54.782293 | H201: =2*$C$3*$C$2^2/$B201^5/(EXP($C$3*$C$2/$B201/$C$4/H$7)-1)/1000000000 -> 119.33457 | I201: =2*$C$3*$C$2^2/$B201^5/(EXP($C$3*$C$2/$B201/$C$4/I$7)-1)/1000000000 -> 1233.5958 | J201: =2*$C$3*$C$2^2/$B201^5/(EXP($C$3*$C$2/$B201/$C$4/J$7)-1)/1000000000 -> 2367.4917 | ... Y201: =2*$C$3*$C$2^2/$B201^5/(EXP($C$3*$C$2/$B201/$C$4/Y$7)-1)/1000000000 -> 654420.55 | AA201: =C201*CIE!$D7 -> 1.8541284e-12 | AB201: =D201*CIE!$D7 -> 4.765682e-07 | AC201: =E201*CIE!$D7 -> 0.00024161155 | AD201: =F201*CIE!$D7 -> 0.030690309 | AE201: =G201*CIE!$D7 -> 0.12249321 | AF201: =H201*CIE!$D7 -> 0.2668321 | AG201: =I201*CIE!$D7 -> 2.7583202 | AH201: =J201*CIE!$D7 -> 5.2937115 | ... AW201: =Y201*CIE!$D7 -> 1463.2843 | AX201: =C201*CIE!$E7 -> 5.3069865e-14 | AY201: =D201*CIE!$E7 -> 1.3640593e-08 | AZ201: =E201*CIE!$E7 -> 6.9155363e-06 | BA201: =F201*CIE!$E7 -> 0.00087843462 | BB201: =G201*CIE!$E7 -> 0.0035060668 | BC201: =H201*CIE!$E7 -> 0.0076374126 | BD201: =I201*CIE!$E7 -> 0.078950131 | BE201: =J201*CIE!$E7 -> 0.15151947 | ... BT201: =Y201*CIE!$E7 -> 41.882915 | BU201: =C201*CIE!$F7 -> 8.7482272e-12 | BV201: =D201*CIE!$F7 -> 2.2485643e-06 | BW201: =E201*CIE!$F7 -> 0.0011399819 | BX201: =F201*CIE!$F7 -> 0.14480432 | BY201: =G201*CIE!$F7 -> 0.57795264 | BZ201: =H201*CIE!$F7 -> 1.2589785 | CA201: =I201*CIE!$F7 -> 13.014423 | CB201: =J201*CIE!$F7 -> 24.977014 | ... CQ201: =Y201*CIE!$F7 -> 6904.1303
A202: 386 | B202: =A202*0.000000001 -> 3.86e-07 | C202: =2*$C$3*$C$2^2/$B202^5/(EXP($C$3*$C$2/$B202/$C$4/C$7)-1)/1000000000 -> 9.0174065e-10 | D202: =2*$C$3*$C$2^2/$B202^5/(EXP($C$3*$C$2/$B202/$C$4/D$7)-1)/1000000000 -> 0.00022441475 | E202: =2*$C$3*$C$2^2/$B202^5/(EXP($C$3*$C$2/$B202/$C$4/E$7)-1)/1000000000 -> 0.11195314 | F202: =2*$C$3*$C$2^2/$B202^5/(EXP($C$3*$C$2/$B202/$C$4/F$7)-1)/1000000000 -> 14.043307 | G202: =2*$C$3*$C$2^2/$B202^5/(EXP($C$3*$C$2/$B202/$C$4/G$7)-1)/1000000000 -> 55.849963 | H202: =2*$C$3*$C$2^2/$B202^5/(EXP($C$3*$C$2/$B202/$C$4/H$7)-1)/1000000000 -> 121.4152 | I202: =2*$C$3*$C$2^2/$B202^5/(EXP($C$3*$C$2/$B202/$C$4/I$7)-1)/1000000000 -> 1247.5345 | J202: =2*$C$3*$C$2^2/$B202^5/(EXP($C$3*$C$2/$B202/$C$4/J$7)-1)/1000000000 -> 2390.207 | ... Y202: =2*$C$3*$C$2^2/$B202^5/(EXP($C$3*$C$2/$B202/$C$4/Y$7)-1)/1000000000 -> 651465.57 | AA202: =C202*CIE!$D8 -> 2.2862597e-12 | AB202: =D202*CIE!$D8 -> 5.6897779e-07 | AC202: =E202*CIE!$D8 -> 0.00028384431 | AD202: =F202*CIE!$D8 -> 0.03560519 | AE202: =G202*CIE!$D8 -> 0.14160116 | AF202: =H202*CIE!$D8 -> 0.30783427 | AG202: =I202*CIE!$D8 -> 3.1629803 | AH202: =J202*CIE!$D8 -> 6.060095 | ... AW202: =Y202*CIE!$D8 -> 1651.716 | AX202: =C202*CIE!$E8 -> 6.5235715e-14 | AY202: =D202*CIE!$E8 -> 1.6235108e-08 | AZ202: =E202*CIE!$E8 -> 8.0991614e-06 | BA202: =F202*CIE!$E8 -> 0.001015952 | BB202: =G202*CIE!$E8 -> 0.0040404215 | BC202: =H202*CIE!$E8 -> 0.0087836866 | BD202: =I202*CIE!$E8 -> 0.090251898 | BE202: =J202*CIE!$E8 -> 0.17291764 | ... BT202: =Y202*CIE!$E8 -> 47.129762 | BU202: =C202*CIE!$F8 -> 1.0790048e-11 | BV202: =D202*CIE!$F8 -> 2.685302e-06 | BW202: =E202*CIE!$F8 -> 0.0013396089 | BX202: =F202*CIE!$F8 -> 0.1680394 | BY202: =G202*CIE!$F8 -> 0.66828949 | BZ202: =H202*CIE!$F8 -> 1.45283 | CA202: =I202*CIE!$F8 -> 14.927748 | CB202: =J202*CIE!$F8 -> 28.600739 | ... CQ202: =Y202*CIE!$F8 -> 7795.3067
A203: 387 | B203: =A203*0.000000001 -> 3.87e-07 | C203: =2*$C$3*$C$2^2/$B203^5/(EXP($C$3*$C$2/$B203/$C$4/C$7)-1)/1000000000 -> 9.8015006e-10 | D203: =2*$C$3*$C$2^2/$B203^5/(EXP($C$3*$C$2/$B203/$C$4/D$7)-1)/1000000000 -> 0.0002362214 | E203: =2*$C$3*$C$2^2/$B203^5/(EXP($C$3*$C$2/$B203/$C$4/E$7)-1)/1000000000 -> 0.11596651 | F203: =2*$C$3*$C$2^2/$B203^5/(EXP($C$3*$C$2/$B203/$C$4/F$7)-1)/1000000000 -> 14.36625 | G203: =2*$C$3*$C$2^2/$B203^5/(EXP($C$3*$C$2/$B203/$C$4/G$7)-1)/1000000000 -> 56.930857 | H203: =2*$C$3*$C$2^2/$B203^5/(EXP($C$3*$C$2/$B203/$C$4/H$7)-1)/1000000000 -> 123.51693 | I203: =2*$C$3*$C$2^2/$B203^5/(EXP($C$3*$C$2/$B203/$C$4/I$7)-1)/1000000000 -> 1261.5153 | J203: =2*$C$3*$C$2^2/$B203^5/(EXP($C$3*$C$2/$B203/$C$4/J$7)-1)/1000000000 -> 2412.9406 | ... Y203: =2*$C$3*$C$2^2/$B203^5/(EXP($C$3*$C$2/$B203/$C$4/Y$7)-1)/1000000000 -> 648519.44 | AA203: =C203*CIE!$D9 -> 2.835185e-12 | AB203: =D203*CIE!$D9 -> 6.8329474e-07 | AC203: =E203*CIE!$D9 -> 0.00033544507 | AD203: =F203*CIE!$D9 -> 0.041555857 | AE203: =G203*CIE!$D9 -> 0.16467837 | AF203: =H203*CIE!$D9 -> 0.35728545 | AG203: =I203*CIE!$D9 -> 3.6490629 | AH203: =J203*CIE!$D9 -> 6.9796793 | ... AW203: =Y203*CIE!$D9 -> 1875.9093 | AX203: =C203*CIE!$E9 -> 8.0580332e-14 | AY203: =D203*CIE!$E9 -> 1.9420291e-08 | AZ203: =E203*CIE!$E9 -> 9.5338665e-06 | BA203: =F203*CIE!$E9 -> 0.0011810816 | BB203: =G203*CIE!$E9 -> 0.0046804133 | BC203: =H203*CIE!$E9 -> 0.010154604 | BD203: =I203*CIE!$E9 -> 0.103712 | BE203: =J203*CIE!$E9 -> 0.19837325 | ... BT203: =Y203*CIE!$E9 -> 53.316236 | BU203: =C203*CIE!$F9 -> 1.3384802e-11 | BV203: =D203*CIE!$F9 -> 3.2258088e-06 | BW203: =E203*CIE!$F9 -> 0.0015836236 | BX203: =F203*CIE!$F9 -> 0.19618364 | BY203: =G203*CIE!$F9 -> 0.77744038 | BZ203: =H203*CIE!$F9 -> 1.6867312 | CA203: =I203*CIE!$F9 -> 17.227089 | CB203: =J203*CIE!$F9 -> 32.950803 | ... CQ203: =Y203*CIE!$F9 -> 8856.0972
A204: 388 | B204: =A204*0.000000001 -> 3.88e-07 | C204: =2*$C$3*$C$2^2/$B204^5/(EXP($C$3*$C$2/$B204/$C$4/C$7)-1)/1000000000 -> 1.0648842e-09 | D204: =2*$C$3*$C$2^2/$B204^5/(EXP($C$3*$C$2/$B204/$C$4/D$7)-1)/1000000000 -> 0.00024857523 | E204: =2*$C$3*$C$2^2/$B204^5/(EXP($C$3*$C$2/$B204/$C$4/E$7)-1)/1000000000 -> 0.12009795 | F204: =2*$C$3*$C$2^2/$B204^5/(EXP($C$3*$C$2/$B204/$C$4/F$7)-1)/1000000000 -> 14.694407 | G204: =2*$C$3*$C$2^2/$B204^5/(EXP($C$3*$C$2/$B204/$C$4/G$7)-1)/1000000000 -> 58.025004 | H204: =2*$C$3*$C$2^2/$B204^5/(EXP($C$3*$C$2/$B204/$C$4/H$7)-1)/1000000000 -> 125.63975 | I204: =2*$C$3*$C$2^2/$B204^5/(EXP($C$3*$C$2/$B204/$C$4/I$7)-1)/1000000000 -> 1275.5371 | J204: =2*$C$3*$C$2^2/$B204^5/(EXP($C$3*$C$2/$B204/$C$4/J$7)-1)/1000000000 -> 2435.6907 | ... Y204: =2*$C$3*$C$2^2/$B204^5/(EXP($C$3*$C$2/$B204/$C$4/Y$7)-1)/1000000000 -> 645582.27 | AA204: =C204*CIE!$D10 -> 3.5150006e-12 | AB204: =D204*CIE!$D10 -> 8.2050432e-07 | AC204: =E204*CIE!$D10 -> 0.00039642279 | AD204: =F204*CIE!$D10 -> 0.048503726 | AE204: =G204*CIE!$D10 -> 0.19153062 | AF204: =H204*CIE!$D10 -> 0.41471533 | AG204: =I204*CIE!$D10 -> 4.2103298 | AH204: =J204*CIE!$D10 -> 8.0397984 | ... AW204: =Y204*CIE!$D10 -> 2130.9567 | AX204: =C204*CIE!$E10 -> 9.957536e-14 | AY204: =D204*CIE!$E10 -> 2.3243812e-08 | AZ204: =E204*CIE!$E10 -> 1.1230138e-05 | BA204: =F204*CIE!$E10 -> 0.001374047 | BB204: =G204*CIE!$E10 -> 0.0054258114 | BC204: =H204*CIE!$E10 -> 0.011748342 | BD204: =I204*CIE!$E10 -> 0.11927312 | BE204: =J204*CIE!$E10 -> 0.22775695 | ... BT204: =Y204*CIE!$E10 -> 60.36721 | BU204: =C204*CIE!$F10 -> 1.6599468e-11 | BV204: =D204*CIE!$F10 -> 3.8748031e-06 | BW204: =E204*CIE!$F10 -> 0.0018720928 | BX204: =F204*CIE!$F10 -> 0.22905716 | BY204: =G204*CIE!$F10 -> 0.90449667 | BZ204: =H204*CIE!$F10 -> 1.9584787 | CA204: =I204*CIE!$F10 -> 19.883136 | CB204: =J204*CIE!$F10 -> 37.967668 | ... CQ204: =Y204*CIE!$F10 -> 10063.369
A205: 389 | B205: =A205*0.000000001 -> 3.89e-07 | C205: =2*$C$3*$C$2^2/$B205^5/(EXP($C$3*$C$2/$B205/$C$4/C$7)-1)/1000000000 -> 1.1564122e-09 | D205: =2*$C$3*$C$2^2/$B205^5/(EXP($C$3*$C$2/$B205/$C$4/D$7)-1)/1000000000 -> 0.00026149792 | E205: =2*$C$3*$C$2^2/$B205^5/(EXP($C$3*$C$2/$B205/$C$4/E$7)-1)/1000000000 -> 0.12435007 | F205: =2*$C$3*$C$2^2/$B205^5/(EXP($C$3*$C$2/$B205/$C$4/F$7)-1)/1000000000 -> 15.027818 | G205: =2*$C$3*$C$2^2/$B205^5/(EXP($C$3*$C$2/$B205/$C$4/G$7)-1)/1000000000 -> 59.132433 | H205: =2*$C$3*$C$2^2/$B205^5/(EXP($C$3*$C$2/$B205/$C$4/H$7)-1)/1000000000 -> 127.78362 | I205: =2*$C$3*$C$2^2/$B205^5/(EXP($C$3*$C$2/$B205/$C$4/I$7)-1)/1000000000 -> 1289.5988 | J205: =2*$C$3*$C$2^2/$B205^5/(EXP($C$3*$C$2/$B205/$C$4/J$7)-1)/1000000000 -> 2458.4554 | ... Y205: =2*$C$3*$C$2^2/$B205^5/(EXP($C$3*$C$2/$B205/$C$4/Y$7)-1)/1000000000 -> 642654.14 | AA205: =C205*CIE!$D11 -> 4.3402878e-12 | AB205: =D205*CIE!$D11 -> 9.8146341e-07 | AC205: =E205*CIE!$D11 -> 0.00046671516 | AD205: =F205*CIE!$D11 -> 0.056402946 | AE205: =G205*CIE!$D11 -> 0.22193798 | AF205: =H205*CIE!$D11 -> 0.4796021 | AG205: =I205*CIE!$D11 -> 4.8401685 | AH205: =J205*CIE!$D11 -> 9.2271633 | ... AW205: =Y205*CIE!$D11 -> 2412.0327 | AX205: =C205*CIE!$E11 -> 1.2273708e-13 | AY205: =D205*CIE!$E11 -> 2.7754369e-08 | AZ205: =E205*CIE!$E11 -> 1.3198032e-05 | BA205: =F205*CIE!$E11 -> 0.001594994 | BB205: =G205*CIE!$E11 -> 0.0062760858 | BC205: =H205*CIE!$E11 -> 0.013562456 | BD205: =I205*CIE!$E11 -> 0.13687298 | BE205: =J205*CIE!$E11 -> 0.26093087 | ... BT205: =Y205*CIE!$E11 -> 68.208804 | BU205: =C205*CIE!$F11 -> 2.0503361e-11 | BV205: =D205*CIE!$F11 -> 4.6363974e-06 | BW205: =E205*CIE!$F11 -> 0.0022047454 | BX205: =F205*CIE!$F11 -> 0.26644546 | BY205: =G205*CIE!$F11 -> 1.0484269 | BZ205: =H205*CIE!$F11 -> 2.2656228 | CA205: =I205*CIE!$F11 -> 22.864779 | CB205: =J205*CIE!$F11 -> 43.588783 | ... CQ205: =Y205*CIE!$F11 -> 11394.354
A206: 390 | B206: =A206*0.000000001 -> 3.9e-07 | C206: =2*$C$3*$C$2^2/$B206^5/(EXP($C$3*$C$2/$B206/$C$4/C$7)-1)/1000000000 -> 1.2552348e-09 | D206: =2*$C$3*$C$2^2/$B206^5/(EXP($C$3*$C$2/$B206/$C$4/D$7)-1)/1000000000 -> 0.00027501187 | E206: =2*$C$3*$C$2^2/$B206^5/(EXP($C$3*$C$2/$B206/$C$4/E$7)-1)/1000000000 -> 0.12872553 | F206: =2*$C$3*$C$2^2/$B206^5/(EXP($C$3*$C$2/$B206/$C$4/F$7)-1)/1000000000 -> 15.366518 | G206: =2*$C$3*$C$2^2/$B206^5/(EXP($C$3*$C$2/$B206/$C$4/G$7)-1)/1000000000 -> 60.25317 | H206: =2*$C$3*$C$2^2/$B206^5/(EXP($C$3*$C$2/$B206/$C$4/H$7)-1)/1000000000 -> 129.94852 | I206: =2*$C$3*$C$2^2/$B206^5/(EXP($C$3*$C$2/$B206/$C$4/I$7)-1)/1000000000 -> 1303.6993 | J206: =2*$C$3*$C$2^2/$B206^5/(EXP($C$3*$C$2/$B206/$C$4/J$7)-1)/1000000000 -> 2481.233 | ... Y206: =2*$C$3*$C$2^2/$B206^5/(EXP($C$3*$C$2/$B206/$C$4/Y$7)-1)/1000000000 -> 639735.14 | AA206: =C206*CIE!$D12 -> 5.3259613e-12 | AB206: =D206*CIE!$D12 -> 1.1668754e-06 | AC206: =E206*CIE!$D12 -> 0.00054618242 | AD206: =F206*CIE!$D12 -> 0.065200138 | AE206: =G206*CIE!$D12 -> 0.2556542 | AF206: =H206*CIE!$D12 -> 0.55137158 | AG206: =I206*CIE!$D12 -> 5.531596 | AH206: =J206*CIE!$D12 -> 10.527871 | ... AW206: =Y206*CIE!$D12 -> 2714.3962 | AX206: =C206*CIE!$E12 -> 1.5062818e-13 | AY206: =D206*CIE!$E12 -> 3.3001425e-08 | AZ206: =E206*CIE!$E12 -> 1.5447063e-05 | BA206: =F206*CIE!$E12 -> 0.0018439822 | BB206: =G206*CIE!$E12 -> 0.0072303804 | BC206: =H206*CIE!$E12 -> 0.015593823 | BD206: =I206*CIE!$E12 -> 0.15644391 | BE206: =J206*CIE!$E12 -> 0.29774795 | ... BT206: =Y206*CIE!$E12 -> 76.768217 | BU206: =C206*CIE!$F12 -> 2.5167471e-11 | BV206: =D206*CIE!$F12 -> 5.5139908e-06 | BW206: =E206*CIE!$F12 -> 0.0025809481 | BX206: =F206*CIE!$F12 -> 0.30809885 | BY206: =G206*CIE!$F12 -> 1.2080767 | BZ206: =H206*CIE!$F12 -> 2.6054692 | CA206: =I206*CIE!$F12 -> 26.139183 | CB206: =J206*CIE!$F12 -> 49.748746 | ... CQ206: =Y206*CIE!$F12 -> 12826.696
A207: 391 | B207: =A207*0.000000001 -> 3.91e-07 | C207: =2*$C$3*$C$2^2/$B207^5/(EXP($C$3*$C$2/$B207/$C$4/C$7)-1)/1000000000 -> 1.3618864e-09 | D207: =2*$C$3*$C$2^2/$B207^5/(EXP($C$3*$C$2/$B207/$C$4/D$7)-1)/1000000000 -> 0.0002891402 | E207: =2*$C$3*$C$2^2/$B207^5/(EXP($C$3*$C$2/$B207/$C$4/E$7)-1)/1000000000 -> 0.13322701 | F207: =2*$C$3*$C$2^2/$B207^5/(EXP($C$3*$C$2/$B207/$C$4/F$7)-1)/1000000000 -> 15.710546 | G207: =2*$C$3*$C$2^2/$B207^5/(EXP($C$3*$C$2/$B207/$C$4/G$7)-1)/1000000000 -> 61.387239 | H207: =2*$C$3*$C$2^2/$B207^5/(EXP($C$3*$C$2/$B207/$C$4/H$7)-1)/1000000000 -> 132.13441 | I207: =2*$C$3*$C$2^2/$B207^5/(EXP($C$3*$C$2/$B207/$C$4/I$7)-1)/1000000000 -> 1317.8375 | J207: =2*$C$3*$C$2^2/$B207^5/(EXP($C$3*$C$2/$B207/$C$4/J$7)-1)/1000000000 -> 2504.0215 | ... Y207: =2*$C$3*$C$2^2/$B207^5/(EXP($C$3*$C$2/$B207/$C$4/Y$7)-1)/1000000000 -> 636825.35 | AA207: =C207*CIE!$D13 -> 6.485833e-12 | AB207: =D207*CIE!$D13 -> 1.3769981e-06 | AC207: =E207*CIE!$D13 -> 0.00063447883 | AD207: =F207*CIE!$D13 -> 0.074819734 | AE207: =G207*CIE!$D13 -> 0.29234991 | AF207: =H207*CIE!$D13 -> 0.62927546 | AG207: =I207*CIE!$D13 -> 6.2760548 | AH207: =J207*CIE!$D13 -> 11.925125 | ... AW207: =Y207*CIE!$D13 -> 3032.8101 | AX207: =C207*CIE!$E13 -> 1.8383288e-13 | AY207: =D207*CIE!$E13 -> 3.9029301e-08 | AZ207: =E207*CIE!$E13 -> 1.7983514e-05 | BA207: =F207*CIE!$E13 -> 0.0021206724 | BB207: =G207*CIE!$E13 -> 0.0082862951 | BC207: =H207*CIE!$E13 -> 0.017836031 | BD207: =I207*CIE!$E13 -> 0.17788698 | BE207: =J207*CIE!$E13 -> 0.33800284 | ... BT207: =Y207*CIE!$E13 -> 85.961234 | BU207: =C207*CIE!$F13 -> 3.0657916e-11 | BV207: =D207*CIE!$F13 -> 6.5089391e-06 | BW207: =E207*CIE!$F13 -> 0.0029991211 | BX207: =F207*CIE!$F13 -> 0.35366577 | BY207: =G207*CIE!$F13 -> 1.3819102 | BZ207: =H207*CIE!$F13 -> 2.9745253 | CA207: =I207*CIE!$F13 -> 29.666314 | CB207: =J207*CIE!$F13 -> 56.36893 | ... CQ207: =Y207*CIE!$F13 -> 14335.805
... A601: 785 | B601: =A601*0.000000001 -> 7.85e-07 | C601: =2*$C$3*$C$2^2/$B601^5/(EXP($C$3*$C$2/$B601/$C$4/C$7)-1)/1000000000 -> 0.0043819209 | D601: =2*$C$3*$C$2^2/$B601^5/(EXP($C$3*$C$2/$B601/$C$4/D$7)-1)/1000000000 -> 1.9722935 | E601: =2*$C$3*$C$2^2/$B601^5/(EXP($C$3*$C$2/$B601/$C$4/E$7)-1)/1000000000 -> 41.847288 | F601: =2*$C$3*$C$2^2/$B601^5/(EXP($C$3*$C$2/$B601/$C$4/F$7)-1)/1000000000 -> 450.76719 | G601: =2*$C$3*$C$2^2/$B601^5/(EXP($C$3*$C$2/$B601/$C$4/G$7)-1)/1000000000 -> 889.69312 | H601: =2*$C$3*$C$2^2/$B601^5/(EXP($C$3*$C$2/$B601/$C$4/H$7)-1)/1000000000 -> 1304.7331 | I601: =2*$C$3*$C$2^2/$B601^5/(EXP($C$3*$C$2/$B601/$C$4/I$7)-1)/1000000000 -> 4131.119 | J601: =2*$C$3*$C$2^2/$B601^5/(EXP($C$3*$C$2/$B601/$C$4/J$7)-1)/1000000000 -> 5709.5011 | ... Y601: =2*$C$3*$C$2^2/$B601^5/(EXP($C$3*$C$2/$B601/$C$4/Y$7)-1)/1000000000 -> 110802.74 | AA601: =C601*CIE!$D407 -> 0 | AB601: =D601*CIE!$D407 -> 0 | AC601: =E601*CIE!$D407 -> 0 | AD601: =F601*CIE!$D407 -> 0 | AE601: =G601*CIE!$D407 -> 0 | AF601: =H601*CIE!$D407 -> 0 | AG601: =I601*CIE!$D407 -> 0 | AH601: =J601*CIE!$D407 -> 0 | ... AW601: =Y601*CIE!$D407 -> 0 | AX601: =C601*CIE!$E407 -> 0 | AY601: =D601*CIE!$E407 -> 0 | AZ601: =E601*CIE!$E407 -> 0 | BA601: =F601*CIE!$E407 -> 0 | BB601: =G601*CIE!$E407 -> 0 | BC601: =H601*CIE!$E407 -> 0 | BD601: =I601*CIE!$E407 -> 0 | BE601: =J601*CIE!$E407 -> 0 | ... BT601: =Y601*CIE!$E407 -> 0 | BU601: =C601*CIE!$F407 -> 0 | BV601: =D601*CIE!$F407 -> 0 | BW601: =E601*CIE!$F407 -> 0 | BX601: =F601*CIE!$F407 -> 0 | BY601: =G601*CIE!$F407 -> 0 | BZ601: =H601*CIE!$F407 -> 0 | CA601: =I601*CIE!$F407 -> 0 | CB601: =J601*CIE!$F407 -> 0 | ... CQ601: =Y601*CIE!$F407 -> 0
A602: 786 | B602: =A602*0.000000001 -> 7.86e-07 | C602: =2*$C$3*$C$2^2/$B602^5/(EXP($C$3*$C$2/$B602/$C$4/C$7)-1)/1000000000 -> 0.0044568416 | D602: =2*$C$3*$C$2^2/$B602^5/(EXP($C$3*$C$2/$B602/$C$4/D$7)-1)/1000000000 -> 1.9904833 | E602: =2*$C$3*$C$2^2/$B602^5/(EXP($C$3*$C$2/$B602/$C$4/E$7)-1)/1000000000 -> 42.069462 | F602: =2*$C$3*$C$2^2/$B602^5/(EXP($C$3*$C$2/$B602/$C$4/F$7)-1)/1000000000 -> 451.79652 | G602: =2*$C$3*$C$2^2/$B602^5/(EXP($C$3*$C$2/$B602/$C$4/G$7)-1)/1000000000 -> 890.96171 | H602: =2*$C$3*$C$2^2/$B602^5/(EXP($C$3*$C$2/$B602/$C$4/H$7)-1)/1000000000 -> 1305.9674 | I602: =2*$C$3*$C$2^2/$B602^5/(EXP($C$3*$C$2/$B602/$C$4/I$7)-1)/1000000000 -> 4129.156 | J602: =2*$C$3*$C$2^2/$B602^5/(EXP($C$3*$C$2/$B602/$C$4/J$7)-1)/1000000000 -> 5704.566 | ... Y602: =2*$C$3*$C$2^2/$B602^5/(EXP($C$3*$C$2/$B602/$C$4/Y$7)-1)/1000000000 -> 110373.37
A603: 787 | B603: =A603*0.000000001 -> 7.87e-07 | C603: =2*$C$3*$C$2^2/$B603^5/(EXP($C$3*$C$2/$B603/$C$4/C$7)-1)/1000000000 -> 0.0045328114 | D603: =2*$C$3*$C$2^2/$B603^5/(EXP($C$3*$C$2/$B603/$C$4/D$7)-1)/1000000000 -> 2.0087778 | E603: =2*$C$3*$C$2^2/$B603^5/(EXP($C$3*$C$2/$B603/$C$4/E$7)-1)/1000000000 -> 42.291906 | F603: =2*$C$3*$C$2^2/$B603^5/(EXP($C$3*$C$2/$B603/$C$4/F$7)-1)/1000000000 -> 452.82196 | G603: =2*$C$3*$C$2^2/$B603^5/(EXP($C$3*$C$2/$B603/$C$4/G$7)-1)/1000000000 -> 892.22178 | H603: =2*$C$3*$C$2^2/$B603^5/(EXP($C$3*$C$2/$B603/$C$4/H$7)-1)/1000000000 -> 1307.1893 | I603: =2*$C$3*$C$2^2/$B603^5/(EXP($C$3*$C$2/$B603/$C$4/I$7)-1)/1000000000 -> 4127.167 | J603: =2*$C$3*$C$2^2/$B603^5/(EXP($C$3*$C$2/$B603/$C$4/J$7)-1)/1000000000 -> 5699.604 | ... Y603: =2*$C$3*$C$2^2/$B603^5/(EXP($C$3*$C$2/$B603/$C$4/Y$7)-1)/1000000000 -> 109946.01
...

Sheet CCT calc
E2: C. S. McCamy, “Correlated color temperature as an explicit function of chromaticity coordinates,” Color Research & Application 17(2), 142–144 (1992) [doi:10.1002/col.5080170211].
B4: x | C4: 0.33245462 | E4: good near daylight
B5: y | C5: 0.34107981
E6: More formulas in Wikipedia.
B7: xe | C7: 0.332
B8: ye | C8: 0.1858
B10: n | C10: =(C4-C7)/(C5-C8) -> 0.0029277729
B12: 3 | C12: -449 | D12: =$C$10^B12 -> 2.5096443e-08
B13: 2 | C13: 3535 | D13: =$C$10^B13 -> 8.5718544e-06
B14: 1 | C14: -6823.3 | D14: =$C$10^B14 -> 0.0029277729
B15: 0 | C15: 5520.33 | D15: =$C$10^B15 -> 1
D17: =SUMPRODUCT(C12:C15,D12:D15) -> 5500.3832

Sheet Photon Flux
C3: =Planck!B2 -> c | D3: =Planck!C2 -> 299792458
C4: =Planck!B3 -> h | D4: =Planck!C3 -> 6.62607e-34
B7: V(L) | C7: 685 | E7: Photon Energy | F7: Photon Flux
A8: 380 | B8: 3.9e-05 | C8: =B8*$C$7 -> 0.026715 | D8: =A8*0.000000001 -> 3.8e-07 | E8: =$D$3*$D$4/D8 -> 5.227489e-19 | F8: =E8*C8 -> 1.3965237e-20
A9: =A8+1 -> 381 | B9: 4.28264e-05 | C9: =B9*$C$7 -> 0.029336084 | D9: =A9*0.000000001 -> 3.81e-07 | E9: =$D$3*$D$4/D9 -> 5.2137685e-19 | F9: =E9*C9 -> 1.5295155e-20
A10: =A9+1 -> 382 | B10: 4.69146e-05 | C10: =B10*$C$7 -> 0.032136501 | D10: =A10*0.000000001 -> 3.82e-07 | E10: =$D$3*$D$4/D10 -> 5.2001199e-19 | F10: =E10*C10 -> 1.6711366e-20
A11: =A10+1 -> 383 | B11: 5.15896e-05 | C11: =B11*$C$7 -> 0.035338876 | D11: =A11*0.000000001 -> 3.83e-07 | E11: =$D$3*$D$4/D11 -> 5.1865426e-19 | F11: =E11*C11 -> 1.8328659e-20
A12: =A11+1 -> 384 | B12: 5.71764e-05 | C12: =B12*$C$7 -> 0.039165834 | D12: =A12*0.000000001 -> 3.84e-07 | E12: =$D$3*$D$4/D12 -> 5.173036e-19 | F12: =E12*C12 -> 2.0260627e-20
A13: =A12+1 -> 385 | B13: 6.4e-05 | C13: =B13*$C$7 -> 0.04384 | D13: =A13*0.000000001 -> 3.85e-07 | E13: =$D$3*$D$4/D13 -> 5.1595995e-19 | F13: =E13*C13 -> 2.2619684e-20
A14: =A13+1 -> 386 | B14: 7.234421e-05 | C14: =B14*$C$7 -> 0.049555784 | D14: =A14*0.000000001 -> 3.86e-07 | E14: =$D$3*$D$4/D14 -> 5.1462327e-19 | F14: =E14*C14 -> 2.5502559e-20
A15: =A14+1 -> 387 | B15: 8.221224e-05 | C15: =B15*$C$7 -> 0.056315384 | D15: =A15*0.000000001 -> 3.87e-07 | E15: =$D$3*$D$4/D15 -> 5.1329349e-19 | F15: =E15*C15 -> 2.890632e-20
A16: =A15+1 -> 388 | B16: 9.350816e-05 | C16: =B16*$C$7 -> 0.06405309 | D16: =A16*0.000000001 -> 3.88e-07 | E16: =$D$3*$D$4/D16 -> 5.1197057e-19 | F16: =E16*C16 -> 3.2793297e-20
A17: =A16+1 -> 389 | B17: 0.0001061361 | C17: =B17*$C$7 -> 0.072703228 | D17: =A17*0.000000001 -> 3.89e-07 | E17: =$D$3*$D$4/D17 -> 5.1065445e-19 | F17: =E17*C17 -> 3.7126227e-20
A18: =A17+1 -> 390 | B18: 0.00012 | C18: =B18*$C$7 -> 0.0822 | D18: =A18*0.000000001 -> 3.9e-07 | E18: =$D$3*$D$4/D18 -> 5.0934508e-19 | F18: =E18*C18 -> 4.1868166e-20
A19: =A18+1 -> 391 | B19: 0.000134984 | C19: =B19*$C$7 -> 0.09246404 | D19: =A19*0.000000001 -> 3.91e-07 | E19: =$D$3*$D$4/D19 -> 5.0804241e-19 | F19: =E19*C19 -> 4.6975653e-20
A20: =A19+1 -> 392 | B20: 0.000151492 | C20: =B20*$C$7 -> 0.10377202 | D20: =A20*0.000000001 -> 3.92e-07 | E20: =$D$3*$D$4/D20 -> 5.0674638e-19 | F20: =E20*C20 -> 5.2586096e-20
... A408: =A407+1 -> 780 | B408: 1.499e-05 | C408: =B408*$C$7 -> 0.01026815 | D408: =A408*0.000000001 -> 7.8e-07 | E408: =$D$3*$D$4/D408 -> 2.5467254e-19 | F408: =E408*C408 -> 2.6150158e-21

Sheet LMS
B1: L | C1: M | D1: S
A2: 390 | B2: 0.0004150019 | C2: 0.0003683495 | D2: 0.009547289
A3: 395 | B3: 0.001051914 | C3: 0.0009586496 | D3: 0.02382484
A4: 400 | B4: 0.002408353 | C4: 0.002269917 | D4: 0.05665002
A5: 405 | B5: 0.004833371 | C5: 0.004700132 | D5: 0.1224503
A6: 410 | B6: 0.008721273 | C6: 0.008793667 | D6: 0.2330076
A7: 415 | B7: 0.01338382 | C7: 0.0145278 | D7: 0.3813643
A8: 420 | B8: 0.01844803 | C8: 0.02166506 | D8: 0.5436132
A9: 425 | B9: 0.0229319 | C9: 0.02957127 | D9: 0.6744815
A10: 430 | B10: 0.02818772 | C10: 0.03945663 | D10: 0.8025461
A11: 435 | B11: 0.03410515 | C11: 0.0518203 | D11: 0.9035662
A12: 440 | B12: 0.04025595 | C12: 0.06477837 | D12: 0.9910145
A13: 445 | B13: 0.04493761 | C13: 0.07588048 | D13: 0.9915166
... A47: 615 | B47: 0.6307685 | C47: 0.1562428 | D47: 5.418387e-06
A48: 620 | B48: 0.55423 | C48: 0.1166407
A49: 625 | B49: 0.4799434 | C49: 0.08558743
A50: 630 | B50: 0.4007098 | C50: 0.06211264
A51: 635 | B51: 0.3278612 | C51: 0.0444877
A52: 640 | B52: 0.2657847 | C52: 0.03142824
A53: 645 | B53: 0.2132849 | C53: 0.02180369
A54: 650 | B54: 0.1651391 | C54: 0.01544792
A55: 655 | B55: 0.1247498 | C55: 0.01071199
A56: 660 | B56: 0.09300794 | C56: 0.007302475
A57: 665 | B57: 0.06850937 | C57: 0.004971759
A58: 670 | B58: 0.04986664 | C58: 0.003436687
A59: 675 | B59: 0.03582284 | C59: 0.002376184
... A90: 830 | B90: 9.743162e-07 | C90: 9.534106e-08

Sheet Wien
G3: 5780
C5: X, Y | D5: f(X) | E5: f(Y) | G5: Max @
C6: 0.0001 | D6: =C6^5/(EXP(C6)-1) -> 9.9995e-17 | E6: =C6^3/(EXP(C6)-1) -> 9.9995e-09
C7: 0.2 | D7: =C7^5/(EXP(C7)-1) -> 0.0014453298 | E7: =C7^3/(EXP(C7)-1) -> 0.036133245
C8: 0.4 | D8: =C8^5/(EXP(C8)-1) -> 0.020820427 | E8: =C8^3/(EXP(C8)-1) -> 0.13012767
C9: 0.6 | D9: =C9^5/(EXP(C9)-1) -> 0.09458487 | E9: =C9^3/(EXP(C9)-1) -> 0.26273575
C10: 0.8 | D10: =C10^5/(EXP(C10)-1) -> 0.26737581 | E10: =C10^3/(EXP(C10)-1) -> 0.41777471
C11: 1 | D11: =C11^5/(EXP(C11)-1) -> 0.58197671 | E11: =C11^3/(EXP(C11)-1) -> 0.58197671
C12: 1.2 | D12: =C12^5/(EXP(C12)-1) -> 1.0724977 | E12: =C12^3/(EXP(C12)-1) -> 0.74479005
C13: 1.4 | D13: =C13^5/(EXP(C13)-1) -> 1.7603561 | E13: =C13^3/(EXP(C13)-1) -> 0.89814088
C14: 1.6 | D14: =C14^5/(EXP(C14)-1) -> 2.6525864 | E14: =C14^3/(EXP(C14)-1) -> 1.0361666
C15: 1.8 | D15: =C15^5/(EXP(C15)-1) -> 3.74198 | E15: =C15^3/(EXP(C15)-1) -> 1.1549321
C16: 2 | D16: =C16^5/(EXP(C16)-1) -> 5.0085646 | E16: =C16^3/(EXP(C16)-1) -> 1.2521411
C17: 2.2 | D17: =C17^5/(EXP(C17)-1) -> 6.4219605 | E17: =C17^3/(EXP(C17)-1) -> 1.3268514
... C19: 2.6 | D19: =C19^5/(EXP(C19)-1) -> 9.5327549 | E19: =C19^3/(EXP(C19)-1) -> 1.4101708
C20: 2.8 | D20: =C20^5/(EXP(C20)-1) -> 11.143258 | E20: =C20^3/(EXP(C20)-1) -> 1.4213339 | G20: =Planck!C4*G3/Planck!C3*C20 -> 3.3721961e+14 | H20: =Planck!C2/Wien!G20*1000000000 -> 889.01254
C21: 3 | D21: =C21^5/(EXP(C21)-1) -> 12.732154 | E21: =C21^3/(EXP(C21)-1) -> 1.4146838
C22: 3.2 | D22: =C22^5/(EXP(C22)-1) -> 14.258744 | E22: =C22^3/(EXP(C22)-1) -> 1.3924555
C23: 3.4 | D23: =C23^5/(EXP(C23)-1) -> 15.686807 | E23: =C23^3/(EXP(C23)-1) -> 1.3569902
C24: 3.6 | D24: =C24^5/(EXP(C24)-1) -> 16.985723 | E24: =C24^3/(EXP(C24)-1) -> 1.3106268
C25: 3.8 | D25: =C25^5/(EXP(C25)-1) -> 18.131126 | E25: =C25^3/(EXP(C25)-1) -> 1.2556181
C26: 4 | D26: =C26^5/(EXP(C26)-1) -> 19.105137 | E26: =C26^3/(EXP(C26)-1) -> 1.1940711
C27: 4.2 | D27: =C27^5/(EXP(C27)-1) -> 19.89626 | E27: =C27^3/(EXP(C27)-1) -> 1.1279059
C28: 4.4 | D28: =C28^5/(EXP(C28)-1) -> 20.498999 | E28: =C28^3/(EXP(C28)-1) -> 1.0588326
C29: 4.6 | D29: =C29^5/(EXP(C29)-1) -> 20.913277 | E29: =C29^3/(EXP(C29)-1) -> 0.98834012
C30: 4.8 | D30: =C30^5/(EXP(C30)-1) -> 21.14373 | E30: =C30^3/(EXP(C30)-1) -> 0.9176966
C31: 5 | D31: =C31^5/(EXP(C31)-1) -> 21.198922 | E31: =C31^3/(EXP(C31)-1) -> 0.84795686 | G31: =Planck!C3*Planck!C2/Planck!C4/G3/C31*1000000000 -> 497.84702
C32: 5.2 | D32: =C32^5/(EXP(C32)-1) -> 21.090548 | E32: =C32^3/(EXP(C32)-1) -> 0.77997588
C33: 5.4 | D33: =C33^5/(EXP(C33)-1) -> 20.832652 | E33: =C33^3/(EXP(C33)-1) -> 0.71442566
C34: 5.6 | D34: =C34^5/(EXP(C34)-1) -> 20.440898 | E34: =C34^3/(EXP(C34)-1) -> 0.65181436
C35: 5.8 | D35: =C35^5/(EXP(C35)-1) -> 19.931905 | E35: =C35^3/(EXP(C35)-1) -> 0.59250611
C36: 6 | D36: =C36^5/(EXP(C36)-1) -> 19.322673 | E36: =C36^3/(EXP(C36)-1) -> 0.53674092
C37: 6.2 | D37: =C37^5/(EXP(C37)-1) -> 18.630089 | E37: =C37^3/(EXP(C37)-1) -> 0.48465372
C38: 6.4 | D38: =C38^5/(EXP(C38)-1) -> 17.870528 | E38: =C38^3/(EXP(C38)-1) -> 0.43629219
C39: 6.6 | D39: =C39^5/(EXP(C39)-1) -> 17.059539 | E39: =C39^3/(EXP(C39)-1) -> 0.39163313
C40: 6.8 | D40: =C40^5/(EXP(C40)-1) -> 16.211607 | E40: =C40^3/(EXP(C40)-1) -> 0.35059703
C41: 7 | D41: =C41^5/(EXP(C41)-1) -> 15.339988 | E41: =C41^3/(EXP(C41)-1) -> 0.31306099
C42: 7.2 | D42: =C42^5/(EXP(C42)-1) -> 14.456614 | E42: =C42^3/(EXP(C42)-1) -> 0.27886986
C43: 7.4 | D43: =C43^5/(EXP(C43)-1) -> 13.572035 | E43: =C43^3/(EXP(C43)-1) -> 0.24784579
... C46: 8 | D46: =C46^5/(EXP(C46)-1) -> 10.996128 | E46: =C46^3/(EXP(C46)-1) -> 0.1718145
...

Sheet u'v' Transform
F2: Transformation | I2: Transformation
B3: x | C3: 0.364 | E3: u' | F3: =4*C3/(-2*C3+12*C4+3) -> 0.22372465 | H3: u | I3: =F3 -> 0.22372465
B4: y | C4: 0.353 | E4: v' | F4: =9*C4/(-2*C3+12*C4+3) -> 0.48816841 | H4: v | I4: =2*F4/3 -> 0.32544561
B6: x | C6: 0.368 | E6: u' | F6: =4*C6/(-2*C6+12*C7+3) -> 0.21996414 | H6: u | I6: =F6 -> 0.21996414
B7: y | C7: 0.369 | E7: v' | F7: =9*C7/(-2*C6+12*C7+3) -> 0.4962642 | H7: v | I7: =2*F7/3 -> 0.3308428
E9: du'v' | F9: =SQRT((F3-F6)^2+(F4-F7)^2) -> 0.0089265458 | H9: duv | I9: =SQRT((I3-I6)^2+(I4-I7)^2) -> 0.0065780787 | K9: absolute distance
F12: Schanda page 59
