Workbook

Sheet Sun
D1: Source | E1: doi:10.3847/0004-6256/152/2/41 | F1: Prsa
D2: Source | E2: 10.1016/j.solener.2003.08.039 | F2: Gueymard
C4: Physics | I4: Geometry
B6: sigma | C6: =Spectra!C5 -> 5.6703584e-08 | H6: Radius | I6: 695700000
B8: T | C8: 5772 | H8: Surface area | I8: =4*PI()*I6^2 -> 6.0821044e+18
B10: Radiant Exitance | C10: =C6*C8^4 -> 62938414 | H10: Distance | I10: 149600000000
B12: Radiance | C12: =C10/PI() -> 20033920 | H12: Cone | I12: =DEGREES(ATAN(I6/I10)) -> 0.26644643 | K12: from earth
B14: Radiant Flux | C14: =C10*I8 -> 3.8279801e+26 | H14: PSA | I14: =PI()*SIN(RADIANS(I12))^2 -> 6.7939336e-05 | K14: from earth
B16: Radiant intensity | C16: =C14/4/PI() -> 3.0462098e+25 | H16: irradiance | I16: =I14*C12 -> 1361.0912 | K16: free space
B18: Luminous Flux | C18: =C14*Spectra!H10 -> 3.877081e+28 | H18: illuminance | I18: =I16*Spectra!H10 -> 137854.97 | K18: free space
B20: Luminous Intensity | C20: =C18/4/PI() -> 3.0852831e+27 | D20: free space | H20: irradiance | I20: =Spectra!I11 -> 1002.877 | K20: after atmosphere
B22: Luminance | C22: =C12*Spectra!H10 -> 2.0290892e+09 | D22: free space
B24: Illuminance on earth orbit | C24: =C20/I10^2 -> 137857.95 | D24: by inv. squ. law | H24: illuminance | I24: =I20*Spectra!I10 -> 110664.4 | K24: after atmosphere

Sheet Spectra
B2: c | C2: 299792458 | D2: Etendue sun-1m2 | E2: =Sun!I14 -> 6.7939336e-05
B3: h | C3: 6.62607e-34 | D3: PSA sun | E3: =Sun!I14 -> 6.7939336e-05
B4: k | C4: 1.380648e-23
B5: sigma | C5: =2*PI()^5*C4^4/15/C3^3/C2^2 -> 5.6703584e-08
B7: T | C7: =Sun!C8 -> 5772 | G7: ASTM G173-03 Reference Spectra Derived from SMARTS v. 2.9.2
H8: https://www.nrel.gov/grid/solar-resource/spectra-am1.5.html
B9: Stefan-Boltzmann radiance | C9: =$C$5*C7^4/PI() -> 20033920 | E9: Planck
B10: luminous efficacy of radiation | C10: =C12/C9 -> 92.028747 | E10: =E12/E11 -> 92.228446 | H10: =H12/H11 -> 101.28269 | I10: =I12/I11 -> 110.34693
B11: spectral radiance sum | C11: =SUM(C16:C9816) -> 19990541 | E11: =SUM(E16:E9816) -> 1358.1441 | H11: =SUM(H16:H5816) -> 1356.1503 | I11: =SUM(I16:I5816) -> 1002.877
B12: luminance | C12: =SUMPRODUCT(C16:C596,$D$16:$D$596)*683 -> 1.8436965e+09 | E12: =SUMPRODUCT(E16:E596,$D$16:$D$596)*683 -> 125259.52 | H12: =SUMPRODUCT(H16:H596,$D$16:$D$596)*683 -> 137354.54 | I12: =SUMPRODUCT(I16:I596,$D$16:$D$596)*683 -> 110664.4
C14: sun surface | E14: on earth
C15: Planck spectral radiance | D15: V(L) | E15: spectral irradiance | G15: Wavelength | H15: Extraterrestrical | I15: Global 37° tilt
A16: 200 | B16: =A16*0.000000001 -> 2e-07 | C16: =2*$C$3*$C$2^2/$B16^5/(EXP($C$3*$C$2/$B16/$C$4/C$7)-1)/1000000000 -> 1438.739 | D16: 0 | E16: =C16*$E$2 -> 0.097746974 | G16: 280 | H16: 0.082 | I16: 4.7309e-23
A17: 201 | B17: =A17*0.000000001 -> 2.01e-07 | C17: =2*$C$3*$C$2^2/$B17^5/(EXP($C$3*$C$2/$B17/$C$4/C$7)-1)/1000000000 -> 1493.0734 | D17: 0 | E17: =C17*$E$2 -> 0.10143842 | G17: 280.5 | H17: 0.099 | I17: 1.2307e-21
A18: 202 | B18: =A18*0.000000001 -> 2.02e-07 | C18: =2*$C$3*$C$2^2/$B18^5/(EXP($C$3*$C$2/$B18/$C$4/C$7)-1)/1000000000 -> 1548.7005 | D18: 0 | E18: =C18*$E$2 -> 0.10521768 | G18: 281 | H18: 0.15 | I18: 5.6895e-21
A19: 203 | B19: =A19*0.000000001 -> 2.03e-07 | C19: =2*$C$3*$C$2^2/$B19^5/(EXP($C$3*$C$2/$B19/$C$4/C$7)-1)/1000000000 -> 1605.6254 | D19: 0 | E19: =C19*$E$2 -> 0.10908512 | G19: 281.5 | H19: 0.212 | I19: 1.5662e-19
A20: 204 | B20: =A20*0.000000001 -> 2.04e-07 | C20: =2*$C$3*$C$2^2/$B20^5/(EXP($C$3*$C$2/$B20/$C$4/C$7)-1)/1000000000 -> 1663.8528 | D20: 0 | E20: =C20*$E$2 -> 0.11304106 | G20: 282 | H20: 0.267 | I20: 1.1946e-18
A21: 205 | B21: =A21*0.000000001 -> 2.05e-07 | C21: =2*$C$3*$C$2^2/$B21^5/(EXP($C$3*$C$2/$B21/$C$4/C$7)-1)/1000000000 -> 1723.3867 | D21: 0 | E21: =C21*$E$2 -> 0.11708575 | G21: 282.5 | H21: 0.303 | I21: 4.5436e-18
A22: 206 | B22: =A22*0.000000001 -> 2.06e-07 | C22: =2*$C$3*$C$2^2/$B22^5/(EXP($C$3*$C$2/$B22/$C$4/C$7)-1)/1000000000 -> 1784.2303 | D22: 0 | E22: =C22*$E$2 -> 0.12121942 | G22: 283 | H22: 0.325 | I22: 1.8452e-17
A23: 207 | B23: =A23*0.000000001 -> 2.07e-07 | C23: =2*$C$3*$C$2^2/$B23^5/(EXP($C$3*$C$2/$B23/$C$4/C$7)-1)/1000000000 -> 1846.3864 | D23: 0 | E23: =C23*$E$2 -> 0.12544227 | G23: 283.5 | H23: 0.323 | I23: 3.536e-17
A24: 208 | B24: =A24*0.000000001 -> 2.08e-07 | C24: =2*$C$3*$C$2^2/$B24^5/(EXP($C$3*$C$2/$B24/$C$4/C$7)-1)/1000000000 -> 1909.8571 | D24: 0 | E24: =C24*$E$2 -> 0.12975442 | G24: 284 | H24: 0.299 | I24: 7.267e-16
A25: 209 | B25: =A25*0.000000001 -> 2.09e-07 | C25: =2*$C$3*$C$2^2/$B25^5/(EXP($C$3*$C$2/$B25/$C$4/C$7)-1)/1000000000 -> 1974.6436 | D25: 0 | E25: =C25*$E$2 -> 0.13415598 | G25: 284.5 | H25: 0.25024 | I25: 2.4856e-15
A26: 210 | B26: =A26*0.000000001 -> 2.1e-07 | C26: =2*$C$3*$C$2^2/$B26^5/(EXP($C$3*$C$2/$B26/$C$4/C$7)-1)/1000000000 -> 2040.7468 | D26: 0 | E26: =C26*$E$2 -> 0.13864699 | G26: 285 | H26: 0.17589 | I26: 8.0142e-15
A27: 211 | B27: =A27*0.000000001 -> 2.11e-07 | C27: =2*$C$3*$C$2^2/$B27^5/(EXP($C$3*$C$2/$B27/$C$4/C$7)-1)/1000000000 -> 2108.1669 | D27: 0 | E27: =C27*$E$2 -> 0.14322746 | G27: 285.5 | H27: 0.155 | I27: 4.2613e-14
... A596: 780 | B596: =A596*0.000000001 -> 7.8e-07 | C596: =2*$C$3*$C$2^2/$B596^5/(EXP($C$3*$C$2/$B596/$C$4/C$7)-1)/1000000000 -> 17608 | D596: 1.499e-05 | E596: =C596*$E$2 -> 1.1962759 | G596: 740 | H596: 1.283 | I596: 1.2195
A597: 781 | B597: =A597*0.000000001 -> 7.81e-07 | C597: =2*$C$3*$C$2^2/$B597^5/(EXP($C$3*$C$2/$B597/$C$4/C$7)-1)/1000000000 -> 17570.373 | E597: =C597*$E$2 -> 1.1937195 | G597: 741 | H597: 1.2707 | I597: 1.2148
A598: 782 | B598: =A598*0.000000001 -> 7.82e-07 | C598: =2*$C$3*$C$2^2/$B598^5/(EXP($C$3*$C$2/$B598/$C$4/C$7)-1)/1000000000 -> 17532.791 | E598: =C598*$E$2 -> 1.1911662 | G598: 742 | H598: 1.2649 | I598: 1.2153
A599: 783 | B599: =A599*0.000000001 -> 7.83e-07 | C599: =2*$C$3*$C$2^2/$B599^5/(EXP($C$3*$C$2/$B599/$C$4/C$7)-1)/1000000000 -> 17495.255 | E599: =C599*$E$2 -> 1.188616 | G599: 743 | H599: 1.2892 | I599: 1.2405
A600: 784 | B600: =A600*0.000000001 -> 7.84e-07 | C600: =2*$C$3*$C$2^2/$B600^5/(EXP($C$3*$C$2/$B600/$C$4/C$7)-1)/1000000000 -> 17457.766 | E600: =C600*$E$2 -> 1.186069 | G600: 744 | H600: 1.2955 | I600: 1.2503
A601: 785 | B601: =A601*0.000000001 -> 7.85e-07 | C601: =2*$C$3*$C$2^2/$B601^5/(EXP($C$3*$C$2/$B601/$C$4/C$7)-1)/1000000000 -> 17420.324 | E601: =C601*$E$2 -> 1.1835253 | G601: 745 | H601: 1.292 | I601: 1.2497
A602: 786 | B602: =A602*0.000000001 -> 7.86e-07 | C602: =2*$C$3*$C$2^2/$B602^5/(EXP($C$3*$C$2/$B602/$C$4/C$7)-1)/1000000000 -> 17382.929 | E602: =C602*$E$2 -> 1.1809847 | G602: 746 | H602: 1.2892 | I602: 1.247
A603: 787 | B603: =A603*0.000000001 -> 7.87e-07 | C603: =2*$C$3*$C$2^2/$B603^5/(EXP($C$3*$C$2/$B603/$C$4/C$7)-1)/1000000000 -> 17345.582 | E603: =C603*$E$2 -> 1.1784474 | G603: 747 | H603: 1.289 | I603: 1.2477
A604: 788 | B604: =A604*0.000000001 -> 7.88e-07 | C604: =2*$C$3*$C$2^2/$B604^5/(EXP($C$3*$C$2/$B604/$C$4/C$7)-1)/1000000000 -> 17308.283 | E604: =C604*$E$2 -> 1.1759133 | G604: 748 | H604: 1.2808 | I604: 1.2401
A605: 789 | B605: =A605*0.000000001 -> 7.89e-07 | C605: =2*$C$3*$C$2^2/$B605^5/(EXP($C$3*$C$2/$B605/$C$4/C$7)-1)/1000000000 -> 17271.033 | E605: =C605*$E$2 -> 1.1733825 | G605: 749 | H605: 1.276 | I605: 1.2357
A606: 790 | B606: =A606*0.000000001 -> 7.9e-07 | C606: =2*$C$3*$C$2^2/$B606^5/(EXP($C$3*$C$2/$B606/$C$4/C$7)-1)/1000000000 -> 17233.831 | E606: =C606*$E$2 -> 1.170855 | G606: 750 | H606: 1.274 | I606: 1.2341
A607: 791 | B607: =A607*0.000000001 -> 7.91e-07 | C607: =2*$C$3*$C$2^2/$B607^5/(EXP($C$3*$C$2/$B607/$C$4/C$7)-1)/1000000000 -> 17196.678 | E607: =C607*$E$2 -> 1.1683309 | G607: 751 | H607: 1.268 | I607: 1.2286
A608: 792 | B608: =A608*0.000000001 -> 7.92e-07 | C608: =2*$C$3*$C$2^2/$B608^5/(EXP($C$3*$C$2/$B608/$C$4/C$7)-1)/1000000000 -> 17159.574 | E608: =C608*$E$2 -> 1.1658101 | G608: 752 | H608: 1.272 | I608: 1.233
... A2017: 2201 | B2017: =A2017*0.000000001 -> 2.201e-06 | C2017: =2*$C$3*$C$2^2/$B2017^5/(EXP($C$3*$C$2/$B2017/$C$4/C$7)-1)/1000000000 -> 1096.1977 | E2017: =C2017*$E$2 -> 0.074474947 | G2017: 4000 | H2017: 0.00868 | I2017: 0.0071043
A2018: 2202 | B2018: =A2018*0.000000001 -> 2.202e-06 | C2018: =2*$C$3*$C$2^2/$B2018^5/(EXP($C$3*$C$2/$B2018/$C$4/C$7)-1)/1000000000 -> 1094.5413 | E2018: =C2018*$E$2 -> 0.074362406
A2019: 2203 | B2019: =A2019*0.000000001 -> 2.203e-06 | C2019: =2*$C$3*$C$2^2/$B2019^5/(EXP($C$3*$C$2/$B2019/$C$4/C$7)-1)/1000000000 -> 1092.8878 | E2019: =C2019*$E$2 -> 0.074250075
A2020: 2204 | B2020: =A2020*0.000000001 -> 2.204e-06 | C2020: =2*$C$3*$C$2^2/$B2020^5/(EXP($C$3*$C$2/$B2020/$C$4/C$7)-1)/1000000000 -> 1091.2375 | E2020: =C2020*$E$2 -> 0.074137953
A2021: 2205 | B2021: =A2021*0.000000001 -> 2.205e-06 | C2021: =2*$C$3*$C$2^2/$B2021^5/(EXP($C$3*$C$2/$B2021/$C$4/C$7)-1)/1000000000 -> 1089.5902 | E2021: =C2021*$E$2 -> 0.074026038
A2022: 2206 | B2022: =A2022*0.000000001 -> 2.206e-06 | C2022: =2*$C$3*$C$2^2/$B2022^5/(EXP($C$3*$C$2/$B2022/$C$4/C$7)-1)/1000000000 -> 1087.946 | E2022: =C2022*$E$2 -> 0.073914332
A2023: 2207 | B2023: =A2023*0.000000001 -> 2.207e-06 | C2023: =2*$C$3*$C$2^2/$B2023^5/(EXP($C$3*$C$2/$B2023/$C$4/C$7)-1)/1000000000 -> 1086.3049 | E2023: =C2023*$E$2 -> 0.073802833
A2024: 2208 | B2024: =A2024*0.000000001 -> 2.208e-06 | C2024: =2*$C$3*$C$2^2/$B2024^5/(EXP($C$3*$C$2/$B2024/$C$4/C$7)-1)/1000000000 -> 1084.6668 | E2024: =C2024*$E$2 -> 0.073691541
A2025: 2209 | B2025: =A2025*0.000000001 -> 2.209e-06 | C2025: =2*$C$3*$C$2^2/$B2025^5/(EXP($C$3*$C$2/$B2025/$C$4/C$7)-1)/1000000000 -> 1083.0317 | E2025: =C2025*$E$2 -> 0.073580456
A2026: 2210 | B2026: =A2026*0.000000001 -> 2.21e-06 | C2026: =2*$C$3*$C$2^2/$B2026^5/(EXP($C$3*$C$2/$B2026/$C$4/C$7)-1)/1000000000 -> 1081.3997 | E2026: =C2026*$E$2 -> 0.073469576
A2027: 2211 | B2027: =A2027*0.000000001 -> 2.211e-06 | C2027: =2*$C$3*$C$2^2/$B2027^5/(EXP($C$3*$C$2/$B2027/$C$4/C$7)-1)/1000000000 -> 1079.7707 | E2027: =C2027*$E$2 -> 0.073358903
A2028: 2212 | B2028: =A2028*0.000000001 -> 2.212e-06 | C2028: =2*$C$3*$C$2^2/$B2028^5/(EXP($C$3*$C$2/$B2028/$C$4/C$7)-1)/1000000000 -> 1078.1447 | E2028: =C2028*$E$2 -> 0.073248434
A2029: 2213 | B2029: =A2029*0.000000001 -> 2.213e-06 | C2029: =2*$C$3*$C$2^2/$B2029^5/(EXP($C$3*$C$2/$B2029/$C$4/C$7)-1)/1000000000 -> 1076.5217 | E2029: =C2029*$E$2 -> 0.07313817
... A9816: 10000 | B9816: =A9816*0.000000001 -> 1e-05 | C9816: =2*$C$3*$C$2^2/$B9816^5/(EXP($C$3*$C$2/$B9816/$C$4/C$7)-1)/1000000000 -> 4.207346 | E9816: =C9816*$E$2 -> 0.0002858443

Sheet Tabelle3
C2: https://www.nrel.gov/grid/solar-resource/spectra-am1.5.html
A4: ASTM G173-03 Reference Spectra Derived from SMARTS v. 2.9.2
A6: Wvlgth | B6: Extra W*m-2*nm-1 | C6: Global tilt W*m-2*nm-1 | D6: Direct+circumsolar W*m-2*nm-1 | E6: v(l)
A7: 280 | B7: 0.082 | C7: 4.7309e-23 | D7: 2.5361e-26 | E7: 0
A8: 280.5 | B8: 0.099 | C8: 1.2307e-21 | D8: 1.0917e-24 | E8: 0
A9: 281 | B9: 0.15 | C9: 5.6895e-21 | D9: 6.1253e-24 | E9: 0
A10: 281.5 | B10: 0.212 | C10: 1.5662e-19 | D10: 2.7479e-22 | E10: 0
A11: 282 | B11: 0.267 | C11: 1.1946e-18 | D11: 2.8346e-21 | E11: 0
A12: 282.5 | B12: 0.303 | C12: 4.5436e-18 | D12: 1.3271e-20 | E12: 0
A13: 283 | B13: 0.325 | C13: 1.8452e-17 | D13: 6.7646e-20 | E13: 0
A14: 283.5 | B14: 0.323 | C14: 3.536e-17 | D14: 1.4614e-19 | E14: 0
A15: 284 | B15: 0.299 | C15: 7.267e-16 | D15: 4.9838e-18 | E15: 0
A16: 284.5 | B16: 0.25024 | C16: 2.4856e-15 | D16: 2.1624e-17 | E16: 0
A17: 285 | B17: 0.17589 | C17: 8.0142e-15 | D17: 8.9998e-17 | E17: 0
A18: 285.5 | B18: 0.155 | C18: 4.2613e-14 | D18: 6.4424e-16 | E18: 0
... A2008: 4000 | B2008: 0.00868 | C2008: 0.0071043 | D2008: 0.0071199 | E2008: 1.499e-05
