Workbook

Sheet CIE curves
B1: V(L) | C1: X | D1: Y | E1: Z | F1: x | G1: y
A2: 380 | B2: 3.9e-05 | C2: 0.001368 | D2: 3.9e-05 | E2: 0.006450001 | F2: =C2/SUM($C2:$E2) -> 0.17411223 | G2: =D2/SUM($C2:$E2) -> 0.004963726
A3: =A2+1 -> 381 | B3: 4.28264e-05 | C3: 0.00150205 | D3: 4.28264e-05 | E3: 0.007083216 | F3: =C3/SUM($C3:$E3) -> 0.17408831 | G3: =D3/SUM($C3:$E3) -> 0.0049636001
A4: =A3+1 -> 382 | B4: 4.69146e-05 | C4: 0.001642328 | D4: 4.69146e-05 | E4: 0.007745488 | F4: =C4/SUM($C4:$E4) -> 0.17407259 | G4: =D4/SUM($C4:$E4) -> 0.0049725426
A5: =A4+1 -> 383 | B5: 5.15896e-05 | C5: 0.001802382 | D5: 5.15896e-05 | E5: 0.008501152 | F5: =C5/SUM($C5:$E5) -> 0.17405702 | G5: =D5/SUM($C5:$E5) -> 0.0049820361
A6: =A5+1 -> 384 | B6: 5.71764e-05 | C6: 0.001995757 | D6: 5.71764e-05 | E6: 0.009414544 | F6: =C6/SUM($C6:$E6) -> 0.17403627 | G6: =D6/SUM($C6:$E6) -> 0.0049859614
A7: =A6+1 -> 385 | B7: 6.4e-05 | C7: 0.002236 | D7: 6.4e-05 | E7: 0.01054999 | F7: =C7/SUM($C7:$E7) -> 0.17400792 | G7: =D7/SUM($C7:$E7) -> 0.0049805486
A8: =A7+1 -> 386 | B8: 7.234421e-05 | C8: 0.002535385 | D8: 7.234421e-05 | E8: 0.0119658 | F8: =C8/SUM($C8:$E8) -> 0.17397193 | G8: =D8/SUM($C8:$E8) -> 0.0049640831
A9: =A8+1 -> 387 | B9: 8.221224e-05 | C9: 0.002892603 | D9: 8.221224e-05 | E9: 0.01365587 | F9: =C9/SUM($C9:$E9) -> 0.17393168 | G9: =D9/SUM($C9:$E9) -> 0.0049434066
A10: =A9+1 -> 388 | B10: 9.350816e-05 | C10: 0.003300829 | D10: 9.350816e-05 | E10: 0.01558805 | F10: =C10/SUM($C10:$E10) -> 0.17388904 | G10: =D10/SUM($C10:$E10) -> 0.0049260485
A11: =A10+1 -> 389 | B11: 0.0001061361 | C11: 0.003753236 | D11: 0.0001061361 | E11: 0.01773015 | F11: =C11/SUM($C11:$E11) -> 0.17384526 | G11: =D11/SUM($C11:$E11) -> 0.0049160931
A12: =A11+1 -> 390 | B12: 0.00012 | C12: 0.004243 | D12: 0.00012 | E12: 0.02005001 | F12: =C12/SUM($C12:$E12) -> 0.17380077 | G12: =D12/SUM($C12:$E12) -> 0.0049154119
A13: =A12+1 -> 391 | B13: 0.000134984 | C13: 0.004762389 | D13: 0.000134984 | E13: 0.02251136 | F13: =C13/SUM($C13:$E13) -> 0.17375444 | G13: =D13/SUM($C13:$E13) -> 0.0049248537
A14: =A13+1 -> 392 | B14: 0.000151492 | C14: 0.005330048 | D14: 0.000151492 | E14: 0.02520288 | F14: =C14/SUM($C14:$E14) -> 0.17370535 | G14: =D14/SUM($C14:$E14) -> 0.0049370984
... A402: =A401+1 -> 780 | B402: 1.499e-05 | C402: 4.150994e-05 | D402: 1.499e-05 | E402: 0 | F402: =C402/SUM($C402:$E402) -> 0.73468998 | G402: =D402/SUM($C402:$E402) -> 0.26531002

Sheet Planck
A1: Input | J1: Input
B2: c | C2: 299792458
B3: h | C3: 6.62607e-34 | J3: 380 | K3: =MATCH(J3,$A$11:$A$2011)+9 -> 190
B4: k | C4: 1.380648e-23 | I4: blue max | J4: 490 | K4: =MATCH(J4,$A$11:$A$2011)+9 -> 300
B5: sigma | C5: =2*PI()^5*C4^4/15/C3^3/C2^2 -> 5.6703584e-08 | I5: green min | J5: =J4+1 -> 491 | K5: =MATCH(J5,$A$11:$A$2011)+9 -> 301
I6: greem max | J6: 600 | K6: =MATCH(J6,$A$11:$A$2011)+9 -> 410
B7: CCT | C7: 3000 | I7: red min | J7: =J6+1 -> 601 | K7: =MATCH(J7,$A$11:$A$2011)+9 -> 411
J8: 780 | K8: =MATCH(J8,$A$11:$A$2011)+9 -> 590
A10: WL | B10: WL | C10: Source | D10: Blue | E10: Green | F10: Red | J10: Mix | K10: Blue | L10: Green | M10: Red
A11: 200 | B11: =A11*0.000000001 -> 2e-07 | C11: =2*$C$3*$C$2^2/$B11^5/(EXP($C$3*$C$2/$B11/$C$4/C$7)-1)/1000000000 -> 0.01434022 | D11: =IF(AND($A11<$J$4,$A11>$J$3),$C11,0) -> 0 | E11: =IF(AND($A11<$J$6,$A11>$J$5),$C11,0) -> 0 | F11: =IF(AND($A11<$J$8,$A11>$J$7),$C11,0) -> 0 | I11: X | J11: =SUM(K11:M11) -> 46723.974 | K11: =SUMPRODUCT(D$191:D$591,'CIE curves'!$C$2:$C$402) -> 2612.7715 | L11: =SUMPRODUCT(E$191:E$591,'CIE curves'!$C$2:$C$402) -> 21096.626 | M11: =SUMPRODUCT(F$191:F$591,'CIE curves'!$C$2:$C$402) -> 23014.577
A12: 201 | B12: =A12*0.000000001 -> 2.01e-07 | C12: =2*$C$3*$C$2^2/$B12^5/(EXP($C$3*$C$2/$B12/$C$4/C$7)-1)/1000000000 -> 0.015759323 | D12: =IF(AND($A12<$J$4,$A12>$J$3),$C12,0) -> 0 | E12: =IF(AND($A12<$J$6,$A12>$J$5),$C12,0) -> 0 | F12: =IF(AND($A12<$J$8,$A12>$J$7),$C12,0) -> 0 | I12: Y | J12: =SUM(K12:M12) -> 43493.613 | K12: =SUMPRODUCT(D$191:D$591,'CIE curves'!$D$2:$D$402) -> 882.5507 | L12: =SUMPRODUCT(E$191:E$591,'CIE curves'!$D$2:$D$402) -> 32396.516 | M12: =SUMPRODUCT(F$191:F$591,'CIE curves'!$D$2:$D$402) -> 10214.546
A13: 202 | B13: =A13*0.000000001 -> 2.02e-07 | C13: =2*$C$3*$C$2^2/$B13^5/(EXP($C$3*$C$2/$B13/$C$4/C$7)-1)/1000000000 -> 0.017300556 | D13: =IF(AND($A13<$J$4,$A13>$J$3),$C13,0) -> 0 | E13: =IF(AND($A13<$J$6,$A13>$J$5),$C13,0) -> 0 | F13: =IF(AND($A13<$J$8,$A13>$J$7),$C13,0) -> 0 | I13: Z | J13: =SUM(K13:M13) -> 17190.289 | K13: =SUMPRODUCT(D$191:D$591,'CIE curves'!$E$2:$E$402) -> 15146.455 | L13: =SUMPRODUCT(E$191:E$591,'CIE curves'!$E$2:$E$402) -> 2039.0943 | M13: =SUMPRODUCT(F$191:F$591,'CIE curves'!$E$2:$E$402) -> 4.7402121
A14: 203 | B14: =A14*0.000000001 -> 2.03e-07 | C14: =2*$C$3*$C$2^2/$B14^5/(EXP($C$3*$C$2/$B14/$C$4/C$7)-1)/1000000000 -> 0.018972754 | D14: =IF(AND($A14<$J$4,$A14>$J$3),$C14,0) -> 0 | E14: =IF(AND($A14<$J$6,$A14>$J$5),$C14,0) -> 0 | F14: =IF(AND($A14<$J$8,$A14>$J$7),$C14,0) -> 0
A15: 204 | B15: =A15*0.000000001 -> 2.04e-07 | C15: =2*$C$3*$C$2^2/$B15^5/(EXP($C$3*$C$2/$B15/$C$4/C$7)-1)/1000000000 -> 0.020785257 | D15: =IF(AND($A15<$J$4,$A15>$J$3),$C15,0) -> 0 | E15: =IF(AND($A15<$J$6,$A15>$J$5),$C15,0) -> 0 | F15: =IF(AND($A15<$J$8,$A15>$J$7),$C15,0) -> 0 | I15: x | J15: =J11/SUM(J$11:J$13) -> 0.43501441 | K15: =K11/SUM(K$11:K$13) -> 0.14015678 | L15: =L11/SUM(L$11:L$13) -> 0.37989872 | M15: =M11/SUM(M$11:M$13) -> 0.69250381
A16: 205 | B16: =A16*0.000000001 -> 2.05e-07 | C16: =2*$C$3*$C$2^2/$B16^5/(EXP($C$3*$C$2/$B16/$C$4/C$7)-1)/1000000000 -> 0.022747931 | D16: =IF(AND($A16<$J$4,$A16>$J$3),$C16,0) -> 0 | E16: =IF(AND($A16<$J$6,$A16>$J$5),$C16,0) -> 0 | F16: =IF(AND($A16<$J$8,$A16>$J$7),$C16,0) -> 0 | I16: y | J16: =J12/SUM(J$11:J$13) -> 0.40493877 | K16: =K12/SUM(K$11:K$13) -> 0.047342628 | L16: =L12/SUM(L$11:L$13) -> 0.58338217 | M16: =M12/SUM(M$11:M$13) -> 0.30735356
A17: 206 | B17: =A17*0.000000001 -> 2.06e-07 | C17: =2*$C$3*$C$2^2/$B17^5/(EXP($C$3*$C$2/$B17/$C$4/C$7)-1)/1000000000 -> 0.024871189 | D17: =IF(AND($A17<$J$4,$A17>$J$3),$C17,0) -> 0 | E17: =IF(AND($A17<$J$6,$A17>$J$5),$C17,0) -> 0 | F17: =IF(AND($A17<$J$8,$A17>$J$7),$C17,0) -> 0
A18: 207 | B18: =A18*0.000000001 -> 2.07e-07 | C18: =2*$C$3*$C$2^2/$B18^5/(EXP($C$3*$C$2/$B18/$C$4/C$7)-1)/1000000000 -> 0.027166008 | D18: =IF(AND($A18<$J$4,$A18>$J$3),$C18,0) -> 0 | E18: =IF(AND($A18<$J$6,$A18>$J$5),$C18,0) -> 0 | F18: =IF(AND($A18<$J$8,$A18>$J$7),$C18,0) -> 0 | I18: Rec.709
A19: 208 | B19: =A19*0.000000001 -> 2.08e-07 | C19: =2*$C$3*$C$2^2/$B19^5/(EXP($C$3*$C$2/$B19/$C$4/C$7)-1)/1000000000 -> 0.029643953 | D19: =IF(AND($A19<$J$4,$A19>$J$3),$C19,0) -> 0 | E19: =IF(AND($A19<$J$6,$A19>$J$5),$C19,0) -> 0 | F19: =IF(AND($A19<$J$8,$A19>$J$7),$C19,0) -> 0 | I19: x | J19: 0.3127 | K19: 0.15 | L19: 0.3 | M19: 0.64
A20: 209 | B20: =A20*0.000000001 -> 2.09e-07 | C20: =2*$C$3*$C$2^2/$B20^5/(EXP($C$3*$C$2/$B20/$C$4/C$7)-1)/1000000000 -> 0.032317196 | D20: =IF(AND($A20<$J$4,$A20>$J$3),$C20,0) -> 0 | E20: =IF(AND($A20<$J$6,$A20>$J$5),$C20,0) -> 0 | F20: =IF(AND($A20<$J$8,$A20>$J$7),$C20,0) -> 0 | I20: y | J20: 0.329 | K20: 0.06 | L20: 0.6 | M20: 0.33
A21: 210 | B21: =A21*0.000000001 -> 2.1e-07 | C21: =2*$C$3*$C$2^2/$B21^5/(EXP($C$3*$C$2/$B21/$C$4/C$7)-1)/1000000000 -> 0.03519854 | D21: =IF(AND($A21<$J$4,$A21>$J$3),$C21,0) -> 0 | E21: =IF(AND($A21<$J$6,$A21>$J$5),$C21,0) -> 0 | F21: =IF(AND($A21<$J$8,$A21>$J$7),$C21,0) -> 0
A22: 211 | B22: =A22*0.000000001 -> 2.11e-07 | C22: =2*$C$3*$C$2^2/$B22^5/(EXP($C$3*$C$2/$B22/$C$4/C$7)-1)/1000000000 -> 0.038301434 | D22: =IF(AND($A22<$J$4,$A22>$J$3),$C22,0) -> 0 | E22: =IF(AND($A22<$J$6,$A22>$J$5),$C22,0) -> 0 | F22: =IF(AND($A22<$J$8,$A22>$J$7),$C22,0) -> 0
A23: 212 | B23: =A23*0.000000001 -> 2.12e-07 | C23: =2*$C$3*$C$2^2/$B23^5/(EXP($C$3*$C$2/$B23/$C$4/C$7)-1)/1000000000 -> 0.041640002 | D23: =IF(AND($A23<$J$4,$A23>$J$3),$C23,0) -> 0 | E23: =IF(AND($A23<$J$6,$A23>$J$5),$C23,0) -> 0 | F23: =IF(AND($A23<$J$8,$A23>$J$7),$C23,0) -> 0
A24: 213 | B24: =A24*0.000000001 -> 2.13e-07 | C24: =2*$C$3*$C$2^2/$B24^5/(EXP($C$3*$C$2/$B24/$C$4/C$7)-1)/1000000000 -> 0.045229059 | D24: =IF(AND($A24<$J$4,$A24>$J$3),$C24,0) -> 0 | E24: =IF(AND($A24<$J$6,$A24>$J$5),$C24,0) -> 0 | F24: =IF(AND($A24<$J$8,$A24>$J$7),$C24,0) -> 0
A25: 214 | B25: =A25*0.000000001 -> 2.14e-07 | C25: =2*$C$3*$C$2^2/$B25^5/(EXP($C$3*$C$2/$B25/$C$4/C$7)-1)/1000000000 -> 0.049084137 | D25: =IF(AND($A25<$J$4,$A25>$J$3),$C25,0) -> 0 | E25: =IF(AND($A25<$J$6,$A25>$J$5),$C25,0) -> 0 | F25: =IF(AND($A25<$J$8,$A25>$J$7),$C25,0) -> 0
A26: 215 | B26: =A26*0.000000001 -> 2.15e-07 | C26: =2*$C$3*$C$2^2/$B26^5/(EXP($C$3*$C$2/$B26/$C$4/C$7)-1)/1000000000 -> 0.053221499 | D26: =IF(AND($A26<$J$4,$A26>$J$3),$C26,0) -> 0 | E26: =IF(AND($A26<$J$6,$A26>$J$5),$C26,0) -> 0 | F26: =IF(AND($A26<$J$8,$A26>$J$7),$C26,0) -> 0
A27: 216 | B27: =A27*0.000000001 -> 2.16e-07 | C27: =2*$C$3*$C$2^2/$B27^5/(EXP($C$3*$C$2/$B27/$C$4/C$7)-1)/1000000000 -> 0.057658172 | D27: =IF(AND($A27<$J$4,$A27>$J$3),$C27,0) -> 0 | E27: =IF(AND($A27<$J$6,$A27>$J$5),$C27,0) -> 0 | F27: =IF(AND($A27<$J$8,$A27>$J$7),$C27,0) -> 0
A28: 217 | B28: =A28*0.000000001 -> 2.17e-07 | C28: =2*$C$3*$C$2^2/$B28^5/(EXP($C$3*$C$2/$B28/$C$4/C$7)-1)/1000000000 -> 0.062411959 | D28: =IF(AND($A28<$J$4,$A28>$J$3),$C28,0) -> 0 | E28: =IF(AND($A28<$J$6,$A28>$J$5),$C28,0) -> 0 | F28: =IF(AND($A28<$J$8,$A28>$J$7),$C28,0) -> 0
A29: 218 | B29: =A29*0.000000001 -> 2.18e-07 | C29: =2*$C$3*$C$2^2/$B29^5/(EXP($C$3*$C$2/$B29/$C$4/C$7)-1)/1000000000 -> 0.067501464 | D29: =IF(AND($A29<$J$4,$A29>$J$3),$C29,0) -> 0 | E29: =IF(AND($A29<$J$6,$A29>$J$5),$C29,0) -> 0 | F29: =IF(AND($A29<$J$8,$A29>$J$7),$C29,0) -> 0
A30: 219 | B30: =A30*0.000000001 -> 2.19e-07 | C30: =2*$C$3*$C$2^2/$B30^5/(EXP($C$3*$C$2/$B30/$C$4/C$7)-1)/1000000000 -> 0.072946116 | D30: =IF(AND($A30<$J$4,$A30>$J$3),$C30,0) -> 0 | E30: =IF(AND($A30<$J$6,$A30>$J$5),$C30,0) -> 0 | F30: =IF(AND($A30<$J$8,$A30>$J$7),$C30,0) -> 0
A31: 220 | B31: =A31*0.000000001 -> 2.2e-07 | C31: =2*$C$3*$C$2^2/$B31^5/(EXP($C$3*$C$2/$B31/$C$4/C$7)-1)/1000000000 -> 0.078766187 | D31: =IF(AND($A31<$J$4,$A31>$J$3),$C31,0) -> 0 | E31: =IF(AND($A31<$J$6,$A31>$J$5),$C31,0) -> 0 | F31: =IF(AND($A31<$J$8,$A31>$J$7),$C31,0) -> 0
A32: 221 | B32: =A32*0.000000001 -> 2.21e-07 | C32: =2*$C$3*$C$2^2/$B32^5/(EXP($C$3*$C$2/$B32/$C$4/C$7)-1)/1000000000 -> 0.084982814 | D32: =IF(AND($A32<$J$4,$A32>$J$3),$C32,0) -> 0 | E32: =IF(AND($A32<$J$6,$A32>$J$5),$C32,0) -> 0 | F32: =IF(AND($A32<$J$8,$A32>$J$7),$C32,0) -> 0
... A2011: 2200 | B2011: =A2011*0.000000001 -> 2.2e-06 | C2011: =2*$C$3*$C$2^2/$B2011^5/(EXP($C$3*$C$2/$B2011/$C$4/C$7)-1)/1000000000 -> 294.55416 | D2011: =IF(AND($A2011<$J$4,$A2011>$J$3),$C2011,0) -> 0 | E2011: =IF(AND($A2011<$J$6,$A2011>$J$5),$C2011,0) -> 0 | F2011: =IF(AND($A2011<$J$8,$A2011>$J$7),$C2011,0) -> 0
