Workbook

Sheet Disk Sources
A1: Illuminance distributions | D1: r_S | E1: r_S | F1: r_S | G1: r_S | H1: r_S | M1: =D1 -> r_S | N1: =E1 -> r_S | O1: =F1 -> r_S | P1: =G1 -> r_S | Q1: =H1 -> r_S
A2: Simulations | C2: point source | D2: 1 | E2: 10 | F2: 50 | G2: 100 | H2: 1000 | J2: D | K2: 100 | L2: =C2 -> point source | M2: =D2 -> 1 | N2: =E2 -> 10 | O2: =F2 -> 50 | P2: =G2 -> 100 | Q2: =H2 -> 1000
A3: 99.1736 | C3: 2600.1637 | D3: 7412.4096 | E3: 7455.7785 | F3: 7818.3501 | G3: 8095.4141 | H3: 280.97717 | L3: 1000 | M3: 1000 | N3: 1000 | O3: 1000 | P3: 1000 | Q3: 1000
A4: 97.5207 | C4: 2798.564 | D4: 8013.0346 | E4: 8038.387 | F4: 8422.5112 | G4: 8705.6366 | H4: 303.06413
A5: 95.8678 | C5: 2993.2479 | D5: 8636.1934 | E5: 8636.6056 | F5: 9027.2587 | G5: 9281.4088 | H5: 322.87661 | J5: Sim | K5: E_0 | L5: =C63 -> 7958.2801 | M5: =D63 -> 31870.492 | N5: =E63 -> 31583.197 | O5: =F63 -> 25460.88 | P5: =G63 -> 15679.944 | Q5: =H63 -> 277.54284 | R5: 10M rays
A6: 94.2149 | C6: 3070.2159 | D6: 8935.6124 | E6: 8923.9641 | F6: 9305.0272 | G6: 9468.1412 | H6: 322.85036
A7: 92.562 | C7: 3147.5316 | D7: 9238.9347 | E7: 9244.6717 | F7: 9605.4743 | G7: 9646.9693 | H7: 319.45029 | J7: Formula | K7: E_0 | L7: =L3/4/PI()/$K$2^2*1000000 -> 7957.7472 | M7: =M3/PI()/$K$2^2*1000000 -> 31830.989 | N7: =N3/PI()/(N2^2+$K$2^2)*1000000 -> 31515.83 | O7: =O3/PI()/(O2^2+$K$2^2)*1000000 -> 25464.791 | P7: =P3/PI()/(P2^2+$K$2^2)*1000000 -> 15915.494 | Q7: =Q3/PI()/(Q2^2+$K$2^2)*1000000 -> 315.1583
A8: 90.9091 | C8: 3224.708 | D8: 9544.9969 | E8: 9563.7525 | F8: 9893.4617 | G8: 9837.5592 | H8: 313.7634
A9: 89.2562 | C9: 3303.677 | D9: 9865.3452 | E9: 9882.269 | F9: 10193.928 | G9: 10027.531 | H9: 310.82157
A10: 87.6033 | C10: 3386.6319 | D10: 10194.518 | E10: 10207.103 | F10: 10510.415 | G10: 10208.014 | H10: 311.80574
A11: 85.9504 | C11: 3470.8006 | D11: 10528.934 | E11: 10553.901 | F11: 10827.511 | G11: 10387.949 | H11: 315.60569
A12: 84.2975 | C12: 3556.4852 | D12: 10870.217 | E12: 10895.767 | F12: 11149.887 | G12: 10567.442 | H12: 316.48679
A13: 82.6446 | C13: 3644.8547 | D13: 11235.549 | E13: 11254.442 | F13: 11475.844 | G13: 10721.594 | H13: 314.97142
A14: 80.9917 | C14: 3735.5674 | D14: 11620.063 | E14: 11633.824 | F14: 11805.14 | G14: 10905.39 | H14: 313.52378
A15: 79.3388 | C15: 3826.5514 | D15: 11999.888 | E15: 12017.966 | F15: 12116.664 | G15: 11129.843 | H15: 312.87583
A16: 77.686 | C16: 3919.398 | D16: 12371.266 | E16: 12393.127 | F16: 12404.27 | G16: 11328.489 | H16: 314.84419
A17: 76.0331 | C17: 4014.8042 | D17: 12776.536 | E17: 12787.176 | F17: 12725.203 | G17: 11486.809 | H17: 317.1767 | J17: Formula | Q17: =Q3/(PI()*Q2)^2*1000000*PI() -> 318.30989
A18: 74.3802 | C18: 4112.0766 | D18: 13200.722 | E18: 13201.437 | F18: 13112.093 | G18: 11662.372 | H18: 315.59374
A19: 72.7273 | C19: 4210.3964 | D19: 13618.02 | E19: 13625.46 | F19: 13517.328 | G19: 11837.505 | H19: 312.39117
A20: 71.0744 | C20: 4309.7146 | D20: 14052.83 | E20: 14054.664 | F20: 13886.185 | G20: 12011.005 | H20: 314.3996
A21: 69.4215 | C21: 4410.6552 | D21: 14496.788 | E21: 14485.931 | F21: 14248.7 | G21: 12196.024 | H21: 320.63603
A22: 67.7686 | C22: 4513.0762 | D22: 14938.108 | E22: 14928 | F22: 14619.149 | G22: 12389.499 | H22: 322.33499
A23: 66.1157 | C23: 4617.5218 | D23: 15403.868 | E23: 15376.617 | F23: 14977.176 | G23: 12543.139 | H23: 318.63421 | J23: Formula | N23: =Diskring!I11 -> 25380.21 | P23: =Diskring!R11 -> 15894.804
A24: 64.4628 | C24: 4724.4839 | D24: 15888.634 | E24: 15848.944 | F24: 15316.773 | G24: 12669.289 | H24: 318.36461 | N24: Hottel | P24: Hottel
A25: 62.8099 | C25: 4832.5819 | D25: 16366.412 | E25: 16342.389 | F25: 15715.398 | G25: 12812.226 | H25: 321.05688
A26: 61.157 | C26: 4941.4404 | D26: 16861.144 | E26: 16833.185 | F26: 16131.002 | G26: 12966.469 | H26: 318.50778
A27: 59.5041 | C27: 5051.2608 | D27: 17373.766 | E27: 17349.483 | F27: 16534.075 | G27: 13117.03 | H27: 316.98425
A28: 57.8512 | C28: 5161.1617 | D28: 17872.245 | E28: 17880.329 | F28: 16924.78 | G28: 13267.373 | H28: 316.01034
A29: 56.1983 | C29: 5270.359 | D29: 18366.024 | E29: 18385.42 | F29: 17276.391 | G29: 13403.676 | H29: 315.11073
A30: 54.5455 | C30: 5383.2418 | D30: 18895.639 | E30: 18853.825 | F30: 17605.686 | G30: 13573.103 | H30: 313.10862
A31: 52.8926 | C31: 5497.3973 | D31: 19443.96 | E31: 19346.09 | F31: 17961.446 | G31: 13757.92 | H31: 314.32529
A32: 51.2397 | C32: 5609.5991 | D32: 19967.158 | E32: 19881.511 | F32: 18336.988 | G32: 13892.809 | H32: 314.789
A33: 49.5868 | C33: 5721.1202 | D33: 20485.318 | E33: 20434.454 | F33: 18748.778 | G33: 13991.077 | H33: 314.44196
A34: 47.9339 | C34: 5834.6837 | D34: 21024.009 | E34: 20972.289 | F34: 19142.678 | G34: 14120.127 | H34: 312.92209
A35: 46.281 | C35: 5945.678 | D35: 21593.073 | E35: 21495.083 | F35: 19481.621 | G35: 14255.255 | H35: 314.34372
A36: 44.6281 | C36: 6056.9771 | D36: 22147.473 | E36: 22034.276 | F36: 19805.294 | G36: 14370.136 | H36: 319.37222
... A62: 1.65289 | C62: 7954.7887 | D62: 31808.419 | E62: 31573.291 | F62: 25369.764 | G62: 15657.587 | H62: 283.1877
A63: 0 | B63: =-A63 -> 0 | C63: 7958.2801 | D63: 31870.492 | E63: 31583.197 | F63: 25460.88 | G63: 15679.944 | H63: 277.54284
A64: -1.65289 | B64: =-A64 -> 1.65289 | C64: 7954.7887 | D64: 31808.419 | E64: 31573.291 | F64: 25369.764 | G64: 15657.587 | H64: 283.1877
A65: -3.30579 | B65: =-A65 -> 3.30579 | C65: 7941.7809 | D65: 31771.516 | E65: 31512.274 | F65: 25234.716 | G65: 15819.117 | H65: 290.92744
A66: -4.95868 | B66: =-A66 -> 4.95868 | C66: 7920.204 | D66: 31707.409 | E66: 31473.966 | F66: 25214.333 | G66: 16052.972 | H66: 295.7629
A67: -6.61157 | B67: =-A67 -> 6.61157 | C67: 7898.5027 | D67: 31519.7 | E67: 31267.471 | F67: 25302.041 | G67: 16001.093 | H67: 305.03829
A68: -8.26446 | B68: =-A68 -> 8.26446 | C68: 7873.6324 | D68: 31317.194 | E68: 31097.283 | F68: 25332.199 | G68: 15892.088 | H68: 317.01917
A69: -9.91736 | B69: =-A69 -> 9.91736 | C69: 7837.7451 | D69: 31193.03 | E69: 30805.094 | F69: 25221.354 | G69: 15889.778 | H69: 324.57208
A70: -11.5702 | B70: =-A70 -> 11.5702 | C70: 7796.5873 | D70: 30969.693 | E70: 30490.882 | F70: 25063.402 | G70: 15842.504 | H70: 324.83266
A71: -13.2231 | B71: =-A71 -> 13.2231 | C71: 7751.6008 | D71: 30681.314 | E71: 30303.029 | F71: 24964.12 | G71: 15772.685 | H71: 313.52688
A72: -14.876 | B72: =-A72 -> 14.876 | C72: 7697.5869 | D72: 30418.485 | E72: 30152.867 | F72: 24836.661 | G72: 15753.936 | H72: 305.27738
A73: -16.5289 | B73: =-A73 -> 16.5289 | C73: 7639.4448 | D73: 30140.452 | E73: 29911.367 | F73: 24540.979 | G73: 15730.16 | H73: 317.43921
A74: -18.1818 | B74: =-A74 -> 18.1818 | C74: 7578.1894 | D74: 29818.451 | E74: 29633.09 | F74: 24278.907 | G74: 15698.93 | H74: 328.12545
... A123: -99.1736 | B123: =-A123 -> 99.1736 | C123: 2600.1637 | D123: 7412.4096 | E123: 7455.7785 | F123: 7818.3501 | G123: 8095.4141 | H123: 280.97717

Sheet Diskring
J2: Etendue of disk source and ring receiver
B4: r_S | C4: 50 | D4: disk | G4: Source | K4: r_S | L4: 100 | M4: disk | P4: Source
B5: D | C5: 100 | G5: U_disk | H5: =(PI()*C4)^2 -> 24674.011 | K5: D | L5: 100 | P5: U_disk | Q5: =(PI()*L4)^2 -> 98696.044
B6: Phi | C6: 1000 | G6: L_disk | H6: =C6/H5 -> 0.040528473 | I6: =H6*1000000 -> 40528.473 | K6: Phi | L6: =C6 -> 1000 | P6: L_disk | Q6: =L6/Q5 -> 0.010132118 | R6: =Q6*1000000 -> 10132.118
B7: DR | C7: 1 | K7: DR | L7: 1
C9: SQRT1 | D9: SQRT2 | E9: SQRT3 | F9: SQRT4 | G9: Ring | H9: Ring | L9: SQRT1 | M9: SQRT2 | N9: SQRT3 | O9: SQRT4 | P9: Ring | Q9: Ring
B10: R | C10: R+DR | D10: R+DR | E10: R-DR | F10: R-DR | G10: U | H10: A | I10: E(R) | K10: R | L10: R+DR | M10: R+DR | N10: R-DR | O10: R-DR | P10: U | Q10: A | R10: E(R)
B11: 0 | C11: =SQRT(($C$4+$B11+$C$7)^2+$C$5^2) -> 112.25418 | D11: =SQRT(($C$4-$B11-$C$7)^2+$C$5^2) -> 111.35978 | E11: =SQRT(($C$4+$B11-$C$7)^2+$C$5^2) -> 111.35978 | F11: =SQRT(($C$4-$B11+$C$7)^2+$C$5^2) -> 112.25418 | I11: =I12 -> 25380.21 | K11: =B11 -> 0 | L11: =SQRT(($L$4+$K11+$L$7)^2+$L$5^2) -> 142.13022 | M11: =SQRT(($L$4-$K11-$L$7)^2+$L$5^2) -> 140.71603 | N11: =SQRT(($L$4+$K11-$L$7)^2+$L$5^2) -> 140.71603 | O11: =SQRT(($L$4-$K11+$L$7)^2+$L$5^2) -> 142.13022 | R11: =R12 -> 15894.804
B12: 5 | C12: =SQRT(($C$4+$B12+$C$7)^2+$C$5^2) -> 114.61239 | D12: =SQRT(($C$4-$B12-$C$7)^2+$C$5^2) -> 109.252 | E12: =SQRT(($C$4+$B12-$C$7)^2+$C$5^2) -> 113.64858 | F12: =SQRT(($C$4-$B12+$C$7)^2+$C$5^2) -> 110.0727 | G12: =((C12-D12)^2-(E12-F12)^2)*PI()^2/4 -> 39.347291 | H12: =4*PI()*B12*$C$7 -> 62.831853 | I12: =$H$6*G12/H12*1000000 -> 25380.21 | K12: =B12 -> 5 | L12: =SQRT(($L$4+$K12+$L$7)^2+$L$5^2) -> 145.72577 | M12: =SQRT(($L$4-$K12-$L$7)^2+$L$5^2) -> 137.24431 | N12: =SQRT(($L$4+$K12-$L$7)^2+$L$5^2) -> 144.27751 | O12: =SQRT(($L$4-$K12+$L$7)^2+$L$5^2) -> 138.62179 | P12: =((L12-M12)^2-(N12-O12)^2)*PI()^2/4 -> 98.567739 | Q12: =4*PI()*K12*$L$7 -> 62.831853 | R12: =$Q$6*P12/Q12*1000000 -> 15894.804
B13: 10 | C13: =SQRT(($C$4+$B13+$C$7)^2+$C$5^2) -> 117.13667 | D13: =SQRT(($C$4-$B13-$C$7)^2+$C$5^2) -> 107.33592 | E13: =SQRT(($C$4+$B13-$C$7)^2+$C$5^2) -> 116.10771 | F13: =SQRT(($C$4-$B13+$C$7)^2+$C$5^2) -> 108.07868 | G13: =((C13-D13)^2-(E13-F13)^2)*PI()^2/4 -> 77.943573 | H13: =4*PI()*B13*$C$7 -> 125.66371 | I13: =$H$6*G13/H13*1000000 -> 25137.998 | K13: =B13 -> 10 | L13: =SQRT(($L$4+$K13+$L$7)^2+$L$5^2) -> 149.40214 | M13: =SQRT(($L$4-$K13-$L$7)^2+$L$5^2) -> 133.86934 | N13: =SQRT(($L$4+$K13-$L$7)^2+$L$5^2) -> 147.92228 | O13: =SQRT(($L$4-$K13+$L$7)^2+$L$5^2) -> 135.20725 | P13: =((L13-M13)^2-(N13-O13)^2)*PI()^2/4 -> 196.39527 | Q13: =4*PI()*K13*$L$7 -> 125.66371 | R13: =$Q$6*P13/Q13*1000000 -> 15835.122
B14: 15 | C14: =SQRT(($C$4+$B14+$C$7)^2+$C$5^2) -> 119.81653 | D14: =SQRT(($C$4-$B14-$C$7)^2+$C$5^2) -> 105.62197 | E14: =SQRT(($C$4+$B14-$C$7)^2+$C$5^2) -> 118.72658 | F14: =SQRT(($C$4-$B14+$C$7)^2+$C$5^2) -> 106.28264 | G14: =((C14-D14)^2-(E14-F14)^2)*PI()^2/4 -> 115.06478 | H14: =4*PI()*B14*$C$7 -> 188.49556 | I14: =$H$6*G14/H14*1000000 -> 24740.104 | K14: =B14 -> 15 | L14: =SQRT(($L$4+$K14+$L$7)^2+$L$5^2) -> 153.15352 | M14: =SQRT(($L$4-$K14-$L$7)^2+$L$5^2) -> 130.59862 | N14: =SQRT(($L$4+$K14-$L$7)^2+$L$5^2) -> 151.64432 | O14: =SQRT(($L$4-$K14+$L$7)^2+$L$5^2) -> 131.8939 | P14: =((L14-M14)^2-(N14-O14)^2)*PI()^2/4 -> 292.74255 | Q14: =4*PI()*K14*$L$7 -> 188.49556 | R14: =$Q$6*P14/Q14*1000000 -> 15735.661
B15: 20 | C15: =SQRT(($C$4+$B15+$C$7)^2+$C$5^2) -> 122.64175 | D15: =SQRT(($C$4-$B15-$C$7)^2+$C$5^2) -> 104.12012 | E15: =SQRT(($C$4+$B15-$C$7)^2+$C$5^2) -> 121.49486 | F15: =SQRT(($C$4-$B15+$C$7)^2+$C$5^2) -> 104.69479 | G15: =((C15-D15)^2-(E15-F15)^2)*PI()^2/4 -> 150.03966 | H15: =4*PI()*B15*$C$7 -> 251.32741 | I15: =$H$6*G15/H15*1000000 -> 24195.046 | K15: =B15 -> 20 | L15: =SQRT(($L$4+$K15+$L$7)^2+$L$5^2) -> 156.97452 | M15: =SQRT(($L$4-$K15-$L$7)^2+$L$5^2) -> 127.44018 | N15: =SQRT(($L$4+$K15-$L$7)^2+$L$5^2) -> 155.43809 | O15: =SQRT(($L$4-$K15+$L$7)^2+$L$5^2) -> 128.68955 | P15: =((L15-M15)^2-(N15-O15)^2)*PI()^2/4 -> 386.87036 | Q15: =4*PI()*K15*$L$7 -> 251.32741 | R15: =$Q$6*P15/Q15*1000000 -> 15596.453
B16: 25 | C16: =SQRT(($C$4+$B16+$C$7)^2+$C$5^2) -> 125.60255 | D16: =SQRT(($C$4-$B16-$C$7)^2+$C$5^2) -> 102.83968 | E16: =SQRT(($C$4+$B16-$C$7)^2+$C$5^2) -> 124.40257 | F16: =SQRT(($C$4-$B16+$C$7)^2+$C$5^2) -> 103.32473 | G16: =((C16-D16)^2-(E16-F16)^2)*PI()^2/4 -> 182.27358 | H16: =4*PI()*B16*$C$7 -> 314.15927 | I16: =$H$6*G16/H16*1000000 -> 23514.41 | K16: =B16 -> 25 | L16: =SQRT(($L$4+$K16+$L$7)^2+$L$5^2) -> 160.86019 | M16: =SQRT(($L$4-$K16-$L$7)^2+$L$5^2) -> 124.40257 | N16: =SQRT(($L$4+$K16-$L$7)^2+$L$5^2) -> 159.29846 | O16: =SQRT(($L$4-$K16+$L$7)^2+$L$5^2) -> 125.60255 | P16: =((L16-M16)^2-(N16-O16)^2)*PI()^2/4 -> 478.0419 | Q16: =4*PI()*K16*$L$7 -> 314.15927 | R16: =$Q$6*P16/Q16*1000000 -> 15417.585
B17: 30 | C17: =SQRT(($C$4+$B17+$C$7)^2+$C$5^2) -> 128.68955 | D17: =SQRT(($C$4-$B17-$C$7)^2+$C$5^2) -> 101.789 | E17: =SQRT(($C$4+$B17-$C$7)^2+$C$5^2) -> 127.44018 | F17: =SQRT(($C$4-$B17+$C$7)^2+$C$5^2) -> 102.18121 | G17: =((C17-D17)^2-(E17-F17)^2)*PI()^2/4 -> 211.26895 | H17: =4*PI()*B17*$C$7 -> 376.99112 | I17: =$H$6*G17/H17*1000000 -> 22712.493 | K17: =B17 -> 30 | L17: =SQRT(($L$4+$K17+$L$7)^2+$L$5^2) -> 164.80595 | M17: =SQRT(($L$4-$K17-$L$7)^2+$L$5^2) -> 121.49486 | N17: =SQRT(($L$4+$K17-$L$7)^2+$L$5^2) -> 163.22071 | O17: =SQRT(($L$4-$K17+$L$7)^2+$L$5^2) -> 122.64175 | P17: =((L17-M17)^2-(N17-O17)^2)*PI()^2/4 -> 565.52587 | Q17: =4*PI()*K17*$L$7 -> 376.99112 | R17: =$Q$6*P17/Q17*1000000 -> 15199.231
B18: 35 | C18: =SQRT(($C$4+$B18+$C$7)^2+$C$5^2) -> 131.8939 | D18: =SQRT(($C$4-$B18-$C$7)^2+$C$5^2) -> 100.97524 | E18: =SQRT(($C$4+$B18-$C$7)^2+$C$5^2) -> 130.59862 | F18: =SQRT(($C$4-$B18+$C$7)^2+$C$5^2) -> 101.27191 | G18: =((C18-D18)^2-(E18-F18)^2)*PI()^2/4 -> 236.6413 | H18: =4*PI()*B18*$C$7 -> 439.82297 | I18: =$H$6*G18/H18*1000000 -> 21805.843 | K18: =B18 -> 35 | L18: =SQRT(($L$4+$K18+$L$7)^2+$L$5^2) -> 168.80758 | M18: =SQRT(($L$4-$K18-$L$7)^2+$L$5^2) -> 118.72658 | N18: =SQRT(($L$4+$K18-$L$7)^2+$L$5^2) -> 167.20048 | O18: =SQRT(($L$4-$K18+$L$7)^2+$L$5^2) -> 119.81653 | P18: =((L18-M18)^2-(N18-O18)^2)*PI()^2/4 -> 648.60144 | Q18: =4*PI()*K18*$L$7 -> 439.82297 | R18: =$Q$6*P18/Q18*1000000 -> 14941.708
B19: 40 | C19: =SQRT(($C$4+$B19+$C$7)^2+$C$5^2) -> 135.20725 | D19: =SQRT(($C$4-$B19-$C$7)^2+$C$5^2) -> 100.40418 | E19: =SQRT(($C$4+$B19-$C$7)^2+$C$5^2) -> 133.86934 | F19: =SQRT(($C$4-$B19+$C$7)^2+$C$5^2) -> 100.60318 | G19: =((C19-D19)^2-(E19-F19)^2)*PI()^2/4 -> 258.12975 | H19: =4*PI()*B19*$C$7 -> 502.65482 | I19: =$H$6*G19/H19*1000000 -> 20812.701 | K19: =B19 -> 40 | L19: =SQRT(($L$4+$K19+$L$7)^2+$L$5^2) -> 172.86122 | M19: =SQRT(($L$4-$K19-$L$7)^2+$L$5^2) -> 116.10771 | N19: =SQRT(($L$4+$K19-$L$7)^2+$L$5^2) -> 171.23376 | O19: =SQRT(($L$4-$K19+$L$7)^2+$L$5^2) -> 117.13667 | P19: =((L19-M19)^2-(N19-O19)^2)*PI()^2/4 -> 726.56544 | Q19: =4*PI()*K19*$L$7 -> 502.65482 | R19: =$Q$6*P19/Q19*1000000 -> 14645.532
B20: 45 | C20: =SQRT(($C$4+$B20+$C$7)^2+$C$5^2) -> 138.62179 | D20: =SQRT(($C$4-$B20-$C$7)^2+$C$5^2) -> 100.07997 | E20: =SQRT(($C$4+$B20-$C$7)^2+$C$5^2) -> 137.24431 | F20: =SQRT(($C$4-$B20+$C$7)^2+$C$5^2) -> 100.17984 | G20: =((C20-D20)^2-(E20-F20)^2)*PI()^2/4 -> 275.60121 | H20: =4*PI()*B20*$C$7 -> 565.48668 | I20: =$H$6*G20/H20*1000000 -> 19752.36 | K20: =B20 -> 45 | L20: =SQRT(($L$4+$K20+$L$7)^2+$L$5^2) -> 176.96327 | M20: =SQRT(($L$4-$K20-$L$7)^2+$L$5^2) -> 113.64858 | N20: =SQRT(($L$4+$K20-$L$7)^2+$L$5^2) -> 175.31686 | O20: =SQRT(($L$4-$K20+$L$7)^2+$L$5^2) -> 114.61239 | P20: =((L20-M20)^2-(N20-O20)^2)*PI()^2/4 -> 798.74226 | Q20: =4*PI()*K20*$L$7 -> 565.48668 | R20: =$Q$6*P20/Q20*1000000 -> 14311.48
B21: 50 | C21: =SQRT(($C$4+$B21+$C$7)^2+$C$5^2) -> 142.13022 | D21: =SQRT(($C$4-$B21-$C$7)^2+$C$5^2) -> 100.005 | E21: =SQRT(($C$4+$B21-$C$7)^2+$C$5^2) -> 140.71603 | F21: =SQRT(($C$4-$B21+$C$7)^2+$C$5^2) -> 100.005 | G21: =((C21-D21)^2-(E21-F21)^2)*PI()^2/4 -> 289.04785 | H21: =4*PI()*B21*$C$7 -> 628.31853 | I21: =$H$6*G21/H21*1000000 -> 18644.473 | K21: =B21 -> 50 | L21: =SQRT(($L$4+$K21+$L$7)^2+$L$5^2) -> 181.11046 | M21: =SQRT(($L$4-$K21-$L$7)^2+$L$5^2) -> 111.35978 | N21: =SQRT(($L$4+$K21-$L$7)^2+$L$5^2) -> 179.44637 | O21: =SQRT(($L$4-$K21+$L$7)^2+$L$5^2) -> 112.25418 | P21: =((L21-M21)^2-(N21-O21)^2)*PI()^2/4 -> 864.49633 | Q21: =4*PI()*K21*$L$7 -> 628.31853 | R21: =$Q$6*P21/Q21*1000000 -> 13940.667
B22: 55 | C22: =SQRT(($C$4+$B22+$C$7)^2+$C$5^2) -> 145.72577 | D22: =SQRT(($C$4-$B22-$C$7)^2+$C$5^2) -> 100.17984 | E22: =SQRT(($C$4+$B22-$C$7)^2+$C$5^2) -> 144.27751 | F22: =SQRT(($C$4-$B22+$C$7)^2+$C$5^2) -> 100.07997 | G22: =((C22-D22)^2-(E22-F22)^2)*PI()^2/4 -> 298.57807 | H22: =4*PI()*B22*$C$7 -> 691.15038 | I22: =$H$6*G22/H22*1000000 -> 17508.365 | K22: =B22 -> 55 | L22: =SQRT(($L$4+$K22+$L$7)^2+$L$5^2) -> 185.29976 | M22: =SQRT(($L$4-$K22-$L$7)^2+$L$5^2) -> 109.252 | N22: =SQRT(($L$4+$K22-$L$7)^2+$L$5^2) -> 183.61917 | O22: =SQRT(($L$4-$K22+$L$7)^2+$L$5^2) -> 110.0727 | P22: =((L22-M22)^2-(N22-O22)^2)*PI()^2/4 -> 923.24742 | Q22: =4*PI()*K22*$L$7 -> 691.15038 | R22: =$Q$6*P22/Q22*1000000 -> 13534.612
B23: 60 | C23: =SQRT(($C$4+$B23+$C$7)^2+$C$5^2) -> 149.40214 | D23: =SQRT(($C$4-$B23-$C$7)^2+$C$5^2) -> 100.60318 | E23: =SQRT(($C$4+$B23-$C$7)^2+$C$5^2) -> 147.92228 | F23: =SQRT(($C$4-$B23+$C$7)^2+$C$5^2) -> 100.40418 | G23: =((C23-D23)^2-(E23-F23)^2)*PI()^2/4 -> 304.40171 | H23: =4*PI()*B23*$C$7 -> 753.98224 | I23: =$H$6*G23/H23*1000000 -> 16362.37 | K23: =B23 -> 60 | L23: =SQRT(($L$4+$K23+$L$7)^2+$L$5^2) -> 189.52836 | M23: =SQRT(($L$4-$K23-$L$7)^2+$L$5^2) -> 107.33592 | N23: =SQRT(($L$4+$K23-$L$7)^2+$L$5^2) -> 187.83237 | O23: =SQRT(($L$4-$K23+$L$7)^2+$L$5^2) -> 108.07868 | P23: =((L23-M23)^2-(N23-O23)^2)*PI()^2/4 -> 974.48802 | Q23: =4*PI()*K23*$L$7 -> 753.98224 | R23: =$Q$6*P23/Q23*1000000 -> 13095.306
... B36: 125 | C36: =SQRT(($C$4+$B36+$C$7)^2+$C$5^2) -> 202.42529 | D36: =SQRT(($C$4-$B36-$C$7)^2+$C$5^2) -> 125.60255 | E36: =SQRT(($C$4+$B36-$C$7)^2+$C$5^2) -> 200.68881 | F36: =SQRT(($C$4-$B36+$C$7)^2+$C$5^2) -> 124.40257 | G36: =((C36-D36)^2-(E36-F36)^2)*PI()^2/4 -> 202.68178 | H36: =4*PI()*B36*$C$7 -> 1570.7963 | I36: =$H$6*G36/H36*1000000 -> 5229.4386 | K36: =B36 -> 125 | L36: =SQRT(($L$4+$K36+$L$7)^2+$L$5^2) -> 247.13559 | M36: =SQRT(($L$4-$K36-$L$7)^2+$L$5^2) -> 103.32473 | N36: =SQRT(($L$4+$K36-$L$7)^2+$L$5^2) -> 245.30797 | O36: =SQRT(($L$4-$K36+$L$7)^2+$L$5^2) -> 102.83968 | P36: =((L36-M36)^2-(N36-O36)^2)*PI()^2/4 -> 948.34571 | Q36: =4*PI()*K36*$L$7 -> 1570.7963 | R36: =$Q$6*P36/Q36*1000000 -> 6117.1208

Sheet Comp to cos4
B2: r_S | C2: =Diskring!C4 -> 50 | G2: =Diskring!L4 -> 100
B3: D | C3: =Diskring!C5 -> 100 | G3: =Diskring!L5 -> 100
B4: Phi | C4: =Diskring!C6 -> 1000 | G4: =Diskring!L6 -> 1000
C6: Formula | D6: Formula | G6: Formula | H6: Formula
C7: E0 cos4 | D7: Diskring | E7: Sim | G7: E0 cos4 | H7: Diskring | I7: Sim
B8: R | C8: E | D8: E | E8: E | G8: E | H8: E | I8: E | J8: R
B9: 0 | C9: =$C$4/PI()/($C$2^2+$C$3^2)*($C$3^2/($C$3^2+B9^2))^2*1000000 -> 25464.791 | D9: =Diskring!I11 -> 25380.21 | E9: =LOOKUP(B9,'Disk Sources'!B63:B123,'Disk Sources'!F63:F123) -> 25460.88 | G9: =$G$4/PI()/($G$2^2+$G$3^2)*($G$3^2/($G$3^2+J9^2))^2*1000000 -> 15915.494 | H9: =Diskring!R11 -> 15894.804 | I9: =LOOKUP(J9,'Disk Sources'!$B$63:$B$123,'Disk Sources'!$G$63:G123) -> 15679.944 | J9: =B9 -> 0
B10: 5 | C10: =$C$4/PI()/($C$2^2+$C$3^2)*($C$3^2/($C$3^2+B10^2))^2*1000000 -> 25337.943 | D10: =Diskring!I12 -> 25380.21 | E10: =LOOKUP(B10,'Disk Sources'!B64:B124,'Disk Sources'!F64:F124) -> 25214.333 | G10: =$G$4/PI()/($G$2^2+$G$3^2)*($G$3^2/($G$3^2+J10^2))^2*1000000 -> 15836.214 | H10: =Diskring!R12 -> 15894.804 | I10: =LOOKUP(J10,'Disk Sources'!$B$63:$B$123,'Disk Sources'!$G$63:G124) -> 16052.972 | J10: =B10 -> 5
B11: 10 | C11: =$C$4/PI()/($C$2^2+$C$3^2)*($C$3^2/($C$3^2+B11^2))^2*1000000 -> 24963.034 | D11: =Diskring!I13 -> 25137.998 | E11: =LOOKUP(B11,'Disk Sources'!B65:B125,'Disk Sources'!F65:F125) -> 25221.354 | G11: =$G$4/PI()/($G$2^2+$G$3^2)*($G$3^2/($G$3^2+J11^2))^2*1000000 -> 15601.896 | H11: =Diskring!R13 -> 15835.122 | I11: =LOOKUP(J11,'Disk Sources'!$B$63:$B$123,'Disk Sources'!$G$63:G125) -> 15889.778 | J11: =B11 -> 10
B12: 15 | C12: =$C$4/PI()/($C$2^2+$C$3^2)*($C$3^2/($C$3^2+B12^2))^2*1000000 -> 24356.421 | D12: =Diskring!I14 -> 24740.104 | E12: =LOOKUP(B12,'Disk Sources'!B66:B126,'Disk Sources'!F66:F126) -> 24836.661 | G12: =$G$4/PI()/($G$2^2+$G$3^2)*($G$3^2/($G$3^2+J12^2))^2*1000000 -> 15222.763 | H12: =Diskring!R14 -> 15735.661 | I12: =LOOKUP(J12,'Disk Sources'!$B$63:$B$123,'Disk Sources'!$G$63:G126) -> 15753.936 | J12: =B12 -> 15
B13: 20 | C13: =$C$4/PI()/($C$2^2+$C$3^2)*($C$3^2/($C$3^2+B13^2))^2*1000000 -> 23543.631 | D13: =Diskring!I15 -> 24195.046 | E13: =LOOKUP(B13,'Disk Sources'!B67:B127,'Disk Sources'!F67:F127) -> 24168.003 | G13: =$G$4/PI()/($G$2^2+$G$3^2)*($G$3^2/($G$3^2+J13^2))^2*1000000 -> 14714.769 | H13: =Diskring!R15 -> 15596.453 | I13: =LOOKUP(J13,'Disk Sources'!$B$63:$B$123,'Disk Sources'!$G$63:G127) -> 15627.326 | J13: =B13 -> 20
B14: 25 | C14: =$C$4/PI()/($C$2^2+$C$3^2)*($C$3^2/($C$3^2+B14^2))^2*1000000 -> 22557.047 | D14: =Diskring!I16 -> 23514.41 | E14: =LOOKUP(B14,'Disk Sources'!B68:B128,'Disk Sources'!F68:F128) -> 23495.158 | G14: =$G$4/PI()/($G$2^2+$G$3^2)*($G$3^2/($G$3^2+J14^2))^2*1000000 -> 14098.154 | H14: =Diskring!R16 -> 15417.585 | I14: =LOOKUP(J14,'Disk Sources'!$B$63:$B$123,'Disk Sources'!$G$63:G128) -> 15397.731 | J14: =B14 -> 25
B15: 30 | C15: =$C$4/PI()/($C$2^2+$C$3^2)*($C$3^2/($C$3^2+B15^2))^2*1000000 -> 21433.205 | D15: =Diskring!I17 -> 22712.493 | E15: =LOOKUP(B15,'Disk Sources'!B69:B129,'Disk Sources'!F69:F129) -> 22689.844 | G15: =$G$4/PI()/($G$2^2+$G$3^2)*($G$3^2/($G$3^2+J15^2))^2*1000000 -> 13395.753 | H15: =Diskring!R17 -> 15199.231 | I15: =LOOKUP(J15,'Disk Sources'!$B$63:$B$123,'Disk Sources'!$G$63:G129) -> 15179.129 | J15: =B15 -> 30
B16: 35 | C16: =$C$4/PI()/($C$2^2+$C$3^2)*($C$3^2/($C$3^2+B16^2))^2*1000000 -> 20210.051 | D16: =Diskring!I18 -> 21805.843 | E16: =LOOKUP(B16,'Disk Sources'!B70:B130,'Disk Sources'!F70:F130) -> 21941.761 | G16: =$G$4/PI()/($G$2^2+$G$3^2)*($G$3^2/($G$3^2+J16^2))^2*1000000 -> 12631.282 | H16: =Diskring!R18 -> 14941.708 | I16: =LOOKUP(J16,'Disk Sources'!$B$63:$B$123,'Disk Sources'!$G$63:G130) -> 14941.915 | J16: =B16 -> 35
B17: 40 | C17: =$C$4/PI()/($C$2^2+$C$3^2)*($C$3^2/($C$3^2+B17^2))^2*1000000 -> 18924.488 | D17: =Diskring!I19 -> 20812.701 | E17: =LOOKUP(B17,'Disk Sources'!B71:B131,'Disk Sources'!F71:F131) -> 20872.708 | G17: =$G$4/PI()/($G$2^2+$G$3^2)*($G$3^2/($G$3^2+J17^2))^2*1000000 -> 11827.805 | H17: =Diskring!R19 -> 14645.532 | I17: =LOOKUP(J17,'Disk Sources'!$B$63:$B$123,'Disk Sources'!$G$63:G131) -> 14651.857 | J17: =B17 -> 40
B18: 45 | C18: =$C$4/PI()/($C$2^2+$C$3^2)*($C$3^2/($C$3^2+B18^2))^2*1000000 -> 17610.429 | D18: =Diskring!I20 -> 19752.36 | E18: =LOOKUP(B18,'Disk Sources'!B72:B132,'Disk Sources'!F72:F132) -> 19805.294 | G18: =$G$4/PI()/($G$2^2+$G$3^2)*($G$3^2/($G$3^2+J18^2))^2*1000000 -> 11006.518 | H18: =Diskring!R20 -> 14311.48 | I18: =LOOKUP(J18,'Disk Sources'!$B$63:$B$123,'Disk Sources'!$G$63:G132) -> 14370.136 | J18: =B18 -> 45
B19: 50 | C19: =$C$4/PI()/($C$2^2+$C$3^2)*($C$3^2/($C$3^2+B19^2))^2*1000000 -> 16297.466 | D19: =Diskring!I21 -> 18644.473 | E19: =LOOKUP(B19,'Disk Sources'!B73:B133,'Disk Sources'!F73:F133) -> 18748.778 | G19: =$G$4/PI()/($G$2^2+$G$3^2)*($G$3^2/($G$3^2+J19^2))^2*1000000 -> 10185.916 | H19: =Diskring!R21 -> 13940.667 | I19: =LOOKUP(J19,'Disk Sources'!$B$63:$B$123,'Disk Sources'!$G$63:G133) -> 13991.077 | J19: =B19 -> 50
B20: 55 | C20: =$C$4/PI()/($C$2^2+$C$3^2)*($C$3^2/($C$3^2+B20^2))^2*1000000 -> 15010.137 | D20: =Diskring!I22 -> 17508.365 | E20: =LOOKUP(B20,'Disk Sources'!B74:B134,'Disk Sources'!F74:F134) -> 17605.686 | G20: =$G$4/PI()/($G$2^2+$G$3^2)*($G$3^2/($G$3^2+J20^2))^2*1000000 -> 9381.3355 | H20: =Diskring!R22 -> 13534.612 | I20: =LOOKUP(J20,'Disk Sources'!$B$63:$B$123,'Disk Sources'!$G$63:G134) -> 13573.103 | J20: =B20 -> 55
... B29: 100 | C29: =$C$4/PI()/($C$2^2+$C$3^2)*($C$3^2/($C$3^2+B29^2))^2*1000000 -> 6366.1977 | D29: =Diskring!I31 -> 8387.7944 | E29: =LOOKUP(B29,'Disk Sources'!B83:B143,'Disk Sources'!F83:F143) -> 7818.3501 | G29: =$G$4/PI()/($G$2^2+$G$3^2)*($G$3^2/($G$3^2+J29^2))^2*1000000 -> 3978.8736 | H29: =Diskring!R31 -> 8797.5272 | I29: =LOOKUP(J29,'Disk Sources'!$B$63:$B$123,'Disk Sources'!$G$63:G143) -> 8095.4141 | J29: =B29 -> 100
B30: 105 | C30: =$C$4/PI()/($C$2^2+$C$3^2)*($C$3^2/($C$3^2+B30^2))^2*1000000 -> 5760.6051 | D30: =Diskring!I32 -> 7640.9819 | G30: =$G$4/PI()/($G$2^2+$G$3^2)*($G$3^2/($G$3^2+J30^2))^2*1000000 -> 3600.3782 | H30: =Diskring!R32 -> 8231.8611 | J30: =B30 -> 105
B31: 110 | C31: =$C$4/PI()/($C$2^2+$C$3^2)*($C$3^2/($C$3^2+B31^2))^2*1000000 -> 5213.8144 | D31: =Diskring!I33 -> 6954.3032 | G31: =$G$4/PI()/($G$2^2+$G$3^2)*($G$3^2/($G$3^2+J31^2))^2*1000000 -> 3258.634 | H31: =Diskring!R33 -> 7676.8002 | J31: =B31 -> 110
B32: 115 | C32: =$C$4/PI()/($C$2^2+$C$3^2)*($C$3^2/($C$3^2+B32^2))^2*1000000 -> 4720.942 | D32: =Diskring!I34 -> 6325.4966 | G32: =$G$4/PI()/($G$2^2+$G$3^2)*($G$3^2/($G$3^2+J32^2))^2*1000000 -> 2950.5888 | H32: =Diskring!R34 -> 7136.8315 | J32: =B32 -> 115
B33: 120 | C33: =$C$4/PI()/($C$2^2+$C$3^2)*($C$3^2/($C$3^2+B33^2))^2*1000000 -> 4277.2089 | D33: =Diskring!I35 -> 5751.6524 | G33: =$G$4/PI()/($G$2^2+$G$3^2)*($G$3^2/($G$3^2+J33^2))^2*1000000 -> 2673.2556 | H33: =Diskring!R35 -> 6615.8609 | J33: =B33 -> 120
B34: 125 | C34: =$C$4/PI()/($C$2^2+$C$3^2)*($C$3^2/($C$3^2+B34^2))^2*1000000 -> 3878.0407 | D34: =Diskring!I36 -> 5229.4386 | G34: =$G$4/PI()/($G$2^2+$G$3^2)*($G$3^2/($G$3^2+J34^2))^2*1000000 -> 2423.7755 | H34: =Diskring!R36 -> 6117.1208 | J34: =B34 -> 125
D39: The diskring formula is much better than the mere cos^4 distribution.

Sheet Ringring
B2: r_S | C2: 220 | D2: disk | K2: r_S | L2: 180 | M2: disk
B3: D | C3: 100 | D3: distance | G3: U_disk | H3: =(PI()*C2)^2 -> 477688.85 | K3: D | L3: =C3 -> 100 | P3: U_disk | Q3: =(PI()*L2)^2 -> 319775.18
B4: Phi | C4: 302 | G4: L_disk | H4: =C4/H3 -> 0.00063221069 | K4: Phi | L4: 202 | P4: L_disk | Q4: =L4/Q3 -> 0.0006316938
B5: DR | C5: 1 | K5: DR | L5: =C5 -> 1
C7: SQRT1 | D7: SQRT2 | E7: SQRT3 | F7: SQRT4 | L7: SQRT1 | M7: SQRT2 | N7: SQRT3 | O7: SQRT4
B8: R | C8: R+DR | D8: R+DR | E8: R-DR | F8: R-DR | G8: U | H8: A | I8: E(R) | K8: R | L8: R+DR | M8: R+DR | N8: R-DR | O8: R-DR | P8: U | Q8: A | R8: E(R) | S8: Difference
B9: 0 | C9: =SQRT(($C$2+$B9+$C$5)^2+$C$3^2) -> 242.57164 | D9: =SQRT(($C$2-$B9-$C$5)^2+$C$3^2) -> 240.75091 | E9: =SQRT(($C$2+$B9-$C$5)^2+$C$3^2) -> 240.75091 | F9: =SQRT(($C$2-$B9+$C$5)^2+$C$3^2) -> 242.57164 | K9: 0 | L9: =SQRT(($L$2+$K9+$L$5)^2+$L$3^2) -> 206.78733 | M9: =SQRT(($L$2-$K9-$L$5)^2+$L$3^2) -> 205.03902 | N9: =SQRT(($L$2+$K9-$L$5)^2+$L$3^2) -> 205.03902 | O9: =SQRT(($L$2-$K9+$L$5)^2+$L$3^2) -> 206.78733 | S9: =S10 -> 129.06932
B10: 10 | C10: =SQRT(($C$2+$B10+$C$5)^2+$C$3^2) -> 251.71611 | D10: =SQRT(($C$2-$B10-$C$5)^2+$C$3^2) -> 231.69161 | E10: =SQRT(($C$2+$B10-$C$5)^2+$C$3^2) -> 249.88197 | F10: =SQRT(($C$2-$B10+$C$5)^2+$C$3^2) -> 233.49732 | G10: =((C10-D10)^2-(E10-F10)^2)*PI()^2/4 -> 326.99003 | H10: =4*PI()*B10*$C$5 -> 125.66371 | I10: =$H$4*G10/H10*1000000 -> 1645.0779 | K10: 10 | L10: =SQRT(($L$2+$K10+$L$5)^2+$L$3^2) -> 215.59453 | M10: =SQRT(($L$2-$K10-$L$5)^2+$L$3^2) -> 196.36955 | N10: =SQRT(($L$2+$K10-$L$5)^2+$L$3^2) -> 213.82469 | O10: =SQRT(($L$2-$K10+$L$5)^2+$L$3^2) -> 198.09341 | P10: =((L10-M10)^2-(N10-O10)^2)*PI()^2/4 -> 301.33508 | Q10: =4*PI()*K10*$C$5 -> 125.66371 | R10: =$H$4*P10/Q10*1000000 -> 1516.0086 | S10: =I10-R10 -> 129.06932
B11: 20 | C11: =SQRT(($C$2+$B11+$C$5)^2+$C$3^2) -> 260.92336 | D11: =SQRT(($C$2-$B11-$C$5)^2+$C$3^2) -> 222.71282 | E11: =SQRT(($C$2+$B11-$C$5)^2+$C$3^2) -> 259.07721 | F11: =SQRT(($C$2-$B11+$C$5)^2+$C$3^2) -> 224.50167 | G11: =((C11-D11)^2-(E11-F11)^2)*PI()^2/4 -> 652.81903 | H11: =4*PI()*B11*$C$5 -> 251.32741 | I11: =$H$4*G11/H11*1000000 -> 1642.1574 | K11: 20 | L11: =SQRT(($L$2+$K11+$L$5)^2+$L$3^2) -> 224.50167 | M11: =SQRT(($L$2-$K11-$L$5)^2+$L$3^2) -> 187.83237 | N11: =SQRT(($L$2+$K11-$L$5)^2+$L$3^2) -> 222.71282 | O11: =SQRT(($L$2-$K11+$L$5)^2+$L$3^2) -> 189.52836 | P11: =((L11-M11)^2-(N11-O11)^2)*PI()^2/4 -> 600.63751 | Q11: =4*PI()*K11*$C$5 -> 251.32741 | R11: =$H$4*P11/Q11*1000000 -> 1510.8955 | S11: =I11-R11 -> 131.26192
B12: 30 | C12: =SQRT(($C$2+$B12+$C$5)^2+$C$3^2) -> 270.18697 | D12: =SQRT(($C$2-$B12-$C$5)^2+$C$3^2) -> 213.82469 | E12: =SQRT(($C$2+$B12-$C$5)^2+$C$3^2) -> 268.33002 | F12: =SQRT(($C$2-$B12+$C$5)^2+$C$3^2) -> 215.59453 | G12: =((C12-D12)^2-(E12-F12)^2)*PI()^2/4 -> 976.28656 | H12: =4*PI()*B12*$C$5 -> 376.99112 | I12: =$H$4*G12/H12*1000000 -> 1637.2237 | K12: 30 | L12: =SQRT(($L$2+$K12+$L$5)^2+$L$3^2) -> 233.49732 | M12: =SQRT(($L$2-$K12-$L$5)^2+$L$3^2) -> 179.44637 | N12: =SQRT(($L$2+$K12-$L$5)^2+$L$3^2) -> 231.69161 | O12: =SQRT(($L$2-$K12+$L$5)^2+$L$3^2) -> 181.11046 | P12: =((L12-M12)^2-(N12-O12)^2)*PI()^2/4 -> 895.79875 | Q12: =4*PI()*K12*$C$5 -> 376.99112 | R12: =$H$4*P12/Q12*1000000 -> 1502.2464 | S12: =I12-R12 -> 134.97734
B13: 40 | C13: =SQRT(($C$2+$B13+$C$5)^2+$C$3^2) -> 279.50134 | D13: =SQRT(($C$2-$B13-$C$5)^2+$C$3^2) -> 205.03902 | E13: =SQRT(($C$2+$B13-$C$5)^2+$C$3^2) -> 277.63465 | F13: =SQRT(($C$2-$B13+$C$5)^2+$C$3^2) -> 206.78733 | G13: =((C13-D13)^2-(E13-F13)^2)*PI()^2/4 -> 1296.1116 | H13: =4*PI()*B13*$C$5 -> 502.65482 | I13: =$H$4*G13/H13*1000000 -> 1630.1756 | K13: 40 | L13: =SQRT(($L$2+$K13+$L$5)^2+$L$3^2) -> 242.57164 | M13: =SQRT(($L$2-$K13-$L$5)^2+$L$3^2) -> 171.23376 | N13: =SQRT(($L$2+$K13-$L$5)^2+$L$3^2) -> 240.75091 | O13: =SQRT(($L$2-$K13+$L$5)^2+$L$3^2) -> 172.86122 | P13: =((L13-M13)^2-(N13-O13)^2)*PI()^2/4 -> 1184.5569 | Q13: =4*PI()*K13*$C$5 -> 502.65482 | R13: =$H$4*P13/Q13*1000000 -> 1489.8684 | S13: =I13-R13 -> 140.30719
B14: 50 | C14: =SQRT(($C$2+$B14+$C$5)^2+$C$3^2) -> 288.86156 | D14: =SQRT(($C$2-$B14-$C$5)^2+$C$3^2) -> 196.36955 | E14: =SQRT(($C$2+$B14-$C$5)^2+$C$3^2) -> 286.98606 | F14: =SQRT(($C$2-$B14+$C$5)^2+$C$3^2) -> 198.09341 | G14: =((C14-D14)^2-(E14-F14)^2)*PI()^2/4 -> 1610.8884 | H14: =4*PI()*B14*$C$5 -> 628.31853 | I14: =$H$4*G14/H14*1000000 -> 1620.8672 | K14: 50 | L14: =SQRT(($L$2+$K14+$L$5)^2+$L$3^2) -> 251.71611 | M14: =SQRT(($L$2-$K14-$L$5)^2+$L$3^2) -> 163.22071 | N14: =SQRT(($L$2+$K14-$L$5)^2+$L$3^2) -> 249.88197 | O14: =SQRT(($L$2-$K14+$L$5)^2+$L$3^2) -> 164.80595 | P14: =((L14-M14)^2-(N14-O14)^2)*PI()^2/4 -> 1464.4168 | Q14: =4*PI()*K14*$C$5 -> 628.31853 | R14: =$H$4*P14/Q14*1000000 -> 1473.4882 | S14: =I14-R14 -> 147.37897
B15: 60 | C15: =SQRT(($C$2+$B15+$C$5)^2+$C$3^2) -> 298.26331 | D15: =SQRT(($C$2-$B15-$C$5)^2+$C$3^2) -> 187.83237 | E15: =SQRT(($C$2+$B15-$C$5)^2+$C$3^2) -> 296.37982 | F15: =SQRT(($C$2-$B15+$C$5)^2+$C$3^2) -> 189.52836 | G15: =((C15-D15)^2-(E15-F15)^2)*PI()^2/4 -> 1919.0369 | H15: =4*PI()*B15*$C$5 -> 753.98224 | I15: =$H$4*G15/H15*1000000 -> 1609.1038 | K15: 60 | L15: =SQRT(($L$2+$K15+$L$5)^2+$L$3^2) -> 260.92336 | M15: =SQRT(($L$2-$K15-$L$5)^2+$L$3^2) -> 155.43809 | N15: =SQRT(($L$2+$K15-$L$5)^2+$L$3^2) -> 259.07721 | O15: =SQRT(($L$2-$K15+$L$5)^2+$L$3^2) -> 156.97452 | P15: =((L15-M15)^2-(N15-O15)^2)*PI()^2/4 -> 1732.5676 | Q15: =4*PI()*K15*$C$5 -> 753.98224 | R15: =$H$4*P15/Q15*1000000 -> 1452.7501 | S15: =I15-R15 -> 156.35372
B16: 70 | C16: =SQRT(($C$2+$B16+$C$5)^2+$C$3^2) -> 307.70278 | D16: =SQRT(($C$2-$B16-$C$5)^2+$C$3^2) -> 179.44637 | E16: =SQRT(($C$2+$B16-$C$5)^2+$C$3^2) -> 305.81203 | F16: =SQRT(($C$2-$B16+$C$5)^2+$C$3^2) -> 181.11046 | G16: =((C16-D16)^2-(E16-F16)^2)*PI()^2/4 -> 2218.7476 | H16: =4*PI()*B16*$C$5 -> 879.64594 | I16: =$H$4*G16/H16*1000000 -> 1594.637 | K16: 70 | L16: =SQRT(($L$2+$K16+$L$5)^2+$L$3^2) -> 270.18697 | M16: =SQRT(($L$2-$K16-$L$5)^2+$L$3^2) -> 147.92228 | N16: =SQRT(($L$2+$K16-$L$5)^2+$L$3^2) -> 268.33002 | O16: =SQRT(($L$2-$K16+$L$5)^2+$L$3^2) -> 149.40214 | P16: =((L16-M16)^2-(N16-O16)^2)*PI()^2/4 -> 1985.8024 | Q16: =4*PI()*K16*$C$5 -> 879.64594 | R16: =$H$4*P16/Q16*1000000 -> 1427.2168 | S16: =I16-R16 -> 167.42016
B17: 80 | C17: =SQRT(($C$2+$B17+$C$5)^2+$C$3^2) -> 317.17661 | D17: =SQRT(($C$2-$B17-$C$5)^2+$C$3^2) -> 171.23376 | E17: =SQRT(($C$2+$B17-$C$5)^2+$C$3^2) -> 315.27924 | F17: =SQRT(($C$2-$B17+$C$5)^2+$C$3^2) -> 172.86122 | G17: =((C17-D17)^2-(E17-F17)^2)*PI()^2/4 -> 2507.9186 | H17: =4*PI()*B17*$C$5 -> 1005.3096 | I17: =$H$4*G17/H17*1000000 -> 1577.1588 | K17: 80 | L17: =SQRT(($L$2+$K17+$L$5)^2+$L$3^2) -> 279.50134 | M17: =SQRT(($L$2-$K17-$L$5)^2+$L$3^2) -> 140.71603 | N17: =SQRT(($L$2+$K17-$L$5)^2+$L$3^2) -> 277.63465 | O17: =SQRT(($L$2-$K17+$L$5)^2+$L$3^2) -> 142.13022 | P17: =((L17-M17)^2-(N17-O17)^2)*PI()^2/4 -> 2220.447 | Q17: =4*PI()*K17*$C$5 -> 1005.3096 | R17: =$H$4*P17/Q17*1000000 -> 1396.376 | S17: =I17-R17 -> 180.78275
B18: 90 | C18: =SQRT(($C$2+$B18+$C$5)^2+$C$3^2) -> 326.6818 | D18: =SQRT(($C$2-$B18-$C$5)^2+$C$3^2) -> 163.22071 | E18: =SQRT(($C$2+$B18-$C$5)^2+$C$3^2) -> 324.77839 | F18: =SQRT(($C$2-$B18+$C$5)^2+$C$3^2) -> 164.80595 | G18: =((C18-D18)^2-(E18-F18)^2)*PI()^2/4 -> 2784.0859 | H18: =4*PI()*B18*$C$5 -> 1130.9734 | I18: =$H$4*G18/H18*1000000 -> 1556.2956 | K18: 90 | L18: =SQRT(($L$2+$K18+$L$5)^2+$L$3^2) -> 288.86156 | M18: =SQRT(($L$2-$K18-$L$5)^2+$L$3^2) -> 133.86934 | N18: =SQRT(($L$2+$K18-$L$5)^2+$L$3^2) -> 286.98606 | O18: =SQRT(($L$2-$K18+$L$5)^2+$L$3^2) -> 135.20725 | P18: =((L18-M18)^2-(N18-O18)^2)*PI()^2/4 -> 2432.3138 | Q18: =4*PI()*K18*$C$5 -> 1130.9734 | R18: =$H$4*P18/Q18*1000000 -> 1359.656 | S18: =I18-R18 -> 196.63954
B19: 100 | C19: =SQRT(($C$2+$B19+$C$5)^2+$C$3^2) -> 336.2157 | D19: =SQRT(($C$2-$B19-$C$5)^2+$C$3^2) -> 155.43809 | E19: =SQRT(($C$2+$B19-$C$5)^2+$C$3^2) -> 334.30675 | F19: =SQRT(($C$2-$B19+$C$5)^2+$C$3^2) -> 156.97452 | G19: =((C19-D19)^2-(E19-F19)^2)*PI()^2/4 -> 3044.3477 | H19: =4*PI()*B19*$C$5 -> 1256.6371 | I19: =$H$4*G19/H19*1000000 -> 1531.6031 | K19: 100 | L19: =SQRT(($L$2+$K19+$L$5)^2+$L$3^2) -> 298.26331 | M19: =SQRT(($L$2-$K19-$L$5)^2+$L$3^2) -> 127.44018 | N19: =SQRT(($L$2+$K19-$L$5)^2+$L$3^2) -> 296.37982 | O19: =SQRT(($L$2-$K19+$L$5)^2+$L$3^2) -> 128.68955 | P19: =((L19-M19)^2-(N19-O19)^2)*PI()^2/4 -> 2616.7073 | Q19: =4*PI()*K19*$C$5 -> 1256.6371 | R19: =$H$4*P19/Q19*1000000 -> 1316.4583 | S19: =I19-R19 -> 215.14472
B20: 110 | C20: =SQRT(($C$2+$B20+$C$5)^2+$C$3^2) -> 345.77594 | D20: =SQRT(($C$2-$B20-$C$5)^2+$C$3^2) -> 147.92228 | E20: =SQRT(($C$2+$B20-$C$5)^2+$C$3^2) -> 343.86189 | F20: =SQRT(($C$2-$B20+$C$5)^2+$C$3^2) -> 149.40214 | G20: =((C20-D20)^2-(E20-F20)^2)*PI()^2/4 -> 3285.2894 | H20: =4*PI()*B20*$C$5 -> 1382.3008 | I20: =$H$4*G20/H20*1000000 -> 1502.5638 | K20: 110 | L20: =SQRT(($L$2+$K20+$L$5)^2+$L$3^2) -> 307.70278 | M20: =SQRT(($L$2-$K20-$L$5)^2+$L$3^2) -> 121.49486 | N20: =SQRT(($L$2+$K20-$L$5)^2+$L$3^2) -> 305.81203 | O20: =SQRT(($L$2-$K20+$L$5)^2+$L$3^2) -> 122.64175 | P20: =((L20-M20)^2-(N20-O20)^2)*PI()^2/4 -> 2768.5212 | Q20: =4*PI()*K20*$C$5 -> 1382.3008 | R20: =$H$4*P20/Q20*1000000 -> 1266.2141 | S20: =I20-R20 -> 236.34969
B21: 120 | C21: =SQRT(($C$2+$B21+$C$5)^2+$C$3^2) -> 355.36038 | D21: =SQRT(($C$2-$B21-$C$5)^2+$C$3^2) -> 140.71603 | E21: =SQRT(($C$2+$B21-$C$5)^2+$C$3^2) -> 353.44165 | F21: =SQRT(($C$2-$B21+$C$5)^2+$C$3^2) -> 142.13022 | G21: =((C21-D21)^2-(E21-F21)^2)*PI()^2/4 -> 3502.9181 | H21: =4*PI()*B21*$C$5 -> 1507.9645 | I21: =$H$4*G21/H21*1000000 -> 1468.5905 | K21: 120 | L21: =SQRT(($L$2+$K21+$L$5)^2+$L$3^2) -> 317.17661 | M21: =SQRT(($L$2-$K21-$L$5)^2+$L$3^2) -> 116.10771 | N21: =SQRT(($L$2+$K21-$L$5)^2+$L$3^2) -> 315.27924 | O21: =SQRT(($L$2-$K21+$L$5)^2+$L$3^2) -> 117.13667 | P21: =((L21-M21)^2-(N21-O21)^2)*PI()^2/4 -> 2882.4778 | Q21: =4*PI()*K21*$C$5 -> 1507.9645 | R21: =$H$4*P21/Q21*1000000 -> 1208.4723 | S21: =I21-R21 -> 260.1182
... B39: 300 | C39: =SQRT(($C$2+$B39+$C$5)^2+$C$3^2) -> 530.51013 | D39: =SQRT(($C$2-$B39-$C$5)^2+$C$3^2) -> 128.68955 | E39: =SQRT(($C$2+$B39-$C$5)^2+$C$3^2) -> 528.54612 | F39: =SQRT(($C$2-$B39+$C$5)^2+$C$3^2) -> 127.44018 | G39: =((C39-D39)^2-(E39-F39)^2)*PI()^2/4 -> 1415.8148 | H39: =4*PI()*B39*$C$5 -> 3769.9112 | I39: =$H$4*G39/H39*1000000 -> 237.43087 | K39: 300 | L39: =SQRT(($L$2+$K39+$L$5)^2+$L$3^2) -> 491.28505 | M39: =SQRT(($L$2-$K39-$L$5)^2+$L$3^2) -> 156.97452 | N39: =SQRT(($L$2+$K39-$L$5)^2+$L$3^2) -> 489.32709 | O39: =SQRT(($L$2-$K39+$L$5)^2+$L$3^2) -> 155.43809 | P39: =((L39-M39)^2-(N39-O39)^2)*PI()^2/4 -> 694.98503 | Q39: =4*PI()*K39*$C$5 -> 3769.9112 | R39: =$H$4*P39/Q39*1000000 -> 116.54836 | S39: =I39-R39 -> 120.88251
