Workbook

Sheet BG47
B1: schott-optical-filter-datasheet-collection-de.pdf | F1: Interpolation of the filter characteristics
B2: 0 | C2: 1 | D2: 2 | E2: 3 | F2: 4 | G2: 5 | H2: 6 | I2: 7 | J2: 8 | K2: 9 | L2: 10 | P2: row
A3: 200 | B3: 0 | C3: =B3+0.1*($B4-$B3) -> 0 | D3: =C3+0.1*($B4-$B3) -> 0 | E3: =D3+0.1*($B4-$B3) -> 0 | F3: =E3+0.1*($B4-$B3) -> 0 | G3: =F3+0.1*($B4-$B3) -> 0 | H3: =G3+0.1*($B4-$B3) -> 0 | I3: =H3+0.1*($B4-$B3) -> 0 | J3: =I3+0.1*($B4-$B3) -> 0 | ... L3: =K3+0.1*($B4-$B3) -> 0 | O3: 380 | P3: =MATCH(O3,$A$3:$A$182,0)+2 -> 21 | Q3: =MOD(O3,10)+2 -> 2 | R3: {=INDIRECT(ADDRESS(P3,Q3))} -> 0.5989
A4: 210 | B4: 0 | C4: =B4+0.1*($B5-$B4) -> 0 | D4: =C4+0.1*($B5-$B4) -> 0 | E4: =D4+0.1*($B5-$B4) -> 0 | F4: =E4+0.1*($B5-$B4) -> 0 | G4: =F4+0.1*($B5-$B4) -> 0 | H4: =G4+0.1*($B5-$B4) -> 0 | I4: =H4+0.1*($B5-$B4) -> 0 | J4: =I4+0.1*($B5-$B4) -> 0 | ... L4: =K4+0.1*($B5-$B4) -> 0 | O4: 381 | P4: =P3 -> 21 | Q4: =MOD(O4,10)+2 -> 3 | R4: {=INDIRECT(ADDRESS(P4,Q4))} -> 0.60425
A5: 220 | B5: 0 | C5: =B5+0.1*($B6-$B5) -> 0 | D5: =C5+0.1*($B6-$B5) -> 0 | E5: =D5+0.1*($B6-$B5) -> 0 | F5: =E5+0.1*($B6-$B5) -> 0 | G5: =F5+0.1*($B6-$B5) -> 0 | H5: =G5+0.1*($B6-$B5) -> 0 | I5: =H5+0.1*($B6-$B5) -> 0 | J5: =I5+0.1*($B6-$B5) -> 0 | ... L5: =K5+0.1*($B6-$B5) -> 0 | O5: 382 | P5: =P4 -> 21 | Q5: =MOD(O5,10)+2 -> 4 | R5: {=INDIRECT(ADDRESS(P5,Q5))} -> 0.6096
A6: 230 | B6: 0 | C6: =B6+0.1*($B7-$B6) -> 0 | D6: =C6+0.1*($B7-$B6) -> 0 | E6: =D6+0.1*($B7-$B6) -> 0 | F6: =E6+0.1*($B7-$B6) -> 0 | G6: =F6+0.1*($B7-$B6) -> 0 | H6: =G6+0.1*($B7-$B6) -> 0 | I6: =H6+0.1*($B7-$B6) -> 0 | J6: =I6+0.1*($B7-$B6) -> 0 | ... L6: =K6+0.1*($B7-$B6) -> 0 | O6: 383 | P6: =P5 -> 21 | Q6: =MOD(O6,10)+2 -> 5 | R6: {=INDIRECT(ADDRESS(P6,Q6))} -> 0.61495
A7: 240 | B7: 0 | C7: =B7+0.1*($B8-$B7) -> 0 | D7: =C7+0.1*($B8-$B7) -> 0 | E7: =D7+0.1*($B8-$B7) -> 0 | F7: =E7+0.1*($B8-$B7) -> 0 | G7: =F7+0.1*($B8-$B7) -> 0 | H7: =G7+0.1*($B8-$B7) -> 0 | I7: =H7+0.1*($B8-$B7) -> 0 | J7: =I7+0.1*($B8-$B7) -> 0 | ... L7: =K7+0.1*($B8-$B7) -> 0 | O7: 384 | P7: =P6 -> 21 | Q7: =MOD(O7,10)+2 -> 6 | R7: {=INDIRECT(ADDRESS(P7,Q7))} -> 0.6203
A8: 250 | B8: 0 | C8: =B8+0.1*($B9-$B8) -> 0 | D8: =C8+0.1*($B9-$B8) -> 0 | E8: =D8+0.1*($B9-$B8) -> 0 | F8: =E8+0.1*($B9-$B8) -> 0 | G8: =F8+0.1*($B9-$B8) -> 0 | H8: =G8+0.1*($B9-$B8) -> 0 | I8: =H8+0.1*($B9-$B8) -> 0 | J8: =I8+0.1*($B9-$B8) -> 0 | ... L8: =K8+0.1*($B9-$B8) -> 0 | O8: 385 | P8: =P7 -> 21 | Q8: =MOD(O8,10)+2 -> 7 | R8: {=INDIRECT(ADDRESS(P8,Q8))} -> 0.62565
A9: 260 | B9: 0 | C9: =B9+0.1*($B10-$B9) -> 0 | D9: =C9+0.1*($B10-$B9) -> 0 | E9: =D9+0.1*($B10-$B9) -> 0 | F9: =E9+0.1*($B10-$B9) -> 0 | G9: =F9+0.1*($B10-$B9) -> 0 | H9: =G9+0.1*($B10-$B9) -> 0 | I9: =H9+0.1*($B10-$B9) -> 0 | J9: =I9+0.1*($B10-$B9) -> 0 | ... L9: =K9+0.1*($B10-$B9) -> 0 | O9: 386 | P9: =P8 -> 21 | Q9: =MOD(O9,10)+2 -> 8 | R9: {=INDIRECT(ADDRESS(P9,Q9))} -> 0.631
A10: 270 | B10: 0 | C10: =B10+0.1*($B11-$B10) -> 0 | D10: =C10+0.1*($B11-$B10) -> 0 | E10: =D10+0.1*($B11-$B10) -> 0 | F10: =E10+0.1*($B11-$B10) -> 0 | G10: =F10+0.1*($B11-$B10) -> 0 | H10: =G10+0.1*($B11-$B10) -> 0 | I10: =H10+0.1*($B11-$B10) -> 0 | J10: =I10+0.1*($B11-$B10) -> 0 | ... L10: =K10+0.1*($B11-$B10) -> 0 | O10: 387 | P10: =P9 -> 21 | Q10: =MOD(O10,10)+2 -> 9 | R10: {=INDIRECT(ADDRESS(P10,Q10))} -> 0.63635
A11: 280 | B11: 0 | C11: =B11+0.1*($B12-$B11) -> 0 | D11: =C11+0.1*($B12-$B11) -> 0 | E11: =D11+0.1*($B12-$B11) -> 0 | F11: =E11+0.1*($B12-$B11) -> 0 | G11: =F11+0.1*($B12-$B11) -> 0 | H11: =G11+0.1*($B12-$B11) -> 0 | I11: =H11+0.1*($B12-$B11) -> 0 | J11: =I11+0.1*($B12-$B11) -> 0 | ... L11: =K11+0.1*($B12-$B11) -> 0 | O11: 388 | P11: =P10 -> 21 | Q11: =MOD(O11,10)+2 -> 10 | R11: {=INDIRECT(ADDRESS(P11,Q11))} -> 0.6417
A12: 290 | B12: 0 | C12: =B12+0.1*($B13-$B12) -> 0 | D12: =C12+0.1*($B13-$B12) -> 0 | E12: =D12+0.1*($B13-$B12) -> 0 | F12: =E12+0.1*($B13-$B12) -> 0 | G12: =F12+0.1*($B13-$B12) -> 0 | H12: =G12+0.1*($B13-$B12) -> 0 | I12: =H12+0.1*($B13-$B12) -> 0 | J12: =I12+0.1*($B13-$B12) -> 0 | ... L12: =K12+0.1*($B13-$B12) -> 0 | O12: 389 | P12: =P11 -> 21 | Q12: =MOD(O12,10)+2 -> 11 | R12: {=INDIRECT(ADDRESS(P12,Q12))} -> 0.64705
A13: 300 | B13: 0 | C13: =B13+0.1*($B14-$B13) -> 0 | D13: =C13+0.1*($B14-$B13) -> 0 | E13: =D13+0.1*($B14-$B13) -> 0 | F13: =E13+0.1*($B14-$B13) -> 0 | G13: =F13+0.1*($B14-$B13) -> 0 | H13: =G13+0.1*($B14-$B13) -> 0 | I13: =H13+0.1*($B14-$B13) -> 0 | J13: =I13+0.1*($B14-$B13) -> 0 | ... L13: =K13+0.1*($B14-$B13) -> 0 | O13: 390 | P13: =MATCH(O13,$A$3:$A$182,0)+2 -> 22 | Q13: =MOD(O13,10)+2 -> 2 | R13: {=INDIRECT(ADDRESS(P13,Q13))} -> 0.6524
A14: 310 | B14: 0 | C14: =B14+0.1*($B15-$B14) -> 0 | D14: =C14+0.1*($B15-$B14) -> 0 | E14: =D14+0.1*($B15-$B14) -> 0 | F14: =E14+0.1*($B15-$B14) -> 0 | G14: =F14+0.1*($B15-$B14) -> 0 | H14: =G14+0.1*($B15-$B14) -> 0 | I14: =H14+0.1*($B15-$B14) -> 0 | J14: =I14+0.1*($B15-$B14) -> 0 | ... L14: =K14+0.1*($B15-$B14) -> 0 | O14: 391 | P14: =P13 -> 22 | Q14: =MOD(O14,10)+2 -> 3 | R14: {=INDIRECT(ADDRESS(P14,Q14))} -> 0.65592
A15: 320 | B15: 0 | C15: =B15+0.1*($B16-$B15) -> 0.0003175 | D15: =C15+0.1*($B16-$B15) -> 0.000635 | E15: =D15+0.1*($B16-$B15) -> 0.0009525 | F15: =E15+0.1*($B16-$B15) -> 0.00127 | G15: =F15+0.1*($B16-$B15) -> 0.0015875 | H15: =G15+0.1*($B16-$B15) -> 0.001905 | I15: =H15+0.1*($B16-$B15) -> 0.0022225 | J15: =I15+0.1*($B16-$B15) -> 0.00254 | ... L15: =K15+0.1*($B16-$B15) -> 0.003175 | O15: 392 | P15: =P14 -> 22 | Q15: =MOD(O15,10)+2 -> 4 | R15: {=INDIRECT(ADDRESS(P15,Q15))} -> 0.65944
A16: 330 | B16: 0.003175 | C16: =B16+0.1*($B17-$B16) -> 0.0085385 | D16: =C16+0.1*($B17-$B16) -> 0.013902 | E16: =D16+0.1*($B17-$B16) -> 0.0192655 | F16: =E16+0.1*($B17-$B16) -> 0.024629 | G16: =F16+0.1*($B17-$B16) -> 0.0299925 | H16: =G16+0.1*($B17-$B16) -> 0.035356 | I16: =H16+0.1*($B17-$B16) -> 0.0407195 | J16: =I16+0.1*($B17-$B16) -> 0.046083 | ... L16: =K16+0.1*($B17-$B16) -> 0.05681 | O16: 393 | P16: =P15 -> 22 | Q16: =MOD(O16,10)+2 -> 5 | R16: {=INDIRECT(ADDRESS(P16,Q16))} -> 0.66296
A17: 340 | B17: 0.05681 | C17: =B17+0.1*($B18-$B17) -> 0.072259 | D17: =C17+0.1*($B18-$B17) -> 0.087708 | E17: =D17+0.1*($B18-$B17) -> 0.103157 | F17: =E17+0.1*($B18-$B17) -> 0.118606 | G17: =F17+0.1*($B18-$B17) -> 0.134055 | H17: =G17+0.1*($B18-$B17) -> 0.149504 | I17: =H17+0.1*($B18-$B17) -> 0.164953 | J17: =I17+0.1*($B18-$B17) -> 0.180402 | ... L17: =K17+0.1*($B18-$B17) -> 0.2113 | O17: 394 | P17: =P16 -> 22 | Q17: =MOD(O17,10)+2 -> 6 | R17: {=INDIRECT(ADDRESS(P17,Q17))} -> 0.66648
A18: 350 | B18: 0.2113 | C18: =B18+0.1*($B19-$B18) -> 0.22865 | D18: =C18+0.1*($B19-$B18) -> 0.246 | E18: =D18+0.1*($B19-$B18) -> 0.26335 | F18: =E18+0.1*($B19-$B18) -> 0.2807 | G18: =F18+0.1*($B19-$B18) -> 0.29805 | H18: =G18+0.1*($B19-$B18) -> 0.3154 | I18: =H18+0.1*($B19-$B18) -> 0.33275 | J18: =I18+0.1*($B19-$B18) -> 0.3501 | ... L18: =K18+0.1*($B19-$B18) -> 0.3848 | O18: 395 | P18: =P17 -> 22 | Q18: =MOD(O18,10)+2 -> 7 | R18: {=INDIRECT(ADDRESS(P18,Q18))} -> 0.67
A19: 360 | B19: 0.3848 | C19: =B19+0.1*($B20-$B19) -> 0.39771 | D19: =C19+0.1*($B20-$B19) -> 0.41062 | E19: =D19+0.1*($B20-$B19) -> 0.42353 | F19: =E19+0.1*($B20-$B19) -> 0.43644 | G19: =F19+0.1*($B20-$B19) -> 0.44935 | H19: =G19+0.1*($B20-$B19) -> 0.46226 | I19: =H19+0.1*($B20-$B19) -> 0.47517 | J19: =I19+0.1*($B20-$B19) -> 0.48808 | ... L19: =K19+0.1*($B20-$B19) -> 0.5139 | O19: 396 | P19: =P18 -> 22 | Q19: =MOD(O19,10)+2 -> 8 | R19: {=INDIRECT(ADDRESS(P19,Q19))} -> 0.67352
A20: 370 | B20: 0.5139 | C20: =B20+0.1*($B21-$B20) -> 0.5224 | D20: =C20+0.1*($B21-$B20) -> 0.5309 | E20: =D20+0.1*($B21-$B20) -> 0.5394 | F20: =E20+0.1*($B21-$B20) -> 0.5479 | G20: =F20+0.1*($B21-$B20) -> 0.5564 | H20: =G20+0.1*($B21-$B20) -> 0.5649 | I20: =H20+0.1*($B21-$B20) -> 0.5734 | J20: =I20+0.1*($B21-$B20) -> 0.5819 | ... L20: =K20+0.1*($B21-$B20) -> 0.5989 | O20: 397 | P20: =P19 -> 22 | Q20: =MOD(O20,10)+2 -> 9 | R20: {=INDIRECT(ADDRESS(P20,Q20))} -> 0.67704
A21: 380 | B21: 0.5989 | C21: =B21+0.1*($B22-$B21) -> 0.60425 | D21: =C21+0.1*($B22-$B21) -> 0.6096 | E21: =D21+0.1*($B22-$B21) -> 0.61495 | F21: =E21+0.1*($B22-$B21) -> 0.6203 | G21: =F21+0.1*($B22-$B21) -> 0.62565 | H21: =G21+0.1*($B22-$B21) -> 0.631 | I21: =H21+0.1*($B22-$B21) -> 0.63635 | J21: =I21+0.1*($B22-$B21) -> 0.6417 | ... L21: =K21+0.1*($B22-$B21) -> 0.6524 | O21: 398 | P21: =P20 -> 22 | Q21: =MOD(O21,10)+2 -> 10 | R21: {=INDIRECT(ADDRESS(P21,Q21))} -> 0.68056
A22: 390 | B22: 0.6524 | C22: =B22+0.1*($B23-$B22) -> 0.65592 | D22: =C22+0.1*($B23-$B22) -> 0.65944 | E22: =D22+0.1*($B23-$B22) -> 0.66296 | F22: =E22+0.1*($B23-$B22) -> 0.66648 | G22: =F22+0.1*($B23-$B22) -> 0.67 | H22: =G22+0.1*($B23-$B22) -> 0.67352 | I22: =H22+0.1*($B23-$B22) -> 0.67704 | J22: =I22+0.1*($B23-$B22) -> 0.68056 | ... L22: =K22+0.1*($B23-$B22) -> 0.6876 | O22: 399 | P22: =P21 -> 22 | Q22: =MOD(O22,10)+2 -> 11 | R22: {=INDIRECT(ADDRESS(P22,Q22))} -> 0.68408
A23: 400 | B23: 0.6876 | C23: =B23+0.1*($B24-$B23) -> 0.68992 | D23: =C23+0.1*($B24-$B23) -> 0.69224 | E23: =D23+0.1*($B24-$B23) -> 0.69456 | F23: =E23+0.1*($B24-$B23) -> 0.69688 | G23: =F23+0.1*($B24-$B23) -> 0.6992 | H23: =G23+0.1*($B24-$B23) -> 0.70152 | I23: =H23+0.1*($B24-$B23) -> 0.70384 | J23: =I23+0.1*($B24-$B23) -> 0.70616 | ... L23: =K23+0.1*($B24-$B23) -> 0.7108 | O23: 400 | P23: =MATCH(O23,$A$3:$A$182,0)+2 -> 23 | Q23: =MOD(O23,10)+2 -> 2 | R23: {=INDIRECT(ADDRESS(P23,Q23))} -> 0.6876
A24: 410 | B24: 0.7108 | C24: =B24+0.1*($B25-$B24) -> 0.7125 | D24: =C24+0.1*($B25-$B24) -> 0.7142 | E24: =D24+0.1*($B25-$B24) -> 0.7159 | F24: =E24+0.1*($B25-$B24) -> 0.7176 | G24: =F24+0.1*($B25-$B24) -> 0.7193 | H24: =G24+0.1*($B25-$B24) -> 0.721 | I24: =H24+0.1*($B25-$B24) -> 0.7227 | J24: =I24+0.1*($B25-$B24) -> 0.7244 | ... L24: =K24+0.1*($B25-$B24) -> 0.7278 | O24: 401 | P24: =P23 -> 23 | Q24: =MOD(O24,10)+2 -> 3 | R24: {=INDIRECT(ADDRESS(P24,Q24))} -> 0.68992
A25: 420 | B25: 0.7278 | C25: =B25+0.1*($B26-$B25) -> 0.72917 | D25: =C25+0.1*($B26-$B25) -> 0.73054 | E25: =D25+0.1*($B26-$B25) -> 0.73191 | F25: =E25+0.1*($B26-$B25) -> 0.73328 | G25: =F25+0.1*($B26-$B25) -> 0.73465 | H25: =G25+0.1*($B26-$B25) -> 0.73602 | I25: =H25+0.1*($B26-$B25) -> 0.73739 | J25: =I25+0.1*($B26-$B25) -> 0.73876 | ... L25: =K25+0.1*($B26-$B25) -> 0.7415 | O25: 402 | P25: =P24 -> 23 | Q25: =MOD(O25,10)+2 -> 4 | R25: {=INDIRECT(ADDRESS(P25,Q25))} -> 0.69224
A26: 430 | B26: 0.7415 | C26: =B26+0.1*($B27-$B26) -> 0.74279 | D26: =C26+0.1*($B27-$B26) -> 0.74408 | E26: =D26+0.1*($B27-$B26) -> 0.74537 | F26: =E26+0.1*($B27-$B26) -> 0.74666 | G26: =F26+0.1*($B27-$B26) -> 0.74795 | H26: =G26+0.1*($B27-$B26) -> 0.74924 | I26: =H26+0.1*($B27-$B26) -> 0.75053 | J26: =I26+0.1*($B27-$B26) -> 0.75182 | ... L26: =K26+0.1*($B27-$B26) -> 0.7544 | O26: 403 | P26: =P25 -> 23 | Q26: =MOD(O26,10)+2 -> 5 | R26: {=INDIRECT(ADDRESS(P26,Q26))} -> 0.69456
A27: 440 | B27: 0.7544 | C27: =B27+0.1*($B28-$B27) -> 0.75592 | D27: =C27+0.1*($B28-$B27) -> 0.75744 | E27: =D27+0.1*($B28-$B27) -> 0.75896 | F27: =E27+0.1*($B28-$B27) -> 0.76048 | G27: =F27+0.1*($B28-$B27) -> 0.762 | H27: =G27+0.1*($B28-$B27) -> 0.76352 | I27: =H27+0.1*($B28-$B27) -> 0.76504 | J27: =I27+0.1*($B28-$B27) -> 0.76656 | ... L27: =K27+0.1*($B28-$B27) -> 0.7696 | O27: 404 | P27: =P26 -> 23 | Q27: =MOD(O27,10)+2 -> 6 | R27: {=INDIRECT(ADDRESS(P27,Q27))} -> 0.69688
A28: 450 | B28: 0.7696 | C28: =B28+0.1*($B29-$B28) -> 0.7714 | D28: =C28+0.1*($B29-$B28) -> 0.7732 | E28: =D28+0.1*($B29-$B28) -> 0.775 | F28: =E28+0.1*($B29-$B28) -> 0.7768 | G28: =F28+0.1*($B29-$B28) -> 0.7786 | H28: =G28+0.1*($B29-$B28) -> 0.7804 | I28: =H28+0.1*($B29-$B28) -> 0.7822 | J28: =I28+0.1*($B29-$B28) -> 0.784 | ... L28: =K28+0.1*($B29-$B28) -> 0.7876 | O28: 405 | P28: =P27 -> 23 | Q28: =MOD(O28,10)+2 -> 7 | R28: {=INDIRECT(ADDRESS(P28,Q28))} -> 0.6992
A29: 460 | B29: 0.7876 | C29: =B29+0.1*($B30-$B29) -> 0.78967 | D29: =C29+0.1*($B30-$B29) -> 0.79174 | E29: =D29+0.1*($B30-$B29) -> 0.79381 | F29: =E29+0.1*($B30-$B29) -> 0.79588 | G29: =F29+0.1*($B30-$B29) -> 0.79795 | H29: =G29+0.1*($B30-$B29) -> 0.80002 | I29: =H29+0.1*($B30-$B29) -> 0.80209 | J29: =I29+0.1*($B30-$B29) -> 0.80416 | ... L29: =K29+0.1*($B30-$B29) -> 0.8083 | O29: 405 | P29: =P28 -> 23 | Q29: =MOD(O29,10)+2 -> 7 | R29: {=INDIRECT(ADDRESS(P29,Q29))} -> 0.6992
A30: 470 | B30: 0.8083 | C30: =B30+0.1*($B31-$B30) -> 0.81061 | D30: =C30+0.1*($B31-$B30) -> 0.81292 | E30: =D30+0.1*($B31-$B30) -> 0.81523 | F30: =E30+0.1*($B31-$B30) -> 0.81754 | G30: =F30+0.1*($B31-$B30) -> 0.81985 | H30: =G30+0.1*($B31-$B30) -> 0.82216 | I30: =H30+0.1*($B31-$B30) -> 0.82447 | J30: =I30+0.1*($B31-$B30) -> 0.82678 | ... L30: =K30+0.1*($B31-$B30) -> 0.8314 | O30: 407 | P30: =P29 -> 23 | Q30: =MOD(O30,10)+2 -> 9 | R30: {=INDIRECT(ADDRESS(P30,Q30))} -> 0.70384
A31: 480 | B31: 0.8314 | C31: =B31+0.1*($B32-$B31) -> 0.83366 | D31: =C31+0.1*($B32-$B31) -> 0.83592 | E31: =D31+0.1*($B32-$B31) -> 0.83818 | F31: =E31+0.1*($B32-$B31) -> 0.84044 | G31: =F31+0.1*($B32-$B31) -> 0.8427 | H31: =G31+0.1*($B32-$B31) -> 0.84496 | I31: =H31+0.1*($B32-$B31) -> 0.84722 | J31: =I31+0.1*($B32-$B31) -> 0.84948 | ... L31: =K31+0.1*($B32-$B31) -> 0.854 | O31: 408 | P31: =P30 -> 23 | Q31: =MOD(O31,10)+2 -> 10 | R31: {=INDIRECT(ADDRESS(P31,Q31))} -> 0.70616
A32: 490 | B32: 0.854 | C32: =B32+0.1*($B33-$B32) -> 0.85572 | D32: =C32+0.1*($B33-$B32) -> 0.85744 | E32: =D32+0.1*($B33-$B32) -> 0.85916 | F32: =E32+0.1*($B33-$B32) -> 0.86088 | G32: =F32+0.1*($B33-$B32) -> 0.8626 | H32: =G32+0.1*($B33-$B32) -> 0.86432 | I32: =H32+0.1*($B33-$B32) -> 0.86604 | J32: =I32+0.1*($B33-$B32) -> 0.86776 | ... L32: =K32+0.1*($B33-$B32) -> 0.8712 | O32: 409 | P32: =P31 -> 23 | Q32: =MOD(O32,10)+2 -> 11 | R32: {=INDIRECT(ADDRESS(P32,Q32))} -> 0.70848
A33: 500 | B33: 0.8712 | C33: =B33+0.1*($B34-$B33) -> 0.87234 | D33: =C33+0.1*($B34-$B33) -> 0.87348 | E33: =D33+0.1*($B34-$B33) -> 0.87462 | F33: =E33+0.1*($B34-$B33) -> 0.87576 | G33: =F33+0.1*($B34-$B33) -> 0.8769 | H33: =G33+0.1*($B34-$B33) -> 0.87804 | I33: =H33+0.1*($B34-$B33) -> 0.87918 | J33: =I33+0.1*($B34-$B33) -> 0.88032 | ... L33: =K33+0.1*($B34-$B33) -> 0.8826 | O33: 410 | P33: =MATCH(O33,$A$3:$A$182,0)+2 -> 24 | Q33: =MOD(O33,10)+2 -> 2 | R33: {=INDIRECT(ADDRESS(P33,Q33))} -> 0.7108
A34: 510 | B34: 0.8826 | C34: =B34+0.1*($B35-$B34) -> 0.88262 | D34: =C34+0.1*($B35-$B34) -> 0.88264 | E34: =D34+0.1*($B35-$B34) -> 0.88266 | F34: =E34+0.1*($B35-$B34) -> 0.88268 | G34: =F34+0.1*($B35-$B34) -> 0.8827 | H34: =G34+0.1*($B35-$B34) -> 0.88272 | I34: =H34+0.1*($B35-$B34) -> 0.88274 | J34: =I34+0.1*($B35-$B34) -> 0.88276 | ... L34: =K34+0.1*($B35-$B34) -> 0.8828 | O34: 411 | P34: =P33 -> 24 | Q34: =MOD(O34,10)+2 -> 3 | R34: {=INDIRECT(ADDRESS(P34,Q34))} -> 0.7125
A35: 520 | B35: 0.8828 | C35: =B35+0.1*($B36-$B35) -> 0.88116 | D35: =C35+0.1*($B36-$B35) -> 0.87952 | E35: =D35+0.1*($B36-$B35) -> 0.87788 | F35: =E35+0.1*($B36-$B35) -> 0.87624 | G35: =F35+0.1*($B36-$B35) -> 0.8746 | H35: =G35+0.1*($B36-$B35) -> 0.87296 | I35: =H35+0.1*($B36-$B35) -> 0.87132 | J35: =I35+0.1*($B36-$B35) -> 0.86968 | ... L35: =K35+0.1*($B36-$B35) -> 0.8664 | O35: 412 | P35: =P34 -> 24 | Q35: =MOD(O35,10)+2 -> 4 | R35: {=INDIRECT(ADDRESS(P35,Q35))} -> 0.7142
A36: 530 | B36: 0.8664 | C36: =B36+0.1*($B37-$B36) -> 0.86277 | D36: =C36+0.1*($B37-$B36) -> 0.85914 | E36: =D36+0.1*($B37-$B36) -> 0.85551 | F36: =E36+0.1*($B37-$B36) -> 0.85188 | G36: =F36+0.1*($B37-$B36) -> 0.84825 | H36: =G36+0.1*($B37-$B36) -> 0.84462 | I36: =H36+0.1*($B37-$B36) -> 0.84099 | J36: =I36+0.1*($B37-$B36) -> 0.83736 | ... L36: =K36+0.1*($B37-$B36) -> 0.8301 | O36: 413 | P36: =P35 -> 24 | Q36: =MOD(O36,10)+2 -> 5 | R36: {=INDIRECT(ADDRESS(P36,Q36))} -> 0.7159
A37: 540 | B37: 0.8301 | C37: =B37+0.1*($B38-$B37) -> 0.82422 | D37: =C37+0.1*($B38-$B37) -> 0.81834 | E37: =D37+0.1*($B38-$B37) -> 0.81246 | F37: =E37+0.1*($B38-$B37) -> 0.80658 | G37: =F37+0.1*($B38-$B37) -> 0.8007 | H37: =G37+0.1*($B38-$B37) -> 0.79482 | I37: =H37+0.1*($B38-$B37) -> 0.78894 | J37: =I37+0.1*($B38-$B37) -> 0.78306 | ... L37: =K37+0.1*($B38-$B37) -> 0.7713 | O37: 414 | P37: =P36 -> 24 | Q37: =MOD(O37,10)+2 -> 6 | R37: {=INDIRECT(ADDRESS(P37,Q37))} -> 0.7176
A38: 550 | B38: 0.7713 | C38: =B38+0.1*($B39-$B38) -> 0.76319 | D38: =C38+0.1*($B39-$B38) -> 0.75508 | E38: =D38+0.1*($B39-$B38) -> 0.74697 | F38: =E38+0.1*($B39-$B38) -> 0.73886 | G38: =F38+0.1*($B39-$B38) -> 0.73075 | H38: =G38+0.1*($B39-$B38) -> 0.72264 | I38: =H38+0.1*($B39-$B38) -> 0.71453 | J38: =I38+0.1*($B39-$B38) -> 0.70642 | ... L38: =K38+0.1*($B39-$B38) -> 0.6902 | O38: 415 | P38: =P37 -> 24 | Q38: =MOD(O38,10)+2 -> 7 | R38: {=INDIRECT(ADDRESS(P38,Q38))} -> 0.7193
A39: 560 | B39: 0.6902 | C39: =B39+0.1*($B40-$B39) -> 0.68013 | D39: =C39+0.1*($B40-$B39) -> 0.67006 | E39: =D39+0.1*($B40-$B39) -> 0.65999 | F39: =E39+0.1*($B40-$B39) -> 0.64992 | G39: =F39+0.1*($B40-$B39) -> 0.63985 | H39: =G39+0.1*($B40-$B39) -> 0.62978 | I39: =H39+0.1*($B40-$B39) -> 0.61971 | J39: =I39+0.1*($B40-$B39) -> 0.60964 | ... L39: =K39+0.1*($B40-$B39) -> 0.5895 | O39: 416 | P39: =P38 -> 24 | Q39: =MOD(O39,10)+2 -> 8 | R39: {=INDIRECT(ADDRESS(P39,Q39))} -> 0.721
A40: 570 | B40: 0.5895 | C40: =B40+0.1*($B41-$B40) -> 0.57832 | D40: =C40+0.1*($B41-$B40) -> 0.56714 | E40: =D40+0.1*($B41-$B40) -> 0.55596 | F40: =E40+0.1*($B41-$B40) -> 0.54478 | G40: =F40+0.1*($B41-$B40) -> 0.5336 | H40: =G40+0.1*($B41-$B40) -> 0.52242 | I40: =H40+0.1*($B41-$B40) -> 0.51124 | J40: =I40+0.1*($B41-$B40) -> 0.50006 | ... L40: =K40+0.1*($B41-$B40) -> 0.4777 | O40: 417 | P40: =P39 -> 24 | Q40: =MOD(O40,10)+2 -> 9 | R40: {=INDIRECT(ADDRESS(P40,Q40))} -> 0.7227
...

Sheet OG530
B1: schott-optical-filter-datasheet-collection-de.pdf | F1: Interpolation of the filter characteristics
C2: 1 | D2: 2 | E2: 3 | F2: 4 | G2: 5 | H2: 6 | I2: 7 | J2: 8 | K2: 9 | L2: 10 | P2: row
A3: 200 | B3: 1e-05 | C3: =B3+0.1*($B4-$B3) -> 1e-05 | D3: =C3+0.1*($B4-$B3) -> 1e-05 | E3: =D3+0.1*($B4-$B3) -> 1e-05 | F3: =E3+0.1*($B4-$B3) -> 1e-05 | G3: =F3+0.1*($B4-$B3) -> 1e-05 | H3: =G3+0.1*($B4-$B3) -> 1e-05 | I3: =H3+0.1*($B4-$B3) -> 1e-05 | J3: =I3+0.1*($B4-$B3) -> 1e-05 | ... L3: =K3+0.1*($B4-$B3) -> 1e-05 | O3: 380 | P3: =MATCH(O3,$A$3:$A$182,0)+2 -> 21 | Q3: =MOD(O3,10)+2 -> 2 | R3: {=INDIRECT(ADDRESS(P3,Q3))} -> 1e-05
A4: 210 | B4: 1e-05 | C4: =B4+0.1*($B5-$B4) -> 1e-05 | D4: =C4+0.1*($B5-$B4) -> 1e-05 | E4: =D4+0.1*($B5-$B4) -> 1e-05 | F4: =E4+0.1*($B5-$B4) -> 1e-05 | G4: =F4+0.1*($B5-$B4) -> 1e-05 | H4: =G4+0.1*($B5-$B4) -> 1e-05 | I4: =H4+0.1*($B5-$B4) -> 1e-05 | J4: =I4+0.1*($B5-$B4) -> 1e-05 | ... L4: =K4+0.1*($B5-$B4) -> 1e-05 | O4: 381 | P4: =P3 -> 21 | Q4: =MOD(O4,10)+2 -> 3 | R4: {=INDIRECT(ADDRESS(P4,Q4))} -> 1e-05
A5: 220 | B5: 1e-05 | C5: =B5+0.1*($B6-$B5) -> 1e-05 | D5: =C5+0.1*($B6-$B5) -> 1e-05 | E5: =D5+0.1*($B6-$B5) -> 1e-05 | F5: =E5+0.1*($B6-$B5) -> 1e-05 | G5: =F5+0.1*($B6-$B5) -> 1e-05 | H5: =G5+0.1*($B6-$B5) -> 1e-05 | I5: =H5+0.1*($B6-$B5) -> 1e-05 | J5: =I5+0.1*($B6-$B5) -> 1e-05 | ... L5: =K5+0.1*($B6-$B5) -> 1e-05 | O5: 382 | P5: =P4 -> 21 | Q5: =MOD(O5,10)+2 -> 4 | R5: {=INDIRECT(ADDRESS(P5,Q5))} -> 1e-05
A6: 230 | B6: 1e-05 | C6: =B6+0.1*($B7-$B6) -> 1e-05 | D6: =C6+0.1*($B7-$B6) -> 1e-05 | E6: =D6+0.1*($B7-$B6) -> 1e-05 | F6: =E6+0.1*($B7-$B6) -> 1e-05 | G6: =F6+0.1*($B7-$B6) -> 1e-05 | H6: =G6+0.1*($B7-$B6) -> 1e-05 | I6: =H6+0.1*($B7-$B6) -> 1e-05 | J6: =I6+0.1*($B7-$B6) -> 1e-05 | ... L6: =K6+0.1*($B7-$B6) -> 1e-05 | O6: 383 | P6: =P5 -> 21 | Q6: =MOD(O6,10)+2 -> 5 | R6: {=INDIRECT(ADDRESS(P6,Q6))} -> 1e-05
A7: 240 | B7: 1e-05 | C7: =B7+0.1*($B8-$B7) -> 1e-05 | D7: =C7+0.1*($B8-$B7) -> 1e-05 | E7: =D7+0.1*($B8-$B7) -> 1e-05 | F7: =E7+0.1*($B8-$B7) -> 1e-05 | G7: =F7+0.1*($B8-$B7) -> 1e-05 | H7: =G7+0.1*($B8-$B7) -> 1e-05 | I7: =H7+0.1*($B8-$B7) -> 1e-05 | J7: =I7+0.1*($B8-$B7) -> 1e-05 | ... L7: =K7+0.1*($B8-$B7) -> 1e-05 | O7: 384 | P7: =P6 -> 21 | Q7: =MOD(O7,10)+2 -> 6 | R7: {=INDIRECT(ADDRESS(P7,Q7))} -> 1e-05
A8: 250 | B8: 1e-05 | C8: =B8+0.1*($B9-$B8) -> 1e-05 | D8: =C8+0.1*($B9-$B8) -> 1e-05 | E8: =D8+0.1*($B9-$B8) -> 1e-05 | F8: =E8+0.1*($B9-$B8) -> 1e-05 | G8: =F8+0.1*($B9-$B8) -> 1e-05 | H8: =G8+0.1*($B9-$B8) -> 1e-05 | I8: =H8+0.1*($B9-$B8) -> 1e-05 | J8: =I8+0.1*($B9-$B8) -> 1e-05 | ... L8: =K8+0.1*($B9-$B8) -> 1e-05 | O8: 385 | P8: =P7 -> 21 | Q8: =MOD(O8,10)+2 -> 7 | R8: {=INDIRECT(ADDRESS(P8,Q8))} -> 1e-05
A9: 260 | B9: 1e-05 | C9: =B9+0.1*($B10-$B9) -> 1e-05 | D9: =C9+0.1*($B10-$B9) -> 1e-05 | E9: =D9+0.1*($B10-$B9) -> 1e-05 | F9: =E9+0.1*($B10-$B9) -> 1e-05 | G9: =F9+0.1*($B10-$B9) -> 1e-05 | H9: =G9+0.1*($B10-$B9) -> 1e-05 | I9: =H9+0.1*($B10-$B9) -> 1e-05 | J9: =I9+0.1*($B10-$B9) -> 1e-05 | ... L9: =K9+0.1*($B10-$B9) -> 1e-05 | O9: 386 | P9: =P8 -> 21 | Q9: =MOD(O9,10)+2 -> 8 | R9: {=INDIRECT(ADDRESS(P9,Q9))} -> 1e-05
A10: 270 | B10: 1e-05 | C10: =B10+0.1*($B11-$B10) -> 1e-05 | D10: =C10+0.1*($B11-$B10) -> 1e-05 | E10: =D10+0.1*($B11-$B10) -> 1e-05 | F10: =E10+0.1*($B11-$B10) -> 1e-05 | G10: =F10+0.1*($B11-$B10) -> 1e-05 | H10: =G10+0.1*($B11-$B10) -> 1e-05 | I10: =H10+0.1*($B11-$B10) -> 1e-05 | J10: =I10+0.1*($B11-$B10) -> 1e-05 | ... L10: =K10+0.1*($B11-$B10) -> 1e-05 | O10: 387 | P10: =P9 -> 21 | Q10: =MOD(O10,10)+2 -> 9 | R10: {=INDIRECT(ADDRESS(P10,Q10))} -> 1e-05
A11: 280 | B11: 1e-05 | C11: =B11+0.1*($B12-$B11) -> 1e-05 | D11: =C11+0.1*($B12-$B11) -> 1e-05 | E11: =D11+0.1*($B12-$B11) -> 1e-05 | F11: =E11+0.1*($B12-$B11) -> 1e-05 | G11: =F11+0.1*($B12-$B11) -> 1e-05 | H11: =G11+0.1*($B12-$B11) -> 1e-05 | I11: =H11+0.1*($B12-$B11) -> 1e-05 | J11: =I11+0.1*($B12-$B11) -> 1e-05 | ... L11: =K11+0.1*($B12-$B11) -> 1e-05 | O11: 388 | P11: =P10 -> 21 | Q11: =MOD(O11,10)+2 -> 10 | R11: {=INDIRECT(ADDRESS(P11,Q11))} -> 1e-05
A12: 290 | B12: 1e-05 | C12: =B12+0.1*($B13-$B12) -> 1e-05 | D12: =C12+0.1*($B13-$B12) -> 1e-05 | E12: =D12+0.1*($B13-$B12) -> 1e-05 | F12: =E12+0.1*($B13-$B12) -> 1e-05 | G12: =F12+0.1*($B13-$B12) -> 1e-05 | H12: =G12+0.1*($B13-$B12) -> 1e-05 | I12: =H12+0.1*($B13-$B12) -> 1e-05 | J12: =I12+0.1*($B13-$B12) -> 1e-05 | ... L12: =K12+0.1*($B13-$B12) -> 1e-05 | O12: 389 | P12: =P11 -> 21 | Q12: =MOD(O12,10)+2 -> 11 | R12: {=INDIRECT(ADDRESS(P12,Q12))} -> 1e-05
A13: 300 | B13: 1e-05 | C13: =B13+0.1*($B14-$B13) -> 1e-05 | D13: =C13+0.1*($B14-$B13) -> 1e-05 | E13: =D13+0.1*($B14-$B13) -> 1e-05 | F13: =E13+0.1*($B14-$B13) -> 1e-05 | G13: =F13+0.1*($B14-$B13) -> 1e-05 | H13: =G13+0.1*($B14-$B13) -> 1e-05 | I13: =H13+0.1*($B14-$B13) -> 1e-05 | J13: =I13+0.1*($B14-$B13) -> 1e-05 | ... L13: =K13+0.1*($B14-$B13) -> 1e-05 | O13: 390 | P13: =MATCH(O13,$A$3:$A$182,0)+2 -> 22 | Q13: =MOD(O13,10)+2 -> 2 | R13: {=INDIRECT(ADDRESS(P13,Q13))} -> 1e-05
A14: 310 | B14: 1e-05 | C14: =B14+0.1*($B15-$B14) -> 1e-05 | D14: =C14+0.1*($B15-$B14) -> 1e-05 | E14: =D14+0.1*($B15-$B14) -> 1e-05 | F14: =E14+0.1*($B15-$B14) -> 1e-05 | G14: =F14+0.1*($B15-$B14) -> 1e-05 | H14: =G14+0.1*($B15-$B14) -> 1e-05 | I14: =H14+0.1*($B15-$B14) -> 1e-05 | J14: =I14+0.1*($B15-$B14) -> 1e-05 | ... L14: =K14+0.1*($B15-$B14) -> 1e-05 | O14: 391 | P14: =P13 -> 22 | Q14: =MOD(O14,10)+2 -> 3 | R14: {=INDIRECT(ADDRESS(P14,Q14))} -> 1e-05
A15: 320 | B15: 1e-05 | C15: =B15+0.1*($B16-$B15) -> 1e-05 | D15: =C15+0.1*($B16-$B15) -> 1e-05 | E15: =D15+0.1*($B16-$B15) -> 1e-05 | F15: =E15+0.1*($B16-$B15) -> 1e-05 | G15: =F15+0.1*($B16-$B15) -> 1e-05 | H15: =G15+0.1*($B16-$B15) -> 1e-05 | I15: =H15+0.1*($B16-$B15) -> 1e-05 | J15: =I15+0.1*($B16-$B15) -> 1e-05 | ... L15: =K15+0.1*($B16-$B15) -> 1e-05 | O15: 392 | P15: =P14 -> 22 | Q15: =MOD(O15,10)+2 -> 4 | R15: {=INDIRECT(ADDRESS(P15,Q15))} -> 1e-05
A16: 330 | B16: 1e-05 | C16: =B16+0.1*($B17-$B16) -> 1e-05 | D16: =C16+0.1*($B17-$B16) -> 1e-05 | E16: =D16+0.1*($B17-$B16) -> 1e-05 | F16: =E16+0.1*($B17-$B16) -> 1e-05 | G16: =F16+0.1*($B17-$B16) -> 1e-05 | H16: =G16+0.1*($B17-$B16) -> 1e-05 | I16: =H16+0.1*($B17-$B16) -> 1e-05 | J16: =I16+0.1*($B17-$B16) -> 1e-05 | ... L16: =K16+0.1*($B17-$B16) -> 1e-05 | O16: 393 | P16: =P15 -> 22 | Q16: =MOD(O16,10)+2 -> 5 | R16: {=INDIRECT(ADDRESS(P16,Q16))} -> 1e-05
A17: 340 | B17: 1e-05 | C17: =B17+0.1*($B18-$B17) -> 1e-05 | D17: =C17+0.1*($B18-$B17) -> 1e-05 | E17: =D17+0.1*($B18-$B17) -> 1e-05 | F17: =E17+0.1*($B18-$B17) -> 1e-05 | G17: =F17+0.1*($B18-$B17) -> 1e-05 | H17: =G17+0.1*($B18-$B17) -> 1e-05 | I17: =H17+0.1*($B18-$B17) -> 1e-05 | J17: =I17+0.1*($B18-$B17) -> 1e-05 | ... L17: =K17+0.1*($B18-$B17) -> 1e-05 | O17: 394 | P17: =P16 -> 22 | Q17: =MOD(O17,10)+2 -> 6 | R17: {=INDIRECT(ADDRESS(P17,Q17))} -> 1e-05
A18: 350 | B18: 1e-05 | C18: =B18+0.1*($B19-$B18) -> 1e-05 | D18: =C18+0.1*($B19-$B18) -> 1e-05 | E18: =D18+0.1*($B19-$B18) -> 1e-05 | F18: =E18+0.1*($B19-$B18) -> 1e-05 | G18: =F18+0.1*($B19-$B18) -> 1e-05 | H18: =G18+0.1*($B19-$B18) -> 1e-05 | I18: =H18+0.1*($B19-$B18) -> 1e-05 | J18: =I18+0.1*($B19-$B18) -> 1e-05 | ... L18: =K18+0.1*($B19-$B18) -> 1e-05 | O18: 395 | P18: =P17 -> 22 | Q18: =MOD(O18,10)+2 -> 7 | R18: {=INDIRECT(ADDRESS(P18,Q18))} -> 1e-05
A19: 360 | B19: 1e-05 | C19: =B19+0.1*($B20-$B19) -> 1e-05 | D19: =C19+0.1*($B20-$B19) -> 1e-05 | E19: =D19+0.1*($B20-$B19) -> 1e-05 | F19: =E19+0.1*($B20-$B19) -> 1e-05 | G19: =F19+0.1*($B20-$B19) -> 1e-05 | H19: =G19+0.1*($B20-$B19) -> 1e-05 | I19: =H19+0.1*($B20-$B19) -> 1e-05 | J19: =I19+0.1*($B20-$B19) -> 1e-05 | ... L19: =K19+0.1*($B20-$B19) -> 1e-05 | O19: 396 | P19: =P18 -> 22 | Q19: =MOD(O19,10)+2 -> 8 | R19: {=INDIRECT(ADDRESS(P19,Q19))} -> 1e-05
A20: 370 | B20: 1e-05 | C20: =B20+0.1*($B21-$B20) -> 1e-05 | D20: =C20+0.1*($B21-$B20) -> 1e-05 | E20: =D20+0.1*($B21-$B20) -> 1e-05 | F20: =E20+0.1*($B21-$B20) -> 1e-05 | G20: =F20+0.1*($B21-$B20) -> 1e-05 | H20: =G20+0.1*($B21-$B20) -> 1e-05 | I20: =H20+0.1*($B21-$B20) -> 1e-05 | J20: =I20+0.1*($B21-$B20) -> 1e-05 | ... L20: =K20+0.1*($B21-$B20) -> 1e-05 | O20: 397 | P20: =P19 -> 22 | Q20: =MOD(O20,10)+2 -> 9 | R20: {=INDIRECT(ADDRESS(P20,Q20))} -> 1e-05
A21: 380 | B21: 1e-05 | C21: =B21+0.1*($B22-$B21) -> 1e-05 | D21: =C21+0.1*($B22-$B21) -> 1e-05 | E21: =D21+0.1*($B22-$B21) -> 1e-05 | F21: =E21+0.1*($B22-$B21) -> 1e-05 | G21: =F21+0.1*($B22-$B21) -> 1e-05 | H21: =G21+0.1*($B22-$B21) -> 1e-05 | I21: =H21+0.1*($B22-$B21) -> 1e-05 | J21: =I21+0.1*($B22-$B21) -> 1e-05 | ... L21: =K21+0.1*($B22-$B21) -> 1e-05 | O21: 398 | P21: =P20 -> 22 | Q21: =MOD(O21,10)+2 -> 10 | R21: {=INDIRECT(ADDRESS(P21,Q21))} -> 1e-05
A22: 390 | B22: 1e-05 | C22: =B22+0.1*($B23-$B22) -> 1e-05 | D22: =C22+0.1*($B23-$B22) -> 1e-05 | E22: =D22+0.1*($B23-$B22) -> 1e-05 | F22: =E22+0.1*($B23-$B22) -> 1e-05 | G22: =F22+0.1*($B23-$B22) -> 1e-05 | H22: =G22+0.1*($B23-$B22) -> 1e-05 | I22: =H22+0.1*($B23-$B22) -> 1e-05 | J22: =I22+0.1*($B23-$B22) -> 1e-05 | ... L22: =K22+0.1*($B23-$B22) -> 1e-05 | O22: 399 | P22: =P21 -> 22 | Q22: =MOD(O22,10)+2 -> 11 | R22: {=INDIRECT(ADDRESS(P22,Q22))} -> 1e-05
A23: 400 | B23: 1e-05 | C23: =B23+0.1*($B24-$B23) -> 1e-05 | D23: =C23+0.1*($B24-$B23) -> 1e-05 | E23: =D23+0.1*($B24-$B23) -> 1e-05 | F23: =E23+0.1*($B24-$B23) -> 1e-05 | G23: =F23+0.1*($B24-$B23) -> 1e-05 | H23: =G23+0.1*($B24-$B23) -> 1e-05 | I23: =H23+0.1*($B24-$B23) -> 1e-05 | J23: =I23+0.1*($B24-$B23) -> 1e-05 | ... L23: =K23+0.1*($B24-$B23) -> 1e-05 | O23: 400 | P23: =MATCH(O23,$A$3:$A$182,0)+2 -> 23 | Q23: =MOD(O23,10)+2 -> 2 | R23: {=INDIRECT(ADDRESS(P23,Q23))} -> 1e-05
A24: 410 | B24: 1e-05 | C24: =B24+0.1*($B25-$B24) -> 1e-05 | D24: =C24+0.1*($B25-$B24) -> 1e-05 | E24: =D24+0.1*($B25-$B24) -> 1e-05 | F24: =E24+0.1*($B25-$B24) -> 1e-05 | G24: =F24+0.1*($B25-$B24) -> 1e-05 | H24: =G24+0.1*($B25-$B24) -> 1e-05 | I24: =H24+0.1*($B25-$B24) -> 1e-05 | J24: =I24+0.1*($B25-$B24) -> 1e-05 | ... L24: =K24+0.1*($B25-$B24) -> 1e-05 | O24: 401 | P24: =P23 -> 23 | Q24: =MOD(O24,10)+2 -> 3 | R24: {=INDIRECT(ADDRESS(P24,Q24))} -> 1e-05
A25: 420 | B25: 1e-05 | C25: =B25+0.1*($B26-$B25) -> 1e-05 | D25: =C25+0.1*($B26-$B25) -> 1e-05 | E25: =D25+0.1*($B26-$B25) -> 1e-05 | F25: =E25+0.1*($B26-$B25) -> 1e-05 | G25: =F25+0.1*($B26-$B25) -> 1e-05 | H25: =G25+0.1*($B26-$B25) -> 1e-05 | I25: =H25+0.1*($B26-$B25) -> 1e-05 | J25: =I25+0.1*($B26-$B25) -> 1e-05 | ... L25: =K25+0.1*($B26-$B25) -> 1e-05 | O25: 402 | P25: =P24 -> 23 | Q25: =MOD(O25,10)+2 -> 4 | R25: {=INDIRECT(ADDRESS(P25,Q25))} -> 1e-05
A26: 430 | B26: 1e-05 | C26: =B26+0.1*($B27-$B26) -> 1e-05 | D26: =C26+0.1*($B27-$B26) -> 1e-05 | E26: =D26+0.1*($B27-$B26) -> 1e-05 | F26: =E26+0.1*($B27-$B26) -> 1e-05 | G26: =F26+0.1*($B27-$B26) -> 1e-05 | H26: =G26+0.1*($B27-$B26) -> 1e-05 | I26: =H26+0.1*($B27-$B26) -> 1e-05 | J26: =I26+0.1*($B27-$B26) -> 1e-05 | ... L26: =K26+0.1*($B27-$B26) -> 1e-05 | O26: 403 | P26: =P25 -> 23 | Q26: =MOD(O26,10)+2 -> 5 | R26: {=INDIRECT(ADDRESS(P26,Q26))} -> 1e-05
A27: 440 | B27: 1e-05 | C27: =B27+0.1*($B28-$B27) -> 1e-05 | D27: =C27+0.1*($B28-$B27) -> 1e-05 | E27: =D27+0.1*($B28-$B27) -> 1e-05 | F27: =E27+0.1*($B28-$B27) -> 1e-05 | G27: =F27+0.1*($B28-$B27) -> 1e-05 | H27: =G27+0.1*($B28-$B27) -> 1e-05 | I27: =H27+0.1*($B28-$B27) -> 1e-05 | J27: =I27+0.1*($B28-$B27) -> 1e-05 | ... L27: =K27+0.1*($B28-$B27) -> 1e-05 | O27: 404 | P27: =P26 -> 23 | Q27: =MOD(O27,10)+2 -> 6 | R27: {=INDIRECT(ADDRESS(P27,Q27))} -> 1e-05
A28: 450 | B28: 1e-05 | C28: =B28+0.1*($B29-$B28) -> 1e-05 | D28: =C28+0.1*($B29-$B28) -> 1e-05 | E28: =D28+0.1*($B29-$B28) -> 1e-05 | F28: =E28+0.1*($B29-$B28) -> 1e-05 | G28: =F28+0.1*($B29-$B28) -> 1e-05 | H28: =G28+0.1*($B29-$B28) -> 1e-05 | I28: =H28+0.1*($B29-$B28) -> 1e-05 | J28: =I28+0.1*($B29-$B28) -> 1e-05 | ... L28: =K28+0.1*($B29-$B28) -> 1e-05 | O28: 405 | P28: =P27 -> 23 | Q28: =MOD(O28,10)+2 -> 7 | R28: {=INDIRECT(ADDRESS(P28,Q28))} -> 1e-05
A29: 460 | B29: 1e-05 | C29: =B29+0.1*($B30-$B29) -> 1e-05 | D29: =C29+0.1*($B30-$B29) -> 1e-05 | E29: =D29+0.1*($B30-$B29) -> 1e-05 | F29: =E29+0.1*($B30-$B29) -> 1e-05 | G29: =F29+0.1*($B30-$B29) -> 1e-05 | H29: =G29+0.1*($B30-$B29) -> 1e-05 | I29: =H29+0.1*($B30-$B29) -> 1e-05 | J29: =I29+0.1*($B30-$B29) -> 1e-05 | ... L29: =K29+0.1*($B30-$B29) -> 1e-05 | O29: 405 | P29: =P28 -> 23 | Q29: =MOD(O29,10)+2 -> 7 | R29: {=INDIRECT(ADDRESS(P29,Q29))} -> 1e-05
A30: 470 | B30: 1e-05 | C30: =B30+0.1*($B31-$B30) -> 1e-05 | D30: =C30+0.1*($B31-$B30) -> 1e-05 | E30: =D30+0.1*($B31-$B30) -> 1e-05 | F30: =E30+0.1*($B31-$B30) -> 1e-05 | G30: =F30+0.1*($B31-$B30) -> 1e-05 | H30: =G30+0.1*($B31-$B30) -> 1e-05 | I30: =H30+0.1*($B31-$B30) -> 1e-05 | J30: =I30+0.1*($B31-$B30) -> 1e-05 | ... L30: =K30+0.1*($B31-$B30) -> 1e-05 | O30: 407 | P30: =P29 -> 23 | Q30: =MOD(O30,10)+2 -> 9 | R30: {=INDIRECT(ADDRESS(P30,Q30))} -> 1e-05
A31: 480 | B31: 1e-05 | C31: =B31+0.1*($B32-$B31) -> 1e-05 | D31: =C31+0.1*($B32-$B31) -> 1e-05 | E31: =D31+0.1*($B32-$B31) -> 1e-05 | F31: =E31+0.1*($B32-$B31) -> 1e-05 | G31: =F31+0.1*($B32-$B31) -> 1e-05 | H31: =G31+0.1*($B32-$B31) -> 1e-05 | I31: =H31+0.1*($B32-$B31) -> 1e-05 | J31: =I31+0.1*($B32-$B31) -> 1e-05 | ... L31: =K31+0.1*($B32-$B31) -> 1e-05 | O31: 408 | P31: =P30 -> 23 | Q31: =MOD(O31,10)+2 -> 10 | R31: {=INDIRECT(ADDRESS(P31,Q31))} -> 1e-05
A32: 490 | B32: 1e-05 | C32: =B32+0.1*($B33-$B32) -> 1e-05 | D32: =C32+0.1*($B33-$B32) -> 1e-05 | E32: =D32+0.1*($B33-$B32) -> 1e-05 | F32: =E32+0.1*($B33-$B32) -> 1e-05 | G32: =F32+0.1*($B33-$B32) -> 1e-05 | H32: =G32+0.1*($B33-$B32) -> 1e-05 | I32: =H32+0.1*($B33-$B32) -> 1e-05 | J32: =I32+0.1*($B33-$B32) -> 1e-05 | ... L32: =K32+0.1*($B33-$B32) -> 1e-05 | O32: 409 | P32: =P31 -> 23 | Q32: =MOD(O32,10)+2 -> 11 | R32: {=INDIRECT(ADDRESS(P32,Q32))} -> 1e-05
A33: 500 | B33: 1e-05 | C33: =B33+0.1*($B34-$B33) -> 0.0005279 | D33: =C33+0.1*($B34-$B33) -> 0.0010458 | E33: =D33+0.1*($B34-$B33) -> 0.0015637 | F33: =E33+0.1*($B34-$B33) -> 0.0020816 | G33: =F33+0.1*($B34-$B33) -> 0.0025995 | H33: =G33+0.1*($B34-$B33) -> 0.0031174 | I33: =H33+0.1*($B34-$B33) -> 0.0036353 | J33: =I33+0.1*($B34-$B33) -> 0.0041532 | ... L33: =K33+0.1*($B34-$B33) -> 0.005189 | O33: 410 | P33: =MATCH(O33,$A$3:$A$182,0)+2 -> 24 | Q33: =MOD(O33,10)+2 -> 2 | R33: {=INDIRECT(ADDRESS(P33,Q33))} -> 1e-05
A34: 510 | B34: 0.005189 | C34: =B34+0.1*($B35-$B34) -> 0.0183101 | D34: =C34+0.1*($B35-$B34) -> 0.0314312 | E34: =D34+0.1*($B35-$B34) -> 0.0445523 | F34: =E34+0.1*($B35-$B34) -> 0.0576734 | G34: =F34+0.1*($B35-$B34) -> 0.0707945 | H34: =G34+0.1*($B35-$B34) -> 0.0839156 | I34: =H34+0.1*($B35-$B34) -> 0.0970367 | J34: =I34+0.1*($B35-$B34) -> 0.1101578 | ... L34: =K34+0.1*($B35-$B34) -> 0.1364 | O34: 411 | P34: =P33 -> 24 | Q34: =MOD(O34,10)+2 -> 3 | R34: {=INDIRECT(ADDRESS(P34,Q34))} -> 1e-05
A35: 520 | B35: 0.1364 | C35: =B35+0.1*($B36-$B35) -> 0.17416 | D35: =C35+0.1*($B36-$B35) -> 0.21192 | E35: =D35+0.1*($B36-$B35) -> 0.24968 | F35: =E35+0.1*($B36-$B35) -> 0.28744 | G35: =F35+0.1*($B36-$B35) -> 0.3252 | H35: =G35+0.1*($B36-$B35) -> 0.36296 | I35: =H35+0.1*($B36-$B35) -> 0.40072 | J35: =I35+0.1*($B36-$B35) -> 0.43848 | ... L35: =K35+0.1*($B36-$B35) -> 0.514 | O35: 412 | P35: =P34 -> 24 | Q35: =MOD(O35,10)+2 -> 4 | R35: {=INDIRECT(ADDRESS(P35,Q35))} -> 1e-05
A36: 530 | B36: 0.514 | C36: =B36+0.1*($B37-$B36) -> 0.54278 | D36: =C36+0.1*($B37-$B36) -> 0.57156 | E36: =D36+0.1*($B37-$B36) -> 0.60034 | F36: =E36+0.1*($B37-$B36) -> 0.62912 | G36: =F36+0.1*($B37-$B36) -> 0.6579 | H36: =G36+0.1*($B37-$B36) -> 0.68668 | I36: =H36+0.1*($B37-$B36) -> 0.71546 | J36: =I36+0.1*($B37-$B36) -> 0.74424 | ... L36: =K36+0.1*($B37-$B36) -> 0.8018 | O36: 413 | P36: =P35 -> 24 | Q36: =MOD(O36,10)+2 -> 5 | R36: {=INDIRECT(ADDRESS(P36,Q36))} -> 1e-05
A37: 540 | B37: 0.8018 | C37: =B37+0.1*($B38-$B37) -> 0.81353 | D37: =C37+0.1*($B38-$B37) -> 0.82526 | E37: =D37+0.1*($B38-$B37) -> 0.83699 | F37: =E37+0.1*($B38-$B37) -> 0.84872 | G37: =F37+0.1*($B38-$B37) -> 0.86045 | H37: =G37+0.1*($B38-$B37) -> 0.87218 | I37: =H37+0.1*($B38-$B37) -> 0.88391 | J37: =I37+0.1*($B38-$B37) -> 0.89564 | ... L37: =K37+0.1*($B38-$B37) -> 0.9191 | O37: 414 | P37: =P36 -> 24 | Q37: =MOD(O37,10)+2 -> 6 | R37: {=INDIRECT(ADDRESS(P37,Q37))} -> 1e-05
A38: 550 | B38: 0.9191 | C38: =B38+0.1*($B39-$B38) -> 0.92327 | D38: =C38+0.1*($B39-$B38) -> 0.92744 | E38: =D38+0.1*($B39-$B38) -> 0.93161 | F38: =E38+0.1*($B39-$B38) -> 0.93578 | G38: =F38+0.1*($B39-$B38) -> 0.93995 | H38: =G38+0.1*($B39-$B38) -> 0.94412 | I38: =H38+0.1*($B39-$B38) -> 0.94829 | J38: =I38+0.1*($B39-$B38) -> 0.95246 | ... L38: =K38+0.1*($B39-$B38) -> 0.9608 | O38: 415 | P38: =P37 -> 24 | Q38: =MOD(O38,10)+2 -> 7 | R38: {=INDIRECT(ADDRESS(P38,Q38))} -> 1e-05
A39: 560 | B39: 0.9608 | C39: =B39+0.1*($B40-$B39) -> 0.96232 | D39: =C39+0.1*($B40-$B39) -> 0.96384 | E39: =D39+0.1*($B40-$B39) -> 0.96536 | F39: =E39+0.1*($B40-$B39) -> 0.96688 | G39: =F39+0.1*($B40-$B39) -> 0.9684 | H39: =G39+0.1*($B40-$B39) -> 0.96992 | I39: =H39+0.1*($B40-$B39) -> 0.97144 | J39: =I39+0.1*($B40-$B39) -> 0.97296 | ... L39: =K39+0.1*($B40-$B39) -> 0.976 | O39: 416 | P39: =P38 -> 24 | Q39: =MOD(O39,10)+2 -> 8 | R39: {=INDIRECT(ADDRESS(P39,Q39))} -> 1e-05
A40: 570 | B40: 0.976 | C40: =B40+0.1*($B41-$B40) -> 0.97659 | D40: =C40+0.1*($B41-$B40) -> 0.97718 | E40: =D40+0.1*($B41-$B40) -> 0.97777 | F40: =E40+0.1*($B41-$B40) -> 0.97836 | G40: =F40+0.1*($B41-$B40) -> 0.97895 | H40: =G40+0.1*($B41-$B40) -> 0.97954 | I40: =H40+0.1*($B41-$B40) -> 0.98013 | J40: =I40+0.1*($B41-$B40) -> 0.98072 | ... L40: =K40+0.1*($B41-$B40) -> 0.9819 | O40: 417 | P40: =P39 -> 24 | Q40: =MOD(O40,10)+2 -> 9 | R40: {=INDIRECT(ADDRESS(P40,Q40))} -> 1e-05
...

Sheet sources
M1: LED raw spectra
L3: sum | M3: =SUM(M6:M71) -> 17.979 | O3: =SUM(O6:O86) -> 66.635
D4: Duris E3 | L4: share | M4: 0.3716 | O4: =1-M4 -> 0.6284 | P4: radiometric | Q4: from info file
B5: Halogen | D5: LED | L5: factor | M5: =M4/M3 -> 0.020668558 | O5: =O4/O3 -> 0.0094304795
B6: 3000 K | C6: normalized | D6: blue | E6: yellow | F6: sum | G6: normalized | H6: smoothened | I6: smoothened | L6: 380 | M6: 0.002 | N6: 510 | O6: 0.8813
L7: 382 | M7: 0.003 | N7: 512 | O7: 0.8967
A8: 300 | B8: 5.5912226 | C8: =B8/MAX($B$8:$B$508) -> 0.0061588744 | F8: =D8*$M$5+E8*$O$5 -> 0 | G8: =F8/MAX($F$8:$F$508) -> 0 | H8: =G8 -> 0 | L8: 384 | M8: 0.002 | N8: 514 | O8: 0.9099
A9: 301 | B9: 5.7989106 | C9: =B9/MAX($B$8:$B$508) -> 0.006387648 | F9: =D9*$M$5+E9*$O$5 -> 0 | G9: =F9/MAX($F$8:$F$508) -> 0 | H9: =AVERAGE(G8,G10) -> 0 | I9: =AVERAGE(H8:H10) -> 0 | L9: 386 | M9: 0.003 | N9: 516 | O9: 0.9165
A10: 302 | B10: 6.01253 | C10: =B10/MAX($B$8:$B$508) -> 0.0066229552 | F10: =D10*$M$5+E10*$O$5 -> 0 | G10: =F10/MAX($F$8:$F$508) -> 0 | H10: =G10 -> 0 | I10: =AVERAGE(H9:H11) -> 0 | L10: 388 | M10: 0.003 | N10: 518 | O10: 0.9297
A11: 303 | B11: 6.2321897 | C11: =B11/MAX($B$8:$B$508) -> 0.006864916 | F11: =D11*$M$5+E11*$O$5 -> 0 | G11: =F11/MAX($F$8:$F$508) -> 0 | H11: =AVERAGE(G10,G12) -> 0 | I11: =AVERAGE(H10:H12) -> 0 | L11: 390 | M11: 0.002 | N11: 520 | O11: 0.9385
A12: 304 | B12: 6.457999 | C12: =B12/MAX($B$8:$B$508) -> 0.0071136507 | F12: =D12*$M$5+E12*$O$5 -> 0 | G12: =F12/MAX($F$8:$F$508) -> 0 | H12: =G12 -> 0 | I12: =AVERAGE(H11:H13) -> 0 | L12: 392 | M12: 0.003 | N12: 522 | O12: 0.9451
A13: 305 | B13: 6.6900676 | C13: =B13/MAX($B$8:$B$508) -> 0.0073692802 | F13: =D13*$M$5+E13*$O$5 -> 0 | G13: =F13/MAX($F$8:$F$508) -> 0 | H13: =AVERAGE(G12,G14) -> 0 | I13: =AVERAGE(H12:H14) -> 0 | L13: 394 | M13: 0.003 | N13: 524 | O13: 0.956
A14: 306 | B14: 6.9285054 | C14: =B14/MAX($B$8:$B$508) -> 0.0076319255 | F14: =D14*$M$5+E14*$O$5 -> 0 | G14: =F14/MAX($F$8:$F$508) -> 0 | H14: =G14 -> 0 | I14: =AVERAGE(H13:H15) -> 0 | L14: 396 | M14: 0.002 | N14: 526 | O14: 0.9648
A15: 307 | B15: 7.1734226 | C15: =B15/MAX($B$8:$B$508) -> 0.0079017081 | F15: =D15*$M$5+E15*$O$5 -> 0 | G15: =F15/MAX($F$8:$F$508) -> 0 | H15: =AVERAGE(G14,G16) -> 0 | I15: =AVERAGE(H14:H16) -> 0 | L15: 398 | M15: 0.003 | N15: 528 | O15: 0.967
A16: 308 | B16: 7.4249297 | C16: =B16/MAX($B$8:$B$508) -> 0.0081787495 | F16: =D16*$M$5+E16*$O$5 -> 0 | G16: =F16/MAX($F$8:$F$508) -> 0 | H16: =G16 -> 0 | I16: =AVERAGE(H15:H17) -> 0 | L16: 400 | M16: 0.003 | N16: 530 | O16: 0.9692
A17: 309 | B17: 7.6831372 | C17: =B17/MAX($B$8:$B$508) -> 0.0084631717 | F17: =D17*$M$5+E17*$O$5 -> 0 | G17: =F17/MAX($F$8:$F$508) -> 0 | H17: =AVERAGE(G16,G18) -> 0 | I17: =AVERAGE(H16:H18) -> 0 | L17: 402 | M17: 0.003 | N17: 532 | O17: 0.9758
A18: 310 | B18: 7.9481559 | C18: =B18/MAX($B$8:$B$508) -> 0.0087550966 | F18: =D18*$M$5+E18*$O$5 -> 0 | G18: =F18/MAX($F$8:$F$508) -> 0 | H18: =G18 -> 0 | I18: =AVERAGE(H17:H19) -> 0 | L18: 404 | M18: 0.004 | N18: 534 | O18: 0.9802
A19: 311 | B19: 8.2200969 | C19: =B19/MAX($B$8:$B$508) -> 0.0090546465 | F19: =D19*$M$5+E19*$O$5 -> 0 | G19: =F19/MAX($F$8:$F$508) -> 0 | H19: =AVERAGE(G18,G20) -> 0 | I19: =AVERAGE(H18:H20) -> 0 | L19: 406 | M19: 0.004 | N19: 536 | O19: 0.9824
A20: 312 | B20: 8.499071 | C20: =B20/MAX($B$8:$B$508) -> 0.0093619436 | F20: =D20*$M$5+E20*$O$5 -> 0 | G20: =F20/MAX($F$8:$F$508) -> 0 | H20: =G20 -> 0 | I20: =AVERAGE(H19:H21) -> 0 | L20: 408 | M20: 0.005 | N20: 538 | O20: 0.9846
A21: 313 | B21: 8.7851893 | C21: =B21/MAX($B$8:$B$508) -> 0.0096771102 | F21: =D21*$M$5+E21*$O$5 -> 0 | G21: =F21/MAX($F$8:$F$508) -> 0 | H21: =AVERAGE(G20,G22) -> 0 | I21: =AVERAGE(H20:H22) -> 0 | L21: 410 | M21: 0.006 | N21: 540 | O21: 0.9934
A22: 314 | B22: 9.0785629 | C22: =B22/MAX($B$8:$B$508) -> 0.010000269 | F22: =D22*$M$5+E22*$O$5 -> 0 | G22: =F22/MAX($F$8:$F$508) -> 0 | H22: =G22 -> 0 | I22: =AVERAGE(H21:H23) -> 0 | L22: 412 | M22: 0.008 | N22: 542 | O22: 0.9912
A23: 315 | B23: 9.3793028 | C23: =B23/MAX($B$8:$B$508) -> 0.010331541 | F23: =D23*$M$5+E23*$O$5 -> 0 | G23: =F23/MAX($F$8:$F$508) -> 0 | H23: =AVERAGE(G22,G24) -> 0 | I23: =AVERAGE(H22:H24) -> 0 | L23: 414 | M23: 0.009 | N23: 544 | O23: 0.9978
A24: 316 | B24: 9.6875201 | C24: =B24/MAX($B$8:$B$508) -> 0.010671051 | F24: =D24*$M$5+E24*$O$5 -> 0 | G24: =F24/MAX($F$8:$F$508) -> 0 | H24: =G24 -> 0 | I24: =AVERAGE(H23:H25) -> 0 | L24: 416 | M24: 0.012 | N24: 546 | O24: 1
A25: 317 | B25: 10.003326 | C25: =B25/MAX($B$8:$B$508) -> 0.011018918 | F25: =D25*$M$5+E25*$O$5 -> 0 | G25: =F25/MAX($F$8:$F$508) -> 0 | H25: =AVERAGE(G24,G26) -> 0 | I25: =AVERAGE(H24:H26) -> 0 | L25: 418 | M25: 0.015 | N25: 548 | O25: 0.9956
A26: 318 | B26: 10.32683 | C26: =B26/MAX($B$8:$B$508) -> 0.011375267 | F26: =D26*$M$5+E26*$O$5 -> 0 | G26: =F26/MAX($F$8:$F$508) -> 0 | H26: =G26 -> 0 | I26: =AVERAGE(H25:H27) -> 0 | L26: 420 | M26: 0.019 | N26: 550 | O26: 0.989
A27: 319 | B27: 10.658144 | C27: =B27/MAX($B$8:$B$508) -> 0.011740218 | F27: =D27*$M$5+E27*$O$5 -> 0 | G27: =F27/MAX($F$8:$F$508) -> 0 | H27: =AVERAGE(G26,G28) -> 0 | I27: =AVERAGE(H26:H28) -> 0 | L27: 422 | M27: 0.023 | N27: 552 | O27: 0.9868
A28: 320 | B28: 10.997378 | C28: =B28/MAX($B$8:$B$508) -> 0.012113893 | F28: =D28*$M$5+E28*$O$5 -> 0 | G28: =F28/MAX($F$8:$F$508) -> 0 | H28: =G28 -> 0 | I28: =AVERAGE(H27:H29) -> 0 | L28: 424 | M28: 0.031 | N28: 554 | O28: 0.9824
A29: 321 | B29: 11.344642 | C29: =B29/MAX($B$8:$B$508) -> 0.012496413 | F29: =D29*$M$5+E29*$O$5 -> 0 | G29: =F29/MAX($F$8:$F$508) -> 0 | H29: =AVERAGE(G28,G30) -> 0 | I29: =AVERAGE(H28:H30) -> 0 | L29: 426 | M29: 0.04 | N29: 556 | O29: 0.9802
A30: 322 | B30: 11.700046 | C30: =B30/MAX($B$8:$B$508) -> 0.0128879 | F30: =D30*$M$5+E30*$O$5 -> 0 | G30: =F30/MAX($F$8:$F$508) -> 0 | H30: =G30 -> 0 | I30: =AVERAGE(H29:H31) -> 0 | L30: 428 | M30: 0.053 | N30: 558 | O30: 0.9714
A31: 323 | B31: 12.0637 | C31: =B31/MAX($B$8:$B$508) -> 0.013288473 | F31: =D31*$M$5+E31*$O$5 -> 0 | G31: =F31/MAX($F$8:$F$508) -> 0 | H31: =AVERAGE(G30,G32) -> 0 | I31: =AVERAGE(H30:H32) -> 0 | L31: 430 | M31: 0.068 | N31: 560 | O31: 0.967
A32: 324 | B32: 12.435712 | C32: =B32/MAX($B$8:$B$508) -> 0.013698255 | F32: =D32*$M$5+E32*$O$5 -> 0 | G32: =F32/MAX($F$8:$F$508) -> 0 | H32: =G32 -> 0 | I32: =AVERAGE(H31:H33) -> 0 | L32: 432 | M32: 0.091 | N32: 562 | O32: 0.9582
A33: 325 | B33: 12.816192 | C33: =B33/MAX($B$8:$B$508) -> 0.014117363 | F33: =D33*$M$5+E33*$O$5 -> 0 | G33: =F33/MAX($F$8:$F$508) -> 0 | H33: =AVERAGE(G32,G34) -> 0 | I33: =AVERAGE(H32:H34) -> 0 | L33: 434 | M33: 0.121 | N33: 564 | O33: 0.9495
A34: 326 | B34: 13.205249 | C34: =B34/MAX($B$8:$B$508) -> 0.014545918 | F34: =D34*$M$5+E34*$O$5 -> 0 | G34: =F34/MAX($F$8:$F$508) -> 0 | H34: =G34 -> 0 | I34: =AVERAGE(H33:H35) -> 0 | L34: 436 | M34: 0.158 | N34: 566 | O34: 0.9429
A35: 327 | B35: 13.602989 | C35: =B35/MAX($B$8:$B$508) -> 0.014984039 | F35: =D35*$M$5+E35*$O$5 -> 0 | G35: =F35/MAX($F$8:$F$508) -> 0 | H35: =AVERAGE(G34,G36) -> 0 | I35: =AVERAGE(H34:H36) -> 0 | L35: 438 | M35: 0.211 | N35: 568 | O35: 0.9319
A36: 328 | B36: 14.00952 | C36: =B36/MAX($B$8:$B$508) -> 0.015431844 | F36: =D36*$M$5+E36*$O$5 -> 0 | G36: =F36/MAX($F$8:$F$508) -> 0 | H36: =G36 -> 0 | I36: =AVERAGE(H35:H37) -> 0 | L36: 440 | M36: 0.285 | N36: 570 | O36: 0.9231
A37: 329 | B37: 14.42495 | C37: =B37/MAX($B$8:$B$508) -> 0.015889451 | F37: =D37*$M$5+E37*$O$5 -> 0 | G37: =F37/MAX($F$8:$F$508) -> 0 | H37: =AVERAGE(G36,G38) -> 0 | I37: =AVERAGE(H36:H38) -> 0 | L37: 442 | M37: 0.388 | N37: 572 | O37: 0.9077
A38: 330 | B38: 14.849385 | C38: =B38/MAX($B$8:$B$508) -> 0.016356977 | F38: =D38*$M$5+E38*$O$5 -> 0 | G38: =F38/MAX($F$8:$F$508) -> 0 | H38: =G38 -> 0 | I38: =AVERAGE(H37:H39) -> 0 | L38: 444 | M38: 0.529 | N38: 574 | O38: 0.9011
A39: 331 | B39: 15.28293 | C39: =B39/MAX($B$8:$B$508) -> 0.016834538 | F39: =D39*$M$5+E39*$O$5 -> 0 | G39: =F39/MAX($F$8:$F$508) -> 0 | H39: =AVERAGE(G38,G40) -> 0 | I39: =AVERAGE(H38:H40) -> 0 | L39: 446 | M39: 0.693 | N39: 576 | O39: 0.8923
A40: 332 | B40: 15.725692 | C40: =B40/MAX($B$8:$B$508) -> 0.017322251 | F40: =D40*$M$5+E40*$O$5 -> 0 | G40: =F40/MAX($F$8:$F$508) -> 0 | H40: =G40 -> 0 | I40: =AVERAGE(H39:H41) -> 0 | L40: 448 | M40: 0.853 | N40: 578 | O40: 0.8747
A41: 333 | B41: 16.177773 | C41: =B41/MAX($B$8:$B$508) -> 0.01782023 | F41: =D41*$M$5+E41*$O$5 -> 0 | G41: =F41/MAX($F$8:$F$508) -> 0 | H41: =AVERAGE(G40,G42) -> 0 | I41: =AVERAGE(H40:H42) -> 0 | L41: 450 | M41: 0.971 | N41: 580 | O41: 0.8703
...

Sheet calc
B2: V(L) | C2: 685 | D2: x̅ | E2: y̅ | F2: z̅ | G2: x | H2: y | I2: =sources!B5 -> Halogen | J2: LED | K2: BG47 | L2: OG530 | M2: HxB | N2: HxO | O2: LxB | P2: LxO | U2: X | V2: Y | W2: Z | X2: x | Y2: y
A3: 380 | B3: 3.9e-05 | C3: =B3*$C$2 -> 0.026715 | D3: 0.001368 | E3: 3.9e-05 | F3: 0.006450001 | G3: =D3/SUM($D3:$F3) -> 0.17411223 | H3: =E3/SUM($D3:$F3) -> 0.004963726 | I3: =sources!C88 -> 0.054680964 | J3: =sources!I88 -> 0.0018333333 | K3: ='BG47'!R3 -> 0.5989 | L3: ='OG530'!R3 -> 1e-05 | M3: =I3*K3 -> 0.032748429 | N3: =I3*L3 -> 5.4680964e-07 | O3: =J3*K3 -> 0.0010979833 | P3: =J3*L3 -> 1.8333333e-08 | S3: =$I$2 -> Halogen | T3: original | U3: =SUMPRODUCT($I3:$I403,D3:D403) -> 52.696639 | V3: =SUMPRODUCT($I3:$I403,E3:E403) -> 48.734588 | W3: =SUMPRODUCT($I3:$I403,F3:F403) -> 19.173937 | X3: =U3/(SUM($U3:$W3)) -> 0.43693518 | Y3: =V3/(SUM($U3:$W3)) -> 0.40408376
A4: =A3+1 -> 381 | B4: 4.28264e-05 | C4: =B4*$C$2 -> 0.029336084 | D4: 0.00150205 | E4: 4.28264e-05 | F4: 0.007083216 | G4: =D4/SUM($D4:$F4) -> 0.17408831 | H4: =E4/SUM($D4:$F4) -> 0.0049636001 | I4: =sources!C89 -> 0.055784762 | J4: =sources!I89 -> 0.0025 | K4: ='BG47'!R4 -> 0.60425 | L4: ='OG530'!R4 -> 1e-05 | M4: =I4*K4 -> 0.033707943 | N4: =I4*L4 -> 5.5784762e-07 | O4: =J4*K4 -> 0.001510625 | P4: =J4*L4 -> 2.5e-08 | S4: =$I$2 -> Halogen | T4: + BG47 | U4: =SUMPRODUCT($M3:$M403,D3:D403) -> 17.26506 | V4: =SUMPRODUCT($M3:$M403,E3:E403) -> 25.860084 | W4: =SUMPRODUCT($M3:$M403,F3:F403) -> 15.175679 | X4: =U4/(SUM($U4:$W4)) -> 0.2961375 | Y4: =V4/(SUM($U4:$W4)) -> 0.44356293
A5: =A4+1 -> 382 | B5: 4.69146e-05 | C5: =B5*$C$2 -> 0.032136501 | D5: 0.001642328 | E5: 4.69146e-05 | F5: 0.007745488 | G5: =D5/SUM($D5:$F5) -> 0.17407259 | H5: =E5/SUM($D5:$F5) -> 0.0049725426 | I5: =sources!C90 -> 0.056902933 | J5: =sources!I90 -> 0.0026666667 | K5: ='BG47'!R5 -> 0.6096 | L5: ='OG530'!R5 -> 1e-05 | M5: =I5*K5 -> 0.034688028 | N5: =I5*L5 -> 5.6902933e-07 | O5: =J5*K5 -> 0.0016256 | P5: =J5*L5 -> 2.6666667e-08 | S5: =$I$2 -> Halogen | T5: + OG530 | U5: =SUMPRODUCT($N3:$N403,D3:D403) -> 48.046246 | V5: =SUMPRODUCT($N3:$N403,E3:E403) -> 39.535377 | W5: =SUMPRODUCT($N3:$N403,F3:F403) -> 0.27554471 | X5: =U5/(SUM($U5:$W5)) -> 0.54686769 | Y5: =V5/(SUM($U5:$W5)) -> 0.44999603
A6: =A5+1 -> 383 | B6: 5.15896e-05 | C6: =B6*$C$2 -> 0.035338876 | D6: 0.001802382 | E6: 5.15896e-05 | F6: 0.008501152 | G6: =D6/SUM($D6:$F6) -> 0.17405702 | H6: =E6/SUM($D6:$F6) -> 0.0049820361 | I6: =sources!C91 -> 0.058035518 | J6: =sources!I91 -> 0.0025 | K6: ='BG47'!R6 -> 0.61495 | L6: ='OG530'!R6 -> 1e-05 | M6: =I6*K6 -> 0.035688942 | N6: =I6*L6 -> 5.8035518e-07 | O6: =J6*K6 -> 0.001537375 | P6: =J6*L6 -> 2.5e-08
A7: =A6+1 -> 384 | B7: 5.71764e-05 | C7: =B7*$C$2 -> 0.039165834 | D7: 0.001995757 | E7: 5.71764e-05 | F7: 0.009414544 | G7: =D7/SUM($D7:$F7) -> 0.17403627 | H7: =E7/SUM($D7:$F7) -> 0.0049859614 | I7: =sources!C92 -> 0.059182559 | J7: =sources!I92 -> 0.0023333333 | K7: ='BG47'!R7 -> 0.6203 | L7: ='OG530'!R7 -> 1e-05 | M7: =I7*K7 -> 0.036710941 | N7: =I7*L7 -> 5.9182559e-07 | O7: =J7*K7 -> 0.0014473667 | P7: =J7*L7 -> 2.3333333e-08 | S7: LED | T7: original | U7: =SUMPRODUCT($J3:$J403,D3:D403) -> 40.856637 | V7: =SUMPRODUCT($J3:$J403,E3:E403) -> 43.31568 | W7: =SUMPRODUCT($J3:$J403,F3:F403) -> 45.175122 | X7: =U7/(SUM($U7:$W7)) -> 0.31586738 | Y7: =V7/(SUM($U7:$W7)) -> 0.33487853
A8: =A7+1 -> 385 | B8: 6.4e-05 | C8: =B8*$C$2 -> 0.04384 | D8: 0.002236 | E8: 6.4e-05 | F8: 0.01054999 | G8: =D8/SUM($D8:$F8) -> 0.17400792 | H8: =E8/SUM($D8:$F8) -> 0.0049805486 | I8: =sources!C93 -> 0.060344094 | J8: =sources!I93 -> 0.0025 | K8: ='BG47'!R8 -> 0.62565 | L8: ='OG530'!R8 -> 1e-05 | M8: =I8*K8 -> 0.037754282 | N8: =I8*L8 -> 6.0344094e-07 | O8: =J8*K8 -> 0.001564125 | P8: =J8*L8 -> 2.5e-08 | S8: LED | T8: + BG47 | U8: =SUMPRODUCT($O3:$O403,D3:D403) -> 18.325594 | V8: =SUMPRODUCT($O3:$O403,E3:E403) -> 26.84126 | W8: =SUMPRODUCT($O3:$O403,F3:F403) -> 35.560664 | X8: =U8/(SUM($U8:$W8)) -> 0.22700555 | Y8: =V8/(SUM($U8:$W8)) -> 0.33249208
A9: =A8+1 -> 386 | B9: 7.234421e-05 | C9: =B9*$C$2 -> 0.049555784 | D9: 0.002535385 | E9: 7.234421e-05 | F9: 0.0119658 | G9: =D9/SUM($D9:$F9) -> 0.17397193 | H9: =E9/SUM($D9:$F9) -> 0.0049640831 | I9: =sources!C94 -> 0.06152016 | J9: =sources!I94 -> 0.0028333333 | K9: ='BG47'!R9 -> 0.631 | L9: ='OG530'!R9 -> 1e-05 | M9: =I9*K9 -> 0.038819221 | N9: =I9*L9 -> 6.152016e-07 | O9: =J9*K9 -> 0.0017878333 | P9: =J9*L9 -> 2.8333333e-08 | S9: LED | T9: + OG530 | U9: =SUMPRODUCT($P3:$P403,D3:D403) -> 31.743535 | V9: =SUMPRODUCT($P3:$P403,E3:E403) -> 31.661316 | W9: =SUMPRODUCT($P3:$P403,F3:F403) -> 0.30690484 | X9: =U9/(SUM($U9:$W9)) -> 0.4982367 | Y9: =V9/(SUM($U9:$W9)) -> 0.49694622
A10: =A9+1 -> 387 | B10: 8.221224e-05 | C10: =B10*$C$2 -> 0.056315384 | D10: 0.002892603 | E10: 8.221224e-05 | F10: 0.01365587 | G10: =D10/SUM($D10:$F10) -> 0.17393168 | H10: =E10/SUM($D10:$F10) -> 0.0049434066 | I10: =sources!C95 -> 0.062710792 | J10: =sources!I95 -> 0.003 | K10: ='BG47'!R10 -> 0.63635 | L10: ='OG530'!R10 -> 1e-05 | M10: =I10*K10 -> 0.039906013 | N10: =I10*L10 -> 6.2710792e-07 | O10: =J10*K10 -> 0.00190905 | P10: =J10*L10 -> 3e-08
A11: =A10+1 -> 388 | B11: 9.350816e-05 | C11: =B11*$C$2 -> 0.06405309 | D11: 0.003300829 | E11: 9.350816e-05 | F11: 0.01558805 | G11: =D11/SUM($D11:$F11) -> 0.17388904 | H11: =E11/SUM($D11:$F11) -> 0.0049260485 | I11: =sources!C96 -> 0.063916023 | J11: =sources!I96 -> 0.0028333333 | K11: ='BG47'!R11 -> 0.6417 | L11: ='OG530'!R11 -> 1e-05 | M11: =I11*K11 -> 0.041014912 | N11: =I11*L11 -> 6.3916023e-07 | O11: =J11*K11 -> 0.00181815 | P11: =J11*L11 -> 2.8333333e-08 | S11: const | T11: BG47 | U11: =SUMPRODUCT($K3:$K403,D3:D403) -> 44.230518 | V11: =SUMPRODUCT($K3:$K403,E3:E403) -> 63.769592 | W11: =SUMPRODUCT($K3:$K403,F3:F403) -> 83.36764 | X11: =U11/(SUM($U11:$W11)) -> 0.23112838 | Y11: =V11/(SUM($U11:$W11)) -> 0.33323061 | AA11: no information
A12: =A11+1 -> 389 | B12: 0.0001061361 | C12: =B12*$C$2 -> 0.072703228 | D12: 0.003753236 | E12: 0.0001061361 | F12: 0.01773015 | G12: =D12/SUM($D12:$F12) -> 0.17384526 | H12: =E12/SUM($D12:$F12) -> 0.0049160931 | I12: =sources!C97 -> 0.065135884 | J12: =sources!I97 -> 0.0025 | K12: ='BG47'!R12 -> 0.64705 | L12: ='OG530'!R12 -> 1e-05 | M12: =I12*K12 -> 0.042146174 | N12: =I12*L12 -> 6.5135884e-07 | O12: =J12*K12 -> 0.001617625 | P12: =J12*L12 -> 2.5e-08 | S12: const | T12: OG530 | U12: =SUMPRODUCT($L3:$L403,D3:D403) -> 85.122825 | V12: =SUMPRODUCT($L3:$L403,E3:E403) -> 78.536534 | W12: =SUMPRODUCT($L3:$L403,F3:F403) -> 0.70129489 | X12: =U12/(SUM($U12:$W12)) -> 0.51790269 | Y12: =V12/(SUM($U12:$W12)) -> 0.4778305 | AA12: no information
A13: =A12+1 -> 390 | B13: 0.00012 | C13: =B13*$C$2 -> 0.0822 | D13: 0.004243 | E13: 0.00012 | F13: 0.02005001 | G13: =D13/SUM($D13:$F13) -> 0.17380077 | H13: =E13/SUM($D13:$F13) -> 0.0049154119 | I13: =sources!C98 -> 0.066370404 | J13: =sources!I98 -> 0.0023333333 | K13: ='BG47'!R13 -> 0.6524 | L13: ='OG530'!R13 -> 1e-05 | M13: =I13*K13 -> 0.043300052 | N13: =I13*L13 -> 6.6370404e-07 | O13: =J13*K13 -> 0.0015222667 | P13: =J13*L13 -> 2.3333333e-08
A14: =A13+1 -> 391 | B14: 0.000134984 | C14: =B14*$C$2 -> 0.09246404 | D14: 0.004762389 | E14: 0.000134984 | F14: 0.02251136 | G14: =D14/SUM($D14:$F14) -> 0.17375444 | H14: =E14/SUM($D14:$F14) -> 0.0049248537 | I14: =sources!C99 -> 0.06761961 | J14: =sources!I99 -> 0.0025 | K14: ='BG47'!R14 -> 0.65592 | L14: ='OG530'!R14 -> 1e-05 | M14: =I14*K14 -> 0.044353055 | N14: =I14*L14 -> 6.761961e-07 | O14: =J14*K14 -> 0.0016398 | P14: =J14*L14 -> 2.5e-08
A15: =A14+1 -> 392 | B15: 0.000151492 | C15: =B15*$C$2 -> 0.10377202 | D15: 0.005330048 | E15: 0.000151492 | F15: 0.02520288 | G15: =D15/SUM($D15:$F15) -> 0.17370535 | H15: =E15/SUM($D15:$F15) -> 0.0049370984 | I15: =sources!C100 -> 0.068883528 | J15: =sources!I100 -> 0.0028333333 | K15: ='BG47'!R15 -> 0.65944 | L15: ='OG530'!R15 -> 1e-05 | M15: =I15*K15 -> 0.045424554 | N15: =I15*L15 -> 6.8883528e-07 | O15: =J15*K15 -> 0.0018684133 | P15: =J15*L15 -> 2.8333333e-08
A16: =A15+1 -> 393 | B16: 0.000170208 | C16: =B16*$C$2 -> 0.11659248 | D16: 0.005978712 | E16: 0.000170208 | F16: 0.02827972 | G16: =D16/SUM($D16:$F16) -> 0.17365519 | H16: =E16/SUM($D16:$F16) -> 0.004943791 | I16: =sources!C101 -> 0.070162181 | J16: =sources!I101 -> 0.003 | K16: ='BG47'!R16 -> 0.66296 | L16: ='OG530'!R16 -> 1e-05 | M16: =I16*K16 -> 0.04651472 | N16: =I16*L16 -> 7.0162181e-07 | O16: =J16*K16 -> 0.00198888 | P16: =J16*L16 -> 3e-08
A17: =A16+1 -> 394 | B17: 0.00019186 | C17: =B17*$C$2 -> 0.1314241 | D17: 0.006741117 | E17: 0.000191816 | F17: 0.03189704 | G17: =D17/SUM($D17:$F17) -> 0.17360602 | H17: =E17/SUM($D17:$F17) -> 0.0049398953 | I17: =sources!C102 -> 0.07145559 | J17: =sources!I102 -> 0.0028333333 | K17: ='BG47'!R17 -> 0.66648 | L17: ='OG530'!R17 -> 1e-05 | M17: =I17*K17 -> 0.047623722 | N17: =I17*L17 -> 7.145559e-07 | O17: =J17*K17 -> 0.00188836 | P17: =J17*L17 -> 2.8333333e-08
A18: =A17+1 -> 395 | B18: 0.000217 | C18: =B18*$C$2 -> 0.148645 | D18: 0.00765 | E18: 0.000217 | F18: 0.03621 | G18: =D18/SUM($D18:$F18) -> 0.17355991 | H18: =E18/SUM($D18:$F18) -> 0.0049232026 | I18: =sources!C103 -> 0.072763775 | J18: =sources!I103 -> 0.0025 | K18: ='BG47'!R18 -> 0.67 | L18: ='OG530'!R18 -> 1e-05 | M18: =I18*K18 -> 0.048751729 | N18: =I18*L18 -> 7.2763775e-07 | O18: =J18*K18 -> 0.001675 | P18: =J18*L18 -> 2.5e-08
A19: =A18+1 -> 396 | B19: 0.0002469067 | C19: =B19*$C$2 -> 0.16913109 | D19: 0.008751373 | E19: 0.0002469067 | F19: 0.04143771 | G19: =D19/SUM($D19:$F19) -> 0.17351445 | H19: =E19/SUM($D19:$F19) -> 0.0048954467 | I19: =sources!C104 -> 0.074086752 | J19: =sources!I104 -> 0.0023333333 | K19: ='BG47'!R19 -> 0.67352 | L19: ='OG530'!R19 -> 1e-05 | M19: =I19*K19 -> 0.049898909 | N19: =I19*L19 -> 7.4086752e-07 | O19: =J19*K19 -> 0.0015715467 | P19: =J19*L19 -> 2.3333333e-08
A20: =A19+1 -> 397 | B20: 0.00028124 | C20: =B20*$C$2 -> 0.1926494 | D20: 0.01002888 | E20: 0.00028124 | F20: 0.04750372 | G20: =D20/SUM($D20:$F20) -> 0.1734685 | H20: =E20/SUM($D20:$F20) -> 0.0048645791 | I20: =sources!C105 -> 0.075424538 | J20: =sources!I105 -> 0.0025 | K20: ='BG47'!R20 -> 0.67704 | L20: ='OG530'!R20 -> 1e-05 | M20: =I20*K20 -> 0.051065429 | N20: =I20*L20 -> 7.5424538e-07 | O20: =J20*K20 -> 0.0016926 | P20: =J20*L20 -> 2.5e-08
A21: =A20+1 -> 398 | B21: 0.0003185 | C21: =B21*$C$2 -> 0.2181725 | D21: 0.0114217 | E21: 0.00031852 | F21: 0.05411988 | G21: =D21/SUM($D21:$F21) -> 0.17342367 | H21: =E21/SUM($D21:$F21) -> 0.0048363121 | I21: =sources!C106 -> 0.076777147 | J21: =sources!I106 -> 0.0028333333 | K21: ='BG47'!R21 -> 0.68056 | L21: ='OG530'!R21 -> 1e-05 | M21: =I21*K21 -> 0.052251455 | N21: =I21*L21 -> 7.6777147e-07 | O21: =J21*K21 -> 0.0019282533 | P21: =J21*L21 -> 2.8333333e-08
A22: =A21+1 -> 399 | B22: 0.0003572667 | C22: =B22*$C$2 -> 0.24472769 | D22: 0.01286901 | E22: 0.0003572667 | F22: 0.06099803 | G22: =D22/SUM($D22:$F22) -> 0.17338 | H22: =E22/SUM($D22:$F22) -> 0.0048133383 | I22: =sources!C107 -> 0.078144589 | J22: =sources!I107 -> 0.003 | K22: ='BG47'!R22 -> 0.68408 | L22: ='OG530'!R22 -> 1e-05 | M22: =I22*K22 -> 0.05345715 | N22: =I22*L22 -> 7.8144589e-07 | O22: =J22*K22 -> 0.00205224 | P22: =J22*L22 -> 3e-08
A23: =A22+1 -> 400 | B23: 0.000396 | C23: =B23*$C$2 -> 0.27126 | D23: 0.01431 | E23: 0.000396 | F23: 0.06785001 | G23: =D23/SUM($D23:$F23) -> 0.17333687 | H23: =E23/SUM($D23:$F23) -> 0.0047967434 | I23: =sources!C108 -> 0.079526875 | J23: =sources!I108 -> 0.003 | K23: ='BG47'!R23 -> 0.6876 | L23: ='OG530'!R23 -> 1e-05 | M23: =I23*K23 -> 0.054682679 | N23: =I23*L23 -> 7.9526875e-07 | O23: =J23*K23 -> 0.0020628 | P23: =J23*L23 -> 3e-08
A24: =A23+1 -> 401 | B24: 0.0004337147 | C24: =B24*$C$2 -> 0.29709457 | D24: 0.01570443 | E24: 0.0004337147 | F24: 0.07448632 | G24: =D24/SUM($D24:$F24) -> 0.17329129 | H24: =E24/SUM($D24:$F24) -> 0.0047858456 | I24: =sources!C109 -> 0.080924012 | J24: =sources!I109 -> 0.003 | K24: ='BG47'!R24 -> 0.68992 | L24: ='OG530'!R24 -> 1e-05 | M24: =I24*K24 -> 0.055831094 | N24: =I24*L24 -> 8.0924012e-07 | O24: =J24*K24 -> 0.00206976 | P24: =J24*L24 -> 3e-08
... A403: =A402+1 -> 780 | B403: 1.499e-05 | C403: =B403*$C$2 -> 0.01026815 | D403: 4.150994e-05 | E403: 1.499e-05 | F403: 0 | G403: =D403/SUM($D403:$F403) -> 0.73468998 | H403: =E403/SUM($D403:$F403) -> 0.26531002 | I403: =sources!C488 -> 0.97289185 | J403: =sources!I488 -> 0.010037979 | K403: ='BG47'!R403 -> 1e-05 | L403: ='OG530'!R403 -> 0.9681 | M403: =I403*K403 -> 9.7289185e-06 | N403: =I403*L403 -> 0.9418566 | O403: =J403*K403 -> 1.0037979e-07 | P403: =J403*L403 -> 0.0097177675
