Workbook

Sheet BG47
B1: schott-optical-filter-datasheet-collection-de.pdf | F1: Interpolation of the filter characteristics
B2: 0 | C2: 1 | D2: 2 | E2: 3 | F2: 4 | G2: 5 | H2: 6 | I2: 7 | J2: 8 | K2: 9 | L2: 10 | P2: row
A3: 200 | B3: 0 | C3: =B3+0.1*($B4-$B3) -> 0 | D3: =C3+0.1*($B4-$B3) -> 0 | E3: =D3+0.1*($B4-$B3) -> 0 | F3: =E3+0.1*($B4-$B3) -> 0 | G3: =F3+0.1*($B4-$B3) -> 0 | H3: =G3+0.1*($B4-$B3) -> 0 | I3: =H3+0.1*($B4-$B3) -> 0 | J3: =I3+0.1*($B4-$B3) -> 0 | ... L3: =K3+0.1*($B4-$B3) -> 0 | O3: 380 | P3: =MATCH(O3,$A$3:$A$182,0)+2 -> 21 | Q3: =MOD(O3,10)+2 -> 2 | R3: {=INDIRECT(ADDRESS(P3,Q3))} -> 0.5989
A4: 210 | B4: 0 | C4: =B4+0.1*($B5-$B4) -> 0 | D4: =C4+0.1*($B5-$B4) -> 0 | E4: =D4+0.1*($B5-$B4) -> 0 | F4: =E4+0.1*($B5-$B4) -> 0 | G4: =F4+0.1*($B5-$B4) -> 0 | H4: =G4+0.1*($B5-$B4) -> 0 | I4: =H4+0.1*($B5-$B4) -> 0 | J4: =I4+0.1*($B5-$B4) -> 0 | ... L4: =K4+0.1*($B5-$B4) -> 0 | O4: 381 | P4: =P3 -> 21 | Q4: =MOD(O4,10)+2 -> 3 | R4: {=INDIRECT(ADDRESS(P4,Q4))} -> 0.60425
A5: 220 | B5: 0 | C5: =B5+0.1*($B6-$B5) -> 0 | D5: =C5+0.1*($B6-$B5) -> 0 | E5: =D5+0.1*($B6-$B5) -> 0 | F5: =E5+0.1*($B6-$B5) -> 0 | G5: =F5+0.1*($B6-$B5) -> 0 | H5: =G5+0.1*($B6-$B5) -> 0 | I5: =H5+0.1*($B6-$B5) -> 0 | J5: =I5+0.1*($B6-$B5) -> 0 | ... L5: =K5+0.1*($B6-$B5) -> 0 | O5: 382 | P5: =P4 -> 21 | Q5: =MOD(O5,10)+2 -> 4 | R5: {=INDIRECT(ADDRESS(P5,Q5))} -> 0.6096
A6: 230 | B6: 0 | C6: =B6+0.1*($B7-$B6) -> 0 | D6: =C6+0.1*($B7-$B6) -> 0 | E6: =D6+0.1*($B7-$B6) -> 0 | F6: =E6+0.1*($B7-$B6) -> 0 | G6: =F6+0.1*($B7-$B6) -> 0 | H6: =G6+0.1*($B7-$B6) -> 0 | I6: =H6+0.1*($B7-$B6) -> 0 | J6: =I6+0.1*($B7-$B6) -> 0 | ... L6: =K6+0.1*($B7-$B6) -> 0 | O6: 383 | P6: =P5 -> 21 | Q6: =MOD(O6,10)+2 -> 5 | R6: {=INDIRECT(ADDRESS(P6,Q6))} -> 0.61495
A7: 240 | B7: 0 | C7: =B7+0.1*($B8-$B7) -> 0 | D7: =C7+0.1*($B8-$B7) -> 0 | E7: =D7+0.1*($B8-$B7) -> 0 | F7: =E7+0.1*($B8-$B7) -> 0 | G7: =F7+0.1*($B8-$B7) -> 0 | H7: =G7+0.1*($B8-$B7) -> 0 | I7: =H7+0.1*($B8-$B7) -> 0 | J7: =I7+0.1*($B8-$B7) -> 0 | ... L7: =K7+0.1*($B8-$B7) -> 0 | O7: 384 | P7: =P6 -> 21 | Q7: =MOD(O7,10)+2 -> 6 | R7: {=INDIRECT(ADDRESS(P7,Q7))} -> 0.6203
A8: 250 | B8: 0 | C8: =B8+0.1*($B9-$B8) -> 0 | D8: =C8+0.1*($B9-$B8) -> 0 | E8: =D8+0.1*($B9-$B8) -> 0 | F8: =E8+0.1*($B9-$B8) -> 0 | G8: =F8+0.1*($B9-$B8) -> 0 | H8: =G8+0.1*($B9-$B8) -> 0 | I8: =H8+0.1*($B9-$B8) -> 0 | J8: =I8+0.1*($B9-$B8) -> 0 | ... L8: =K8+0.1*($B9-$B8) -> 0 | O8: 385 | P8: =P7 -> 21 | Q8: =MOD(O8,10)+2 -> 7 | R8: {=INDIRECT(ADDRESS(P8,Q8))} -> 0.62565
A9: 260 | B9: 0 | C9: =B9+0.1*($B10-$B9) -> 0 | D9: =C9+0.1*($B10-$B9) -> 0 | E9: =D9+0.1*($B10-$B9) -> 0 | F9: =E9+0.1*($B10-$B9) -> 0 | G9: =F9+0.1*($B10-$B9) -> 0 | H9: =G9+0.1*($B10-$B9) -> 0 | I9: =H9+0.1*($B10-$B9) -> 0 | J9: =I9+0.1*($B10-$B9) -> 0 | ... L9: =K9+0.1*($B10-$B9) -> 0 | O9: 386 | P9: =P8 -> 21 | Q9: =MOD(O9,10)+2 -> 8 | R9: {=INDIRECT(ADDRESS(P9,Q9))} -> 0.631
A10: 270 | B10: 0 | C10: =B10+0.1*($B11-$B10) -> 0 | D10: =C10+0.1*($B11-$B10) -> 0 | E10: =D10+0.1*($B11-$B10) -> 0 | F10: =E10+0.1*($B11-$B10) -> 0 | G10: =F10+0.1*($B11-$B10) -> 0 | H10: =G10+0.1*($B11-$B10) -> 0 | I10: =H10+0.1*($B11-$B10) -> 0 | J10: =I10+0.1*($B11-$B10) -> 0 | ... L10: =K10+0.1*($B11-$B10) -> 0 | O10: 387 | P10: =P9 -> 21 | Q10: =MOD(O10,10)+2 -> 9 | R10: {=INDIRECT(ADDRESS(P10,Q10))} -> 0.63635
A11: 280 | B11: 0 | C11: =B11+0.1*($B12-$B11) -> 0 | D11: =C11+0.1*($B12-$B11) -> 0 | E11: =D11+0.1*($B12-$B11) -> 0 | F11: =E11+0.1*($B12-$B11) -> 0 | G11: =F11+0.1*($B12-$B11) -> 0 | H11: =G11+0.1*($B12-$B11) -> 0 | I11: =H11+0.1*($B12-$B11) -> 0 | J11: =I11+0.1*($B12-$B11) -> 0 | ... L11: =K11+0.1*($B12-$B11) -> 0 | O11: 388 | P11: =P10 -> 21 | Q11: =MOD(O11,10)+2 -> 10 | R11: {=INDIRECT(ADDRESS(P11,Q11))} -> 0.6417
A12: 290 | B12: 0 | C12: =B12+0.1*($B13-$B12) -> 0 | D12: =C12+0.1*($B13-$B12) -> 0 | E12: =D12+0.1*($B13-$B12) -> 0 | F12: =E12+0.1*($B13-$B12) -> 0 | G12: =F12+0.1*($B13-$B12) -> 0 | H12: =G12+0.1*($B13-$B12) -> 0 | I12: =H12+0.1*($B13-$B12) -> 0 | J12: =I12+0.1*($B13-$B12) -> 0 | ... L12: =K12+0.1*($B13-$B12) -> 0 | O12: 389 | P12: =P11 -> 21 | Q12: =MOD(O12,10)+2 -> 11 | R12: {=INDIRECT(ADDRESS(P12,Q12))} -> 0.64705
A13: 300 | B13: 0 | C13: =B13+0.1*($B14-$B13) -> 0 | D13: =C13+0.1*($B14-$B13) -> 0 | E13: =D13+0.1*($B14-$B13) -> 0 | F13: =E13+0.1*($B14-$B13) -> 0 | G13: =F13+0.1*($B14-$B13) -> 0 | H13: =G13+0.1*($B14-$B13) -> 0 | I13: =H13+0.1*($B14-$B13) -> 0 | J13: =I13+0.1*($B14-$B13) -> 0 | ... L13: =K13+0.1*($B14-$B13) -> 0 | O13: 390 | P13: =MATCH(O13,$A$3:$A$182,0)+2 -> 22 | Q13: =MOD(O13,10)+2 -> 2 | R13: {=INDIRECT(ADDRESS(P13,Q13))} -> 0.6524
A14: 310 | B14: 0 | C14: =B14+0.1*($B15-$B14) -> 0 | D14: =C14+0.1*($B15-$B14) -> 0 | E14: =D14+0.1*($B15-$B14) -> 0 | F14: =E14+0.1*($B15-$B14) -> 0 | G14: =F14+0.1*($B15-$B14) -> 0 | H14: =G14+0.1*($B15-$B14) -> 0 | I14: =H14+0.1*($B15-$B14) -> 0 | J14: =I14+0.1*($B15-$B14) -> 0 | ... L14: =K14+0.1*($B15-$B14) -> 0 | O14: 391 | P14: =P13 -> 22 | Q14: =MOD(O14,10)+2 -> 3 | R14: {=INDIRECT(ADDRESS(P14,Q14))} -> 0.65592
A15: 320 | B15: 0 | C15: =B15+0.1*($B16-$B15) -> 0.0003175 | D15: =C15+0.1*($B16-$B15) -> 0.000635 | E15: =D15+0.1*($B16-$B15) -> 0.0009525 | F15: =E15+0.1*($B16-$B15) -> 0.00127 | G15: =F15+0.1*($B16-$B15) -> 0.0015875 | H15: =G15+0.1*($B16-$B15) -> 0.001905 | I15: =H15+0.1*($B16-$B15) -> 0.0022225 | J15: =I15+0.1*($B16-$B15) -> 0.00254 | ... L15: =K15+0.1*($B16-$B15) -> 0.003175 | O15: 392 | P15: =P14 -> 22 | Q15: =MOD(O15,10)+2 -> 4 | R15: {=INDIRECT(ADDRESS(P15,Q15))} -> 0.65944
A16: 330 | B16: 0.003175 | C16: =B16+0.1*($B17-$B16) -> 0.0085385 | D16: =C16+0.1*($B17-$B16) -> 0.013902 | E16: =D16+0.1*($B17-$B16) -> 0.0192655 | F16: =E16+0.1*($B17-$B16) -> 0.024629 | G16: =F16+0.1*($B17-$B16) -> 0.0299925 | H16: =G16+0.1*($B17-$B16) -> 0.035356 | I16: =H16+0.1*($B17-$B16) -> 0.0407195 | J16: =I16+0.1*($B17-$B16) -> 0.046083 | ... L16: =K16+0.1*($B17-$B16) -> 0.05681 | O16: 393 | P16: =P15 -> 22 | Q16: =MOD(O16,10)+2 -> 5 | R16: {=INDIRECT(ADDRESS(P16,Q16))} -> 0.66296
A17: 340 | B17: 0.05681 | C17: =B17+0.1*($B18-$B17) -> 0.072259 | D17: =C17+0.1*($B18-$B17) -> 0.087708 | E17: =D17+0.1*($B18-$B17) -> 0.103157 | F17: =E17+0.1*($B18-$B17) -> 0.118606 | G17: =F17+0.1*($B18-$B17) -> 0.134055 | H17: =G17+0.1*($B18-$B17) -> 0.149504 | I17: =H17+0.1*($B18-$B17) -> 0.164953 | J17: =I17+0.1*($B18-$B17) -> 0.180402 | ... L17: =K17+0.1*($B18-$B17) -> 0.2113 | O17: 394 | P17: =P16 -> 22 | Q17: =MOD(O17,10)+2 -> 6 | R17: {=INDIRECT(ADDRESS(P17,Q17))} -> 0.66648
A18: 350 | B18: 0.2113 | C18: =B18+0.1*($B19-$B18) -> 0.22865 | D18: =C18+0.1*($B19-$B18) -> 0.246 | E18: =D18+0.1*($B19-$B18) -> 0.26335 | F18: =E18+0.1*($B19-$B18) -> 0.2807 | G18: =F18+0.1*($B19-$B18) -> 0.29805 | H18: =G18+0.1*($B19-$B18) -> 0.3154 | I18: =H18+0.1*($B19-$B18) -> 0.33275 | J18: =I18+0.1*($B19-$B18) -> 0.3501 | ... L18: =K18+0.1*($B19-$B18) -> 0.3848 | O18: 395 | P18: =P17 -> 22 | Q18: =MOD(O18,10)+2 -> 7 | R18: {=INDIRECT(ADDRESS(P18,Q18))} -> 0.67
A19: 360 | B19: 0.3848 | C19: =B19+0.1*($B20-$B19) -> 0.39771 | D19: =C19+0.1*($B20-$B19) -> 0.41062 | E19: =D19+0.1*($B20-$B19) -> 0.42353 | F19: =E19+0.1*($B20-$B19) -> 0.43644 | G19: =F19+0.1*($B20-$B19) -> 0.44935 | H19: =G19+0.1*($B20-$B19) -> 0.46226 | I19: =H19+0.1*($B20-$B19) -> 0.47517 | J19: =I19+0.1*($B20-$B19) -> 0.48808 | ... L19: =K19+0.1*($B20-$B19) -> 0.5139 | O19: 396 | P19: =P18 -> 22 | Q19: =MOD(O19,10)+2 -> 8 | R19: {=INDIRECT(ADDRESS(P19,Q19))} -> 0.67352
A20: 370 | B20: 0.5139 | C20: =B20+0.1*($B21-$B20) -> 0.5224 | D20: =C20+0.1*($B21-$B20) -> 0.5309 | E20: =D20+0.1*($B21-$B20) -> 0.5394 | F20: =E20+0.1*($B21-$B20) -> 0.5479 | G20: =F20+0.1*($B21-$B20) -> 0.5564 | H20: =G20+0.1*($B21-$B20) -> 0.5649 | I20: =H20+0.1*($B21-$B20) -> 0.5734 | J20: =I20+0.1*($B21-$B20) -> 0.5819 | ... L20: =K20+0.1*($B21-$B20) -> 0.5989 | O20: 397 | P20: =P19 -> 22 | Q20: =MOD(O20,10)+2 -> 9 | R20: {=INDIRECT(ADDRESS(P20,Q20))} -> 0.67704
A21: 380 | B21: 0.5989 | C21: =B21+0.1*($B22-$B21) -> 0.60425 | D21: =C21+0.1*($B22-$B21) -> 0.6096 | E21: =D21+0.1*($B22-$B21) -> 0.61495 | F21: =E21+0.1*($B22-$B21) -> 0.6203 | G21: =F21+0.1*($B22-$B21) -> 0.62565 | H21: =G21+0.1*($B22-$B21) -> 0.631 | I21: =H21+0.1*($B22-$B21) -> 0.63635 | J21: =I21+0.1*($B22-$B21) -> 0.6417 | ... L21: =K21+0.1*($B22-$B21) -> 0.6524 | O21: 398 | P21: =P20 -> 22 | Q21: =MOD(O21,10)+2 -> 10 | R21: {=INDIRECT(ADDRESS(P21,Q21))} -> 0.68056
A22: 390 | B22: 0.6524 | C22: =B22+0.1*($B23-$B22) -> 0.65592 | D22: =C22+0.1*($B23-$B22) -> 0.65944 | E22: =D22+0.1*($B23-$B22) -> 0.66296 | F22: =E22+0.1*($B23-$B22) -> 0.66648 | G22: =F22+0.1*($B23-$B22) -> 0.67 | H22: =G22+0.1*($B23-$B22) -> 0.67352 | I22: =H22+0.1*($B23-$B22) -> 0.67704 | J22: =I22+0.1*($B23-$B22) -> 0.68056 | ... L22: =K22+0.1*($B23-$B22) -> 0.6876 | O22: 399 | P22: =P21 -> 22 | Q22: =MOD(O22,10)+2 -> 11 | R22: {=INDIRECT(ADDRESS(P22,Q22))} -> 0.68408
A23: 400 | B23: 0.6876 | C23: =B23+0.1*($B24-$B23) -> 0.68992 | D23: =C23+0.1*($B24-$B23) -> 0.69224 | E23: =D23+0.1*($B24-$B23) -> 0.69456 | F23: =E23+0.1*($B24-$B23) -> 0.69688 | G23: =F23+0.1*($B24-$B23) -> 0.6992 | H23: =G23+0.1*($B24-$B23) -> 0.70152 | I23: =H23+0.1*($B24-$B23) -> 0.70384 | J23: =I23+0.1*($B24-$B23) -> 0.70616 | ... L23: =K23+0.1*($B24-$B23) -> 0.7108 | O23: 400 | P23: =MATCH(O23,$A$3:$A$182,0)+2 -> 23 | Q23: =MOD(O23,10)+2 -> 2 | R23: {=INDIRECT(ADDRESS(P23,Q23))} -> 0.6876
A24: 410 | B24: 0.7108 | C24: =B24+0.1*($B25-$B24) -> 0.7125 | D24: =C24+0.1*($B25-$B24) -> 0.7142 | E24: =D24+0.1*($B25-$B24) -> 0.7159 | F24: =E24+0.1*($B25-$B24) -> 0.7176 | G24: =F24+0.1*($B25-$B24) -> 0.7193 | H24: =G24+0.1*($B25-$B24) -> 0.721 | I24: =H24+0.1*($B25-$B24) -> 0.7227 | J24: =I24+0.1*($B25-$B24) -> 0.7244 | ... L24: =K24+0.1*($B25-$B24) -> 0.7278 | O24: 401 | P24: =P23 -> 23 | Q24: =MOD(O24,10)+2 -> 3 | R24: {=INDIRECT(ADDRESS(P24,Q24))} -> 0.68992
A25: 420 | B25: 0.7278 | C25: =B25+0.1*($B26-$B25) -> 0.72917 | D25: =C25+0.1*($B26-$B25) -> 0.73054 | E25: =D25+0.1*($B26-$B25) -> 0.73191 | F25: =E25+0.1*($B26-$B25) -> 0.73328 | G25: =F25+0.1*($B26-$B25) -> 0.73465 | H25: =G25+0.1*($B26-$B25) -> 0.73602 | I25: =H25+0.1*($B26-$B25) -> 0.73739 | J25: =I25+0.1*($B26-$B25) -> 0.73876 | ... L25: =K25+0.1*($B26-$B25) -> 0.7415 | O25: 402 | P25: =P24 -> 23 | Q25: =MOD(O25,10)+2 -> 4 | R25: {=INDIRECT(ADDRESS(P25,Q25))} -> 0.69224
A26: 430 | B26: 0.7415 | C26: =B26+0.1*($B27-$B26) -> 0.74279 | D26: =C26+0.1*($B27-$B26) -> 0.74408 | E26: =D26+0.1*($B27-$B26) -> 0.74537 | F26: =E26+0.1*($B27-$B26) -> 0.74666 | G26: =F26+0.1*($B27-$B26) -> 0.74795 | H26: =G26+0.1*($B27-$B26) -> 0.74924 | I26: =H26+0.1*($B27-$B26) -> 0.75053 | J26: =I26+0.1*($B27-$B26) -> 0.75182 | ... L26: =K26+0.1*($B27-$B26) -> 0.7544 | O26: 403 | P26: =P25 -> 23 | Q26: =MOD(O26,10)+2 -> 5 | R26: {=INDIRECT(ADDRESS(P26,Q26))} -> 0.69456
A27: 440 | B27: 0.7544 | C27: =B27+0.1*($B28-$B27) -> 0.75592 | D27: =C27+0.1*($B28-$B27) -> 0.75744 | E27: =D27+0.1*($B28-$B27) -> 0.75896 | F27: =E27+0.1*($B28-$B27) -> 0.76048 | G27: =F27+0.1*($B28-$B27) -> 0.762 | H27: =G27+0.1*($B28-$B27) -> 0.76352 | I27: =H27+0.1*($B28-$B27) -> 0.76504 | J27: =I27+0.1*($B28-$B27) -> 0.76656 | ... L27: =K27+0.1*($B28-$B27) -> 0.7696 | O27: 404 | P27: =P26 -> 23 | Q27: =MOD(O27,10)+2 -> 6 | R27: {=INDIRECT(ADDRESS(P27,Q27))} -> 0.69688
A28: 450 | B28: 0.7696 | C28: =B28+0.1*($B29-$B28) -> 0.7714 | D28: =C28+0.1*($B29-$B28) -> 0.7732 | E28: =D28+0.1*($B29-$B28) -> 0.775 | F28: =E28+0.1*($B29-$B28) -> 0.7768 | G28: =F28+0.1*($B29-$B28) -> 0.7786 | H28: =G28+0.1*($B29-$B28) -> 0.7804 | I28: =H28+0.1*($B29-$B28) -> 0.7822 | J28: =I28+0.1*($B29-$B28) -> 0.784 | ... L28: =K28+0.1*($B29-$B28) -> 0.7876 | O28: 405 | P28: =P27 -> 23 | Q28: =MOD(O28,10)+2 -> 7 | R28: {=INDIRECT(ADDRESS(P28,Q28))} -> 0.6992
A29: 460 | B29: 0.7876 | C29: =B29+0.1*($B30-$B29) -> 0.78967 | D29: =C29+0.1*($B30-$B29) -> 0.79174 | E29: =D29+0.1*($B30-$B29) -> 0.79381 | F29: =E29+0.1*($B30-$B29) -> 0.79588 | G29: =F29+0.1*($B30-$B29) -> 0.79795 | H29: =G29+0.1*($B30-$B29) -> 0.80002 | I29: =H29+0.1*($B30-$B29) -> 0.80209 | J29: =I29+0.1*($B30-$B29) -> 0.80416 | ... L29: =K29+0.1*($B30-$B29) -> 0.8083 | O29: 405 | P29: =P28 -> 23 | Q29: =MOD(O29,10)+2 -> 7 | R29: {=INDIRECT(ADDRESS(P29,Q29))} -> 0.6992
A30: 470 | B30: 0.8083 | C30: =B30+0.1*($B31-$B30) -> 0.81061 | D30: =C30+0.1*($B31-$B30) -> 0.81292 | E30: =D30+0.1*($B31-$B30) -> 0.81523 | F30: =E30+0.1*($B31-$B30) -> 0.81754 | G30: =F30+0.1*($B31-$B30) -> 0.81985 | H30: =G30+0.1*($B31-$B30) -> 0.82216 | I30: =H30+0.1*($B31-$B30) -> 0.82447 | J30: =I30+0.1*($B31-$B30) -> 0.82678 | ... L30: =K30+0.1*($B31-$B30) -> 0.8314 | O30: 407 | P30: =P29 -> 23 | Q30: =MOD(O30,10)+2 -> 9 | R30: {=INDIRECT(ADDRESS(P30,Q30))} -> 0.70384
A31: 480 | B31: 0.8314 | C31: =B31+0.1*($B32-$B31) -> 0.83366 | D31: =C31+0.1*($B32-$B31) -> 0.83592 | E31: =D31+0.1*($B32-$B31) -> 0.83818 | F31: =E31+0.1*($B32-$B31) -> 0.84044 | G31: =F31+0.1*($B32-$B31) -> 0.8427 | H31: =G31+0.1*($B32-$B31) -> 0.84496 | I31: =H31+0.1*($B32-$B31) -> 0.84722 | J31: =I31+0.1*($B32-$B31) -> 0.84948 | ... L31: =K31+0.1*($B32-$B31) -> 0.854 | O31: 408 | P31: =P30 -> 23 | Q31: =MOD(O31,10)+2 -> 10 | R31: {=INDIRECT(ADDRESS(P31,Q31))} -> 0.70616
A32: 490 | B32: 0.854 | C32: =B32+0.1*($B33-$B32) -> 0.85572 | D32: =C32+0.1*($B33-$B32) -> 0.85744 | E32: =D32+0.1*($B33-$B32) -> 0.85916 | F32: =E32+0.1*($B33-$B32) -> 0.86088 | G32: =F32+0.1*($B33-$B32) -> 0.8626 | H32: =G32+0.1*($B33-$B32) -> 0.86432 | I32: =H32+0.1*($B33-$B32) -> 0.86604 | J32: =I32+0.1*($B33-$B32) -> 0.86776 | ... L32: =K32+0.1*($B33-$B32) -> 0.8712 | O32: 409 | P32: =P31 -> 23 | Q32: =MOD(O32,10)+2 -> 11 | R32: {=INDIRECT(ADDRESS(P32,Q32))} -> 0.70848
A33: 500 | B33: 0.8712 | C33: =B33+0.1*($B34-$B33) -> 0.87234 | D33: =C33+0.1*($B34-$B33) -> 0.87348 | E33: =D33+0.1*($B34-$B33) -> 0.87462 | F33: =E33+0.1*($B34-$B33) -> 0.87576 | G33: =F33+0.1*($B34-$B33) -> 0.8769 | H33: =G33+0.1*($B34-$B33) -> 0.87804 | I33: =H33+0.1*($B34-$B33) -> 0.87918 | J33: =I33+0.1*($B34-$B33) -> 0.88032 | ... L33: =K33+0.1*($B34-$B33) -> 0.8826 | O33: 410 | P33: =MATCH(O33,$A$3:$A$182,0)+2 -> 24 | Q33: =MOD(O33,10)+2 -> 2 | R33: {=INDIRECT(ADDRESS(P33,Q33))} -> 0.7108
A34: 510 | B34: 0.8826 | C34: =B34+0.1*($B35-$B34) -> 0.88262 | D34: =C34+0.1*($B35-$B34) -> 0.88264 | E34: =D34+0.1*($B35-$B34) -> 0.88266 | F34: =E34+0.1*($B35-$B34) -> 0.88268 | G34: =F34+0.1*($B35-$B34) -> 0.8827 | H34: =G34+0.1*($B35-$B34) -> 0.88272 | I34: =H34+0.1*($B35-$B34) -> 0.88274 | J34: =I34+0.1*($B35-$B34) -> 0.88276 | ... L34: =K34+0.1*($B35-$B34) -> 0.8828 | O34: 411 | P34: =P33 -> 24 | Q34: =MOD(O34,10)+2 -> 3 | R34: {=INDIRECT(ADDRESS(P34,Q34))} -> 0.7125
A35: 520 | B35: 0.8828 | C35: =B35+0.1*($B36-$B35) -> 0.88116 | D35: =C35+0.1*($B36-$B35) -> 0.87952 | E35: =D35+0.1*($B36-$B35) -> 0.87788 | F35: =E35+0.1*($B36-$B35) -> 0.87624 | G35: =F35+0.1*($B36-$B35) -> 0.8746 | H35: =G35+0.1*($B36-$B35) -> 0.87296 | I35: =H35+0.1*($B36-$B35) -> 0.87132 | J35: =I35+0.1*($B36-$B35) -> 0.86968 | ... L35: =K35+0.1*($B36-$B35) -> 0.8664 | O35: 412 | P35: =P34 -> 24 | Q35: =MOD(O35,10)+2 -> 4 | R35: {=INDIRECT(ADDRESS(P35,Q35))} -> 0.7142
A36: 530 | B36: 0.8664 | C36: =B36+0.1*($B37-$B36) -> 0.86277 | D36: =C36+0.1*($B37-$B36) -> 0.85914 | E36: =D36+0.1*($B37-$B36) -> 0.85551 | F36: =E36+0.1*($B37-$B36) -> 0.85188 | G36: =F36+0.1*($B37-$B36) -> 0.84825 | H36: =G36+0.1*($B37-$B36) -> 0.84462 | I36: =H36+0.1*($B37-$B36) -> 0.84099 | J36: =I36+0.1*($B37-$B36) -> 0.83736 | ... L36: =K36+0.1*($B37-$B36) -> 0.8301 | O36: 413 | P36: =P35 -> 24 | Q36: =MOD(O36,10)+2 -> 5 | R36: {=INDIRECT(ADDRESS(P36,Q36))} -> 0.7159
A37: 540 | B37: 0.8301 | C37: =B37+0.1*($B38-$B37) -> 0.82422 | D37: =C37+0.1*($B38-$B37) -> 0.81834 | E37: =D37+0.1*($B38-$B37) -> 0.81246 | F37: =E37+0.1*($B38-$B37) -> 0.80658 | G37: =F37+0.1*($B38-$B37) -> 0.8007 | H37: =G37+0.1*($B38-$B37) -> 0.79482 | I37: =H37+0.1*($B38-$B37) -> 0.78894 | J37: =I37+0.1*($B38-$B37) -> 0.78306 | ... L37: =K37+0.1*($B38-$B37) -> 0.7713 | O37: 414 | P37: =P36 -> 24 | Q37: =MOD(O37,10)+2 -> 6 | R37: {=INDIRECT(ADDRESS(P37,Q37))} -> 0.7176
A38: 550 | B38: 0.7713 | C38: =B38+0.1*($B39-$B38) -> 0.76319 | D38: =C38+0.1*($B39-$B38) -> 0.75508 | E38: =D38+0.1*($B39-$B38) -> 0.74697 | F38: =E38+0.1*($B39-$B38) -> 0.73886 | G38: =F38+0.1*($B39-$B38) -> 0.73075 | H38: =G38+0.1*($B39-$B38) -> 0.72264 | I38: =H38+0.1*($B39-$B38) -> 0.71453 | J38: =I38+0.1*($B39-$B38) -> 0.70642 | ... L38: =K38+0.1*($B39-$B38) -> 0.6902 | O38: 415 | P38: =P37 -> 24 | Q38: =MOD(O38,10)+2 -> 7 | R38: {=INDIRECT(ADDRESS(P38,Q38))} -> 0.7193
A39: 560 | B39: 0.6902 | C39: =B39+0.1*($B40-$B39) -> 0.68013 | D39: =C39+0.1*($B40-$B39) -> 0.67006 | E39: =D39+0.1*($B40-$B39) -> 0.65999 | F39: =E39+0.1*($B40-$B39) -> 0.64992 | G39: =F39+0.1*($B40-$B39) -> 0.63985 | H39: =G39+0.1*($B40-$B39) -> 0.62978 | I39: =H39+0.1*($B40-$B39) -> 0.61971 | J39: =I39+0.1*($B40-$B39) -> 0.60964 | ... L39: =K39+0.1*($B40-$B39) -> 0.5895 | O39: 416 | P39: =P38 -> 24 | Q39: =MOD(O39,10)+2 -> 8 | R39: {=INDIRECT(ADDRESS(P39,Q39))} -> 0.721
A40: 570 | B40: 0.5895 | C40: =B40+0.1*($B41-$B40) -> 0.57832 | D40: =C40+0.1*($B41-$B40) -> 0.56714 | E40: =D40+0.1*($B41-$B40) -> 0.55596 | F40: =E40+0.1*($B41-$B40) -> 0.54478 | G40: =F40+0.1*($B41-$B40) -> 0.5336 | H40: =G40+0.1*($B41-$B40) -> 0.52242 | I40: =H40+0.1*($B41-$B40) -> 0.51124 | J40: =I40+0.1*($B41-$B40) -> 0.50006 | ... L40: =K40+0.1*($B41-$B40) -> 0.4777 | O40: 417 | P40: =P39 -> 24 | Q40: =MOD(O40,10)+2 -> 9 | R40: {=INDIRECT(ADDRESS(P40,Q40))} -> 0.7227
A41: 580 | B41: 0.4777 | C41: =B41+0.1*($B42-$B41) -> 0.46633 | D41: =C41+0.1*($B42-$B41) -> 0.45496 | E41: =D41+0.1*($B42-$B41) -> 0.44359 | F41: =E41+0.1*($B42-$B41) -> 0.43222 | G41: =F41+0.1*($B42-$B41) -> 0.42085 | H41: =G41+0.1*($B42-$B41) -> 0.40948 | I41: =H41+0.1*($B42-$B41) -> 0.39811 | J41: =I41+0.1*($B42-$B41) -> 0.38674 | ... L41: =K41+0.1*($B42-$B41) -> 0.364 | O41: 418 | P41: =P40 -> 24 | Q41: =MOD(O41,10)+2 -> 10 | R41: {=INDIRECT(ADDRESS(P41,Q41))} -> 0.7244
A42: 590 | B42: 0.364 | C42: =B42+0.1*($B43-$B42) -> 0.3535 | D42: =C42+0.1*($B43-$B42) -> 0.343 | E42: =D42+0.1*($B43-$B42) -> 0.3325 | F42: =E42+0.1*($B43-$B42) -> 0.322 | G42: =F42+0.1*($B43-$B42) -> 0.3115 | H42: =G42+0.1*($B43-$B42) -> 0.301 | I42: =H42+0.1*($B43-$B42) -> 0.2905 | J42: =I42+0.1*($B43-$B42) -> 0.28 | ... L42: =K42+0.1*($B43-$B42) -> 0.259 | O42: 419 | P42: =P41 -> 24 | Q42: =MOD(O42,10)+2 -> 11 | R42: {=INDIRECT(ADDRESS(P42,Q42))} -> 0.7261
A43: 600 | B43: 0.259 | C43: =B43+0.1*($B44-$B43) -> 0.25014 | D43: =C43+0.1*($B44-$B43) -> 0.24128 | E43: =D43+0.1*($B44-$B43) -> 0.23242 | F43: =E43+0.1*($B44-$B43) -> 0.22356 | G43: =F43+0.1*($B44-$B43) -> 0.2147 | H43: =G43+0.1*($B44-$B43) -> 0.20584 | I43: =H43+0.1*($B44-$B43) -> 0.19698 | J43: =I43+0.1*($B44-$B43) -> 0.18812 | ... L43: =K43+0.1*($B44-$B43) -> 0.1704 | O43: 420 | P43: =MATCH(O43,$A$3:$A$182,0)+2 -> 25 | Q43: =MOD(O43,10)+2 -> 2 | R43: {=INDIRECT(ADDRESS(P43,Q43))} -> 0.7278
A44: 610 | B44: 0.1704 | C44: =B44+0.1*($B45-$B44) -> 0.16378 | D44: =C44+0.1*($B45-$B44) -> 0.15716 | E44: =D44+0.1*($B45-$B44) -> 0.15054 | F44: =E44+0.1*($B45-$B44) -> 0.14392 | G44: =F44+0.1*($B45-$B44) -> 0.1373 | H44: =G44+0.1*($B45-$B44) -> 0.13068 | I44: =H44+0.1*($B45-$B44) -> 0.12406 | J44: =I44+0.1*($B45-$B44) -> 0.11744 | ... L44: =K44+0.1*($B45-$B44) -> 0.1042 | O44: 421 | P44: =P43 -> 25 | Q44: =MOD(O44,10)+2 -> 3 | R44: {=INDIRECT(ADDRESS(P44,Q44))} -> 0.72917
A45: 620 | B45: 0.1042 | C45: =B45+0.1*($B46-$B45) -> 0.099697 | D45: =C45+0.1*($B46-$B45) -> 0.095194 | E45: =D45+0.1*($B46-$B45) -> 0.090691 | F45: =E45+0.1*($B46-$B45) -> 0.086188 | G45: =F45+0.1*($B46-$B45) -> 0.081685 | H45: =G45+0.1*($B46-$B45) -> 0.077182 | I45: =H45+0.1*($B46-$B45) -> 0.072679 | J45: =I45+0.1*($B46-$B45) -> 0.068176 | ... L45: =K45+0.1*($B46-$B45) -> 0.05917 | O45: 422 | P45: =P44 -> 25 | Q45: =MOD(O45,10)+2 -> 4 | R45: {=INDIRECT(ADDRESS(P45,Q45))} -> 0.73054
A46: 630 | B46: 0.05917 | C46: =B46+0.1*($B47-$B46) -> 0.056341 | D46: =C46+0.1*($B47-$B46) -> 0.053512 | E46: =D46+0.1*($B47-$B46) -> 0.050683 | F46: =E46+0.1*($B47-$B46) -> 0.047854 | G46: =F46+0.1*($B47-$B46) -> 0.045025 | H46: =G46+0.1*($B47-$B46) -> 0.042196 | I46: =H46+0.1*($B47-$B46) -> 0.039367 | J46: =I46+0.1*($B47-$B46) -> 0.036538 | ... L46: =K46+0.1*($B47-$B46) -> 0.03088 | O46: 423 | P46: =P45 -> 25 | Q46: =MOD(O46,10)+2 -> 5 | R46: {=INDIRECT(ADDRESS(P46,Q46))} -> 0.73191
A47: 640 | B47: 0.03088 | C47: =B47+0.1*($B48-$B47) -> 0.029281 | D47: =C47+0.1*($B48-$B47) -> 0.027682 | E47: =D47+0.1*($B48-$B47) -> 0.026083 | F47: =E47+0.1*($B48-$B47) -> 0.024484 | G47: =F47+0.1*($B48-$B47) -> 0.022885 | H47: =G47+0.1*($B48-$B47) -> 0.021286 | I47: =H47+0.1*($B48-$B47) -> 0.019687 | J47: =I47+0.1*($B48-$B47) -> 0.018088 | ... L47: =K47+0.1*($B48-$B47) -> 0.01489 | O47: 424 | P47: =P46 -> 25 | Q47: =MOD(O47,10)+2 -> 6 | R47: {=INDIRECT(ADDRESS(P47,Q47))} -> 0.73328
A48: 650 | B48: 0.01489 | C48: =B48+0.1*($B49-$B48) -> 0.0140673 | D48: =C48+0.1*($B49-$B48) -> 0.0132446 | E48: =D48+0.1*($B49-$B48) -> 0.0124219 | F48: =E48+0.1*($B49-$B48) -> 0.0115992 | G48: =F48+0.1*($B49-$B48) -> 0.0107765 | H48: =G48+0.1*($B49-$B48) -> 0.0099538 | I48: =H48+0.1*($B49-$B48) -> 0.0091311 | J48: =I48+0.1*($B49-$B48) -> 0.0083084 | ... L48: =K48+0.1*($B49-$B48) -> 0.006663 | O48: 425 | P48: =P47 -> 25 | Q48: =MOD(O48,10)+2 -> 7 | R48: {=INDIRECT(ADDRESS(P48,Q48))} -> 0.73465
A49: 660 | B49: 0.006663 | C49: =B49+0.1*($B50-$B49) -> 0.006273 | D49: =C49+0.1*($B50-$B49) -> 0.005883 | E49: =D49+0.1*($B50-$B49) -> 0.005493 | F49: =E49+0.1*($B50-$B49) -> 0.005103 | G49: =F49+0.1*($B50-$B49) -> 0.004713 | H49: =G49+0.1*($B50-$B49) -> 0.004323 | I49: =H49+0.1*($B50-$B49) -> 0.003933 | J49: =I49+0.1*($B50-$B49) -> 0.003543 | ... L49: =K49+0.1*($B50-$B49) -> 0.002763 | O49: 426 | P49: =P48 -> 25 | Q49: =MOD(O49,10)+2 -> 8 | R49: {=INDIRECT(ADDRESS(P49,Q49))} -> 0.73602
A50: 670 | B50: 0.002763 | C50: =B50+0.1*($B51-$B50) -> 0.0025939 | D50: =C50+0.1*($B51-$B50) -> 0.0024248 | E50: =D50+0.1*($B51-$B50) -> 0.0022557 | F50: =E50+0.1*($B51-$B50) -> 0.0020866 | G50: =F50+0.1*($B51-$B50) -> 0.0019175 | H50: =G50+0.1*($B51-$B50) -> 0.0017484 | I50: =H50+0.1*($B51-$B50) -> 0.0015793 | J50: =I50+0.1*($B51-$B50) -> 0.0014102 | ... L50: =K50+0.1*($B51-$B50) -> 0.001072 | O50: 427 | P50: =P49 -> 25 | Q50: =MOD(O50,10)+2 -> 9 | R50: {=INDIRECT(ADDRESS(P50,Q50))} -> 0.73739
A51: 680 | B51: 0.001072 | C51: =B51+0.1*($B52-$B51) -> 0.00100403 | D51: =C51+0.1*($B52-$B51) -> 0.00093606 | E51: =D51+0.1*($B52-$B51) -> 0.00086809 | F51: =E51+0.1*($B52-$B51) -> 0.00080012 | G51: =F51+0.1*($B52-$B51) -> 0.00073215 | H51: =G51+0.1*($B52-$B51) -> 0.00066418 | I51: =H51+0.1*($B52-$B51) -> 0.00059621 | J51: =I51+0.1*($B52-$B51) -> 0.00052824 | ... L51: =K51+0.1*($B52-$B51) -> 0.0003923 | O51: 428 | P51: =P50 -> 25 | Q51: =MOD(O51,10)+2 -> 10 | R51: {=INDIRECT(ADDRESS(P51,Q51))} -> 0.73876
A52: 690 | B52: 0.0003923 | C52: =B52+0.1*($B53-$B52) -> 0.00036689 | D52: =C52+0.1*($B53-$B52) -> 0.00034148 | E52: =D52+0.1*($B53-$B52) -> 0.00031607 | F52: =E52+0.1*($B53-$B52) -> 0.00029066 | G52: =F52+0.1*($B53-$B52) -> 0.00026525 | H52: =G52+0.1*($B53-$B52) -> 0.00023984 | I52: =H52+0.1*($B53-$B52) -> 0.00021443 | J52: =I52+0.1*($B53-$B52) -> 0.00018902 | ... L52: =K52+0.1*($B53-$B52) -> 0.0001382 | O52: 429 | P52: =P51 -> 25 | Q52: =MOD(O52,10)+2 -> 11 | R52: {=INDIRECT(ADDRESS(P52,Q52))} -> 0.74013
A53: 700 | B53: 0.0001382 | C53: =B53+0.1*($B54-$B53) -> 0.000129079 | D53: =C53+0.1*($B54-$B53) -> 0.000119958 | E53: =D53+0.1*($B54-$B53) -> 0.000110837 | F53: =E53+0.1*($B54-$B53) -> 0.000101716 | G53: =F53+0.1*($B54-$B53) -> 9.2595e-05 | H53: =G53+0.1*($B54-$B53) -> 8.3474e-05 | I53: =H53+0.1*($B54-$B53) -> 7.4353e-05 | J53: =I53+0.1*($B54-$B53) -> 6.5232e-05 | ... L53: =K53+0.1*($B54-$B53) -> 4.699e-05 | O53: 430 | P53: =MATCH(O53,$A$3:$A$182,0)+2 -> 26 | Q53: =MOD(O53,10)+2 -> 2 | R53: {=INDIRECT(ADDRESS(P53,Q53))} -> 0.7415
A54: 710 | B54: 4.699e-05 | C54: =B54+0.1*($B55-$B54) -> 4.3852e-05 | D54: =C54+0.1*($B55-$B54) -> 4.0714e-05 | E54: =D54+0.1*($B55-$B54) -> 3.7576e-05 | F54: =E54+0.1*($B55-$B54) -> 3.4438e-05 | G54: =F54+0.1*($B55-$B54) -> 3.13e-05 | H54: =G54+0.1*($B55-$B54) -> 2.8162e-05 | I54: =H54+0.1*($B55-$B54) -> 2.5024e-05 | J54: =I54+0.1*($B55-$B54) -> 2.1886e-05 | ... L54: =K54+0.1*($B55-$B54) -> 1.561e-05 | O54: 431 | P54: =P53 -> 26 | Q54: =MOD(O54,10)+2 -> 3 | R54: {=INDIRECT(ADDRESS(P54,Q54))} -> 0.74279
A55: 720 | B55: 1.561e-05 | C55: =B55+0.1*($B56-$B55) -> 1.5049e-05 | D55: =C55+0.1*($B56-$B55) -> 1.4488e-05 | E55: =D55+0.1*($B56-$B55) -> 1.3927e-05 | F55: =E55+0.1*($B56-$B55) -> 1.3366e-05 | G55: =F55+0.1*($B56-$B55) -> 1.2805e-05 | H55: =G55+0.1*($B56-$B55) -> 1.2244e-05 | I55: =H55+0.1*($B56-$B55) -> 1.1683e-05 | J55: =I55+0.1*($B56-$B55) -> 1.1122e-05 | ... L55: =K55+0.1*($B56-$B55) -> 1e-05 | O55: 432 | P55: =P54 -> 26 | Q55: =MOD(O55,10)+2 -> 4 | R55: {=INDIRECT(ADDRESS(P55,Q55))} -> 0.74408
A56: 730 | B56: 1e-05 | C56: =B56+0.1*($B57-$B56) -> 1e-05 | D56: =C56+0.1*($B57-$B56) -> 1e-05 | E56: =D56+0.1*($B57-$B56) -> 1e-05 | F56: =E56+0.1*($B57-$B56) -> 1e-05 | G56: =F56+0.1*($B57-$B56) -> 1e-05 | H56: =G56+0.1*($B57-$B56) -> 1e-05 | I56: =H56+0.1*($B57-$B56) -> 1e-05 | J56: =I56+0.1*($B57-$B56) -> 1e-05 | ... L56: =K56+0.1*($B57-$B56) -> 1e-05 | O56: 433 | P56: =P55 -> 26 | Q56: =MOD(O56,10)+2 -> 5 | R56: {=INDIRECT(ADDRESS(P56,Q56))} -> 0.74537
A57: 740 | B57: 1e-05 | C57: =B57+0.1*($B58-$B57) -> 1e-05 | D57: =C57+0.1*($B58-$B57) -> 1e-05 | E57: =D57+0.1*($B58-$B57) -> 1e-05 | F57: =E57+0.1*($B58-$B57) -> 1e-05 | G57: =F57+0.1*($B58-$B57) -> 1e-05 | H57: =G57+0.1*($B58-$B57) -> 1e-05 | I57: =H57+0.1*($B58-$B57) -> 1e-05 | J57: =I57+0.1*($B58-$B57) -> 1e-05 | ... L57: =K57+0.1*($B58-$B57) -> 1e-05 | O57: 434 | P57: =P56 -> 26 | Q57: =MOD(O57,10)+2 -> 6 | R57: {=INDIRECT(ADDRESS(P57,Q57))} -> 0.74666
A58: 750 | B58: 1e-05 | C58: =B58+0.1*($B59-$B58) -> 1e-05 | D58: =C58+0.1*($B59-$B58) -> 1e-05 | E58: =D58+0.1*($B59-$B58) -> 1e-05 | F58: =E58+0.1*($B59-$B58) -> 1e-05 | G58: =F58+0.1*($B59-$B58) -> 1e-05 | H58: =G58+0.1*($B59-$B58) -> 1e-05 | I58: =H58+0.1*($B59-$B58) -> 1e-05 | J58: =I58+0.1*($B59-$B58) -> 1e-05 | ... L58: =K58+0.1*($B59-$B58) -> 1e-05 | O58: 435 | P58: =P57 -> 26 | Q58: =MOD(O58,10)+2 -> 7 | R58: {=INDIRECT(ADDRESS(P58,Q58))} -> 0.74795
A59: 760 | B59: 1e-05 | C59: =B59+0.1*($B60-$B59) -> 1e-05 | D59: =C59+0.1*($B60-$B59) -> 1e-05 | E59: =D59+0.1*($B60-$B59) -> 1e-05 | F59: =E59+0.1*($B60-$B59) -> 1e-05 | G59: =F59+0.1*($B60-$B59) -> 1e-05 | H59: =G59+0.1*($B60-$B59) -> 1e-05 | I59: =H59+0.1*($B60-$B59) -> 1e-05 | J59: =I59+0.1*($B60-$B59) -> 1e-05 | ... L59: =K59+0.1*($B60-$B59) -> 1e-05 | O59: 436 | P59: =P58 -> 26 | Q59: =MOD(O59,10)+2 -> 8 | R59: {=INDIRECT(ADDRESS(P59,Q59))} -> 0.74924
A60: 770 | B60: 1e-05 | C60: =B60+0.1*($B61-$B60) -> 1e-05 | D60: =C60+0.1*($B61-$B60) -> 1e-05 | E60: =D60+0.1*($B61-$B60) -> 1e-05 | F60: =E60+0.1*($B61-$B60) -> 1e-05 | G60: =F60+0.1*($B61-$B60) -> 1e-05 | H60: =G60+0.1*($B61-$B60) -> 1e-05 | I60: =H60+0.1*($B61-$B60) -> 1e-05 | J60: =I60+0.1*($B61-$B60) -> 1e-05 | ... L60: =K60+0.1*($B61-$B60) -> 1e-05 | O60: 437 | P60: =P59 -> 26 | Q60: =MOD(O60,10)+2 -> 9 | R60: {=INDIRECT(ADDRESS(P60,Q60))} -> 0.75053
A61: 780 | B61: 1e-05 | C61: =B61+0.1*($B62-$B61) -> 1e-05 | D61: =C61+0.1*($B62-$B61) -> 1e-05 | E61: =D61+0.1*($B62-$B61) -> 1e-05 | F61: =E61+0.1*($B62-$B61) -> 1e-05 | G61: =F61+0.1*($B62-$B61) -> 1e-05 | H61: =G61+0.1*($B62-$B61) -> 1e-05 | I61: =H61+0.1*($B62-$B61) -> 1e-05 | J61: =I61+0.1*($B62-$B61) -> 1e-05 | ... L61: =K61+0.1*($B62-$B61) -> 1e-05 | O61: 438 | P61: =P60 -> 26 | Q61: =MOD(O61,10)+2 -> 10 | R61: {=INDIRECT(ADDRESS(P61,Q61))} -> 0.75182
A62: 790 | B62: 1e-05 | C62: =B62+0.1*($B63-$B62) -> 1e-05 | D62: =C62+0.1*($B63-$B62) -> 1e-05 | E62: =D62+0.1*($B63-$B62) -> 1e-05 | F62: =E62+0.1*($B63-$B62) -> 1e-05 | G62: =F62+0.1*($B63-$B62) -> 1e-05 | H62: =G62+0.1*($B63-$B62) -> 1e-05 | I62: =H62+0.1*($B63-$B62) -> 1e-05 | J62: =I62+0.1*($B63-$B62) -> 1e-05 | ... L62: =K62+0.1*($B63-$B62) -> 1e-05 | O62: 439 | P62: =P61 -> 26 | Q62: =MOD(O62,10)+2 -> 11 | R62: {=INDIRECT(ADDRESS(P62,Q62))} -> 0.75311
A63: 800 | B63: 1e-05 | C63: =B63+0.1*($B64-$B63) -> 1e-05 | D63: =C63+0.1*($B64-$B63) -> 1e-05 | E63: =D63+0.1*($B64-$B63) -> 1e-05 | F63: =E63+0.1*($B64-$B63) -> 1e-05 | G63: =F63+0.1*($B64-$B63) -> 1e-05 | H63: =G63+0.1*($B64-$B63) -> 1e-05 | I63: =H63+0.1*($B64-$B63) -> 1e-05 | J63: =I63+0.1*($B64-$B63) -> 1e-05 | ... L63: =K63+0.1*($B64-$B63) -> 1e-05 | O63: 440 | P63: =MATCH(O63,$A$3:$A$182,0)+2 -> 27 | Q63: =MOD(O63,10)+2 -> 2 | R63: {=INDIRECT(ADDRESS(P63,Q63))} -> 0.7544
A64: 810 | B64: 1e-05 | C64: =B64+0.1*($B65-$B64) -> 1e-05 | D64: =C64+0.1*($B65-$B64) -> 1e-05 | E64: =D64+0.1*($B65-$B64) -> 1e-05 | F64: =E64+0.1*($B65-$B64) -> 1e-05 | G64: =F64+0.1*($B65-$B64) -> 1e-05 | H64: =G64+0.1*($B65-$B64) -> 1e-05 | I64: =H64+0.1*($B65-$B64) -> 1e-05 | J64: =I64+0.1*($B65-$B64) -> 1e-05 | ... L64: =K64+0.1*($B65-$B64) -> 1e-05 | O64: 441 | P64: =P63 -> 27 | Q64: =MOD(O64,10)+2 -> 3 | R64: {=INDIRECT(ADDRESS(P64,Q64))} -> 0.75592
A65: 820 | B65: 1e-05 | C65: =B65+0.1*($B66-$B65) -> 1e-05 | D65: =C65+0.1*($B66-$B65) -> 1e-05 | E65: =D65+0.1*($B66-$B65) -> 1e-05 | F65: =E65+0.1*($B66-$B65) -> 1e-05 | G65: =F65+0.1*($B66-$B65) -> 1e-05 | H65: =G65+0.1*($B66-$B65) -> 1e-05 | I65: =H65+0.1*($B66-$B65) -> 1e-05 | J65: =I65+0.1*($B66-$B65) -> 1e-05 | ... L65: =K65+0.1*($B66-$B65) -> 1e-05 | O65: 442 | P65: =P64 -> 27 | Q65: =MOD(O65,10)+2 -> 4 | R65: {=INDIRECT(ADDRESS(P65,Q65))} -> 0.75744
A66: 830 | B66: 1e-05 | C66: =B66+0.1*($B67-$B66) -> 1e-05 | D66: =C66+0.1*($B67-$B66) -> 1e-05 | E66: =D66+0.1*($B67-$B66) -> 1e-05 | F66: =E66+0.1*($B67-$B66) -> 1e-05 | G66: =F66+0.1*($B67-$B66) -> 1e-05 | H66: =G66+0.1*($B67-$B66) -> 1e-05 | I66: =H66+0.1*($B67-$B66) -> 1e-05 | J66: =I66+0.1*($B67-$B66) -> 1e-05 | ... L66: =K66+0.1*($B67-$B66) -> 1e-05 | O66: 443 | P66: =P65 -> 27 | Q66: =MOD(O66,10)+2 -> 5 | R66: {=INDIRECT(ADDRESS(P66,Q66))} -> 0.75896
A67: 840 | B67: 1e-05 | C67: =B67+0.1*($B68-$B67) -> 1e-05 | D67: =C67+0.1*($B68-$B67) -> 1e-05 | E67: =D67+0.1*($B68-$B67) -> 1e-05 | F67: =E67+0.1*($B68-$B67) -> 1e-05 | G67: =F67+0.1*($B68-$B67) -> 1e-05 | H67: =G67+0.1*($B68-$B67) -> 1e-05 | I67: =H67+0.1*($B68-$B67) -> 1e-05 | J67: =I67+0.1*($B68-$B67) -> 1e-05 | ... L67: =K67+0.1*($B68-$B67) -> 1e-05 | O67: 444 | P67: =P66 -> 27 | Q67: =MOD(O67,10)+2 -> 6 | R67: {=INDIRECT(ADDRESS(P67,Q67))} -> 0.76048
A68: 850 | B68: 1e-05 | C68: =B68+0.1*($B69-$B68) -> 1e-05 | D68: =C68+0.1*($B69-$B68) -> 1e-05 | E68: =D68+0.1*($B69-$B68) -> 1e-05 | F68: =E68+0.1*($B69-$B68) -> 1e-05 | G68: =F68+0.1*($B69-$B68) -> 1e-05 | H68: =G68+0.1*($B69-$B68) -> 1e-05 | I68: =H68+0.1*($B69-$B68) -> 1e-05 | J68: =I68+0.1*($B69-$B68) -> 1e-05 | ... L68: =K68+0.1*($B69-$B68) -> 1e-05 | O68: 445 | P68: =P67 -> 27 | Q68: =MOD(O68,10)+2 -> 7 | R68: {=INDIRECT(ADDRESS(P68,Q68))} -> 0.762
A69: 860 | B69: 1e-05 | C69: =B69+0.1*($B70-$B69) -> 1e-05 | D69: =C69+0.1*($B70-$B69) -> 1e-05 | E69: =D69+0.1*($B70-$B69) -> 1e-05 | F69: =E69+0.1*($B70-$B69) -> 1e-05 | G69: =F69+0.1*($B70-$B69) -> 1e-05 | H69: =G69+0.1*($B70-$B69) -> 1e-05 | I69: =H69+0.1*($B70-$B69) -> 1e-05 | J69: =I69+0.1*($B70-$B69) -> 1e-05 | ... L69: =K69+0.1*($B70-$B69) -> 1e-05 | O69: 446 | P69: =P68 -> 27 | Q69: =MOD(O69,10)+2 -> 8 | R69: {=INDIRECT(ADDRESS(P69,Q69))} -> 0.76352
A70: 870 | B70: 1e-05 | C70: =B70+0.1*($B71-$B70) -> 1e-05 | D70: =C70+0.1*($B71-$B70) -> 1e-05 | E70: =D70+0.1*($B71-$B70) -> 1e-05 | F70: =E70+0.1*($B71-$B70) -> 1e-05 | G70: =F70+0.1*($B71-$B70) -> 1e-05 | H70: =G70+0.1*($B71-$B70) -> 1e-05 | I70: =H70+0.1*($B71-$B70) -> 1e-05 | J70: =I70+0.1*($B71-$B70) -> 1e-05 | ... L70: =K70+0.1*($B71-$B70) -> 1e-05 | O70: 447 | P70: =P69 -> 27 | Q70: =MOD(O70,10)+2 -> 9 | R70: {=INDIRECT(ADDRESS(P70,Q70))} -> 0.76504
A71: 880 | B71: 1e-05 | C71: =B71+0.1*($B72-$B71) -> 1e-05 | D71: =C71+0.1*($B72-$B71) -> 1e-05 | E71: =D71+0.1*($B72-$B71) -> 1e-05 | F71: =E71+0.1*($B72-$B71) -> 1e-05 | G71: =F71+0.1*($B72-$B71) -> 1e-05 | H71: =G71+0.1*($B72-$B71) -> 1e-05 | I71: =H71+0.1*($B72-$B71) -> 1e-05 | J71: =I71+0.1*($B72-$B71) -> 1e-05 | ... L71: =K71+0.1*($B72-$B71) -> 1e-05 | O71: 448 | P71: =P70 -> 27 | Q71: =MOD(O71,10)+2 -> 10 | R71: {=INDIRECT(ADDRESS(P71,Q71))} -> 0.76656
A72: 890 | B72: 1e-05 | C72: =B72+0.1*($B73-$B72) -> 1e-05 | D72: =C72+0.1*($B73-$B72) -> 1e-05 | E72: =D72+0.1*($B73-$B72) -> 1e-05 | F72: =E72+0.1*($B73-$B72) -> 1e-05 | G72: =F72+0.1*($B73-$B72) -> 1e-05 | H72: =G72+0.1*($B73-$B72) -> 1e-05 | I72: =H72+0.1*($B73-$B72) -> 1e-05 | J72: =I72+0.1*($B73-$B72) -> 1e-05 | ... L72: =K72+0.1*($B73-$B72) -> 1e-05 | O72: 449 | P72: =P71 -> 27 | Q72: =MOD(O72,10)+2 -> 11 | R72: {=INDIRECT(ADDRESS(P72,Q72))} -> 0.76808
A73: 900 | B73: 1e-05 | C73: =B73+0.1*($B74-$B73) -> 1e-05 | D73: =C73+0.1*($B74-$B73) -> 1e-05 | E73: =D73+0.1*($B74-$B73) -> 1e-05 | F73: =E73+0.1*($B74-$B73) -> 1e-05 | G73: =F73+0.1*($B74-$B73) -> 1e-05 | H73: =G73+0.1*($B74-$B73) -> 1e-05 | I73: =H73+0.1*($B74-$B73) -> 1e-05 | J73: =I73+0.1*($B74-$B73) -> 1e-05 | ... L73: =K73+0.1*($B74-$B73) -> 1e-05 | O73: 450 | P73: =MATCH(O73,$A$3:$A$182,0)+2 -> 28 | Q73: =MOD(O73,10)+2 -> 2 | R73: {=INDIRECT(ADDRESS(P73,Q73))} -> 0.7696
A74: 910 | B74: 1e-05 | C74: =B74+0.1*($B75-$B74) -> 1e-05 | D74: =C74+0.1*($B75-$B74) -> 1e-05 | E74: =D74+0.1*($B75-$B74) -> 1e-05 | F74: =E74+0.1*($B75-$B74) -> 1e-05 | G74: =F74+0.1*($B75-$B74) -> 1e-05 | H74: =G74+0.1*($B75-$B74) -> 1e-05 | I74: =H74+0.1*($B75-$B74) -> 1e-05 | J74: =I74+0.1*($B75-$B74) -> 1e-05 | ... L74: =K74+0.1*($B75-$B74) -> 1e-05 | O74: 451 | P74: =P73 -> 28 | Q74: =MOD(O74,10)+2 -> 3 | R74: {=INDIRECT(ADDRESS(P74,Q74))} -> 0.7714
A75: 920 | B75: 1e-05 | C75: =B75+0.1*($B76-$B75) -> 1e-05 | D75: =C75+0.1*($B76-$B75) -> 1e-05 | E75: =D75+0.1*($B76-$B75) -> 1e-05 | F75: =E75+0.1*($B76-$B75) -> 1e-05 | G75: =F75+0.1*($B76-$B75) -> 1e-05 | H75: =G75+0.1*($B76-$B75) -> 1e-05 | I75: =H75+0.1*($B76-$B75) -> 1e-05 | J75: =I75+0.1*($B76-$B75) -> 1e-05 | ... L75: =K75+0.1*($B76-$B75) -> 1e-05 | O75: 452 | P75: =P74 -> 28 | Q75: =MOD(O75,10)+2 -> 4 | R75: {=INDIRECT(ADDRESS(P75,Q75))} -> 0.7732
A76: 930 | B76: 1e-05 | C76: =B76+0.1*($B77-$B76) -> 1e-05 | D76: =C76+0.1*($B77-$B76) -> 1e-05 | E76: =D76+0.1*($B77-$B76) -> 1e-05 | F76: =E76+0.1*($B77-$B76) -> 1e-05 | G76: =F76+0.1*($B77-$B76) -> 1e-05 | H76: =G76+0.1*($B77-$B76) -> 1e-05 | I76: =H76+0.1*($B77-$B76) -> 1e-05 | J76: =I76+0.1*($B77-$B76) -> 1e-05 | ... L76: =K76+0.1*($B77-$B76) -> 1e-05 | O76: 453 | P76: =P75 -> 28 | Q76: =MOD(O76,10)+2 -> 5 | R76: {=INDIRECT(ADDRESS(P76,Q76))} -> 0.775
A77: 940 | B77: 1e-05 | C77: =B77+0.1*($B78-$B77) -> 1e-05 | D77: =C77+0.1*($B78-$B77) -> 1e-05 | E77: =D77+0.1*($B78-$B77) -> 1e-05 | F77: =E77+0.1*($B78-$B77) -> 1e-05 | G77: =F77+0.1*($B78-$B77) -> 1e-05 | H77: =G77+0.1*($B78-$B77) -> 1e-05 | I77: =H77+0.1*($B78-$B77) -> 1e-05 | J77: =I77+0.1*($B78-$B77) -> 1e-05 | ... L77: =K77+0.1*($B78-$B77) -> 1e-05 | O77: 454 | P77: =P76 -> 28 | Q77: =MOD(O77,10)+2 -> 6 | R77: {=INDIRECT(ADDRESS(P77,Q77))} -> 0.7768
A78: 950 | B78: 1e-05 | C78: =B78+0.1*($B79-$B78) -> 1e-05 | D78: =C78+0.1*($B79-$B78) -> 1e-05 | E78: =D78+0.1*($B79-$B78) -> 1e-05 | F78: =E78+0.1*($B79-$B78) -> 1e-05 | G78: =F78+0.1*($B79-$B78) -> 1e-05 | H78: =G78+0.1*($B79-$B78) -> 1e-05 | I78: =H78+0.1*($B79-$B78) -> 1e-05 | J78: =I78+0.1*($B79-$B78) -> 1e-05 | ... L78: =K78+0.1*($B79-$B78) -> 1e-05 | O78: 455 | P78: =P77 -> 28 | Q78: =MOD(O78,10)+2 -> 7 | R78: {=INDIRECT(ADDRESS(P78,Q78))} -> 0.7786
A79: 960 | B79: 1e-05 | C79: =B79+0.1*($B80-$B79) -> 1e-05 | D79: =C79+0.1*($B80-$B79) -> 1e-05 | E79: =D79+0.1*($B80-$B79) -> 1e-05 | F79: =E79+0.1*($B80-$B79) -> 1e-05 | G79: =F79+0.1*($B80-$B79) -> 1e-05 | H79: =G79+0.1*($B80-$B79) -> 1e-05 | I79: =H79+0.1*($B80-$B79) -> 1e-05 | J79: =I79+0.1*($B80-$B79) -> 1e-05 | ... L79: =K79+0.1*($B80-$B79) -> 1e-05 | O79: 456 | P79: =P78 -> 28 | Q79: =MOD(O79,10)+2 -> 8 | R79: {=INDIRECT(ADDRESS(P79,Q79))} -> 0.7804
A80: 970 | B80: 1e-05 | C80: =B80+0.1*($B81-$B80) -> 1e-05 | D80: =C80+0.1*($B81-$B80) -> 1e-05 | E80: =D80+0.1*($B81-$B80) -> 1e-05 | F80: =E80+0.1*($B81-$B80) -> 1e-05 | G80: =F80+0.1*($B81-$B80) -> 1e-05 | H80: =G80+0.1*($B81-$B80) -> 1e-05 | I80: =H80+0.1*($B81-$B80) -> 1e-05 | J80: =I80+0.1*($B81-$B80) -> 1e-05 | ... L80: =K80+0.1*($B81-$B80) -> 1e-05 | O80: 457 | P80: =P79 -> 28 | Q80: =MOD(O80,10)+2 -> 9 | R80: {=INDIRECT(ADDRESS(P80,Q80))} -> 0.7822
A81: 980 | B81: 1e-05 | C81: =B81+0.1*($B82-$B81) -> 1e-05 | D81: =C81+0.1*($B82-$B81) -> 1e-05 | E81: =D81+0.1*($B82-$B81) -> 1e-05 | F81: =E81+0.1*($B82-$B81) -> 1e-05 | G81: =F81+0.1*($B82-$B81) -> 1e-05 | H81: =G81+0.1*($B82-$B81) -> 1e-05 | I81: =H81+0.1*($B82-$B81) -> 1e-05 | J81: =I81+0.1*($B82-$B81) -> 1e-05 | ... L81: =K81+0.1*($B82-$B81) -> 1e-05 | O81: 458 | P81: =P80 -> 28 | Q81: =MOD(O81,10)+2 -> 10 | R81: {=INDIRECT(ADDRESS(P81,Q81))} -> 0.784
A82: 990 | B82: 1e-05 | C82: =B82+0.1*($B83-$B82) -> 1e-05 | D82: =C82+0.1*($B83-$B82) -> 1e-05 | E82: =D82+0.1*($B83-$B82) -> 1e-05 | F82: =E82+0.1*($B83-$B82) -> 1e-05 | G82: =F82+0.1*($B83-$B82) -> 1e-05 | H82: =G82+0.1*($B83-$B82) -> 1e-05 | I82: =H82+0.1*($B83-$B82) -> 1e-05 | J82: =I82+0.1*($B83-$B82) -> 1e-05 | ... L82: =K82+0.1*($B83-$B82) -> 1e-05 | O82: 459 | P82: =P81 -> 28 | Q82: =MOD(O82,10)+2 -> 11 | R82: {=INDIRECT(ADDRESS(P82,Q82))} -> 0.7858
A83: 1000 | B83: 1e-05 | C83: =B83+0.1*($B84-$B83) -> 1e-05 | D83: =C83+0.1*($B84-$B83) -> 1e-05 | E83: =D83+0.1*($B84-$B83) -> 1e-05 | F83: =E83+0.1*($B84-$B83) -> 1e-05 | G83: =F83+0.1*($B84-$B83) -> 1e-05 | H83: =G83+0.1*($B84-$B83) -> 1e-05 | I83: =H83+0.1*($B84-$B83) -> 1e-05 | J83: =I83+0.1*($B84-$B83) -> 1e-05 | ... L83: =K83+0.1*($B84-$B83) -> 1e-05 | O83: 460 | P83: =MATCH(O83,$A$3:$A$182,0)+2 -> 29 | Q83: =MOD(O83,10)+2 -> 2 | R83: {=INDIRECT(ADDRESS(P83,Q83))} -> 0.7876
A84: 1010 | B84: 1e-05 | C84: =B84+0.1*($B85-$B84) -> 1e-05 | D84: =C84+0.1*($B85-$B84) -> 1e-05 | E84: =D84+0.1*($B85-$B84) -> 1e-05 | F84: =E84+0.1*($B85-$B84) -> 1e-05 | G84: =F84+0.1*($B85-$B84) -> 1e-05 | H84: =G84+0.1*($B85-$B84) -> 1e-05 | I84: =H84+0.1*($B85-$B84) -> 1e-05 | J84: =I84+0.1*($B85-$B84) -> 1e-05 | ... L84: =K84+0.1*($B85-$B84) -> 1e-05 | O84: 461 | P84: =P83 -> 29 | Q84: =MOD(O84,10)+2 -> 3 | R84: {=INDIRECT(ADDRESS(P84,Q84))} -> 0.78967
A85: 1020 | B85: 1e-05 | C85: =B85+0.1*($B86-$B85) -> 1e-05 | D85: =C85+0.1*($B86-$B85) -> 1e-05 | E85: =D85+0.1*($B86-$B85) -> 1e-05 | F85: =E85+0.1*($B86-$B85) -> 1e-05 | G85: =F85+0.1*($B86-$B85) -> 1e-05 | H85: =G85+0.1*($B86-$B85) -> 1e-05 | I85: =H85+0.1*($B86-$B85) -> 1e-05 | J85: =I85+0.1*($B86-$B85) -> 1e-05 | ... L85: =K85+0.1*($B86-$B85) -> 1e-05 | O85: 462 | P85: =P84 -> 29 | Q85: =MOD(O85,10)+2 -> 4 | R85: {=INDIRECT(ADDRESS(P85,Q85))} -> 0.79174
A86: 1030 | B86: 1e-05 | C86: =B86+0.1*($B87-$B86) -> 1e-05 | D86: =C86+0.1*($B87-$B86) -> 1e-05 | E86: =D86+0.1*($B87-$B86) -> 1e-05 | F86: =E86+0.1*($B87-$B86) -> 1e-05 | G86: =F86+0.1*($B87-$B86) -> 1e-05 | H86: =G86+0.1*($B87-$B86) -> 1e-05 | I86: =H86+0.1*($B87-$B86) -> 1e-05 | J86: =I86+0.1*($B87-$B86) -> 1e-05 | ... L86: =K86+0.1*($B87-$B86) -> 1e-05 | O86: 463 | P86: =P85 -> 29 | Q86: =MOD(O86,10)+2 -> 5 | R86: {=INDIRECT(ADDRESS(P86,Q86))} -> 0.79381
A87: 1040 | B87: 1e-05 | C87: =B87+0.1*($B88-$B87) -> 1e-05 | D87: =C87+0.1*($B88-$B87) -> 1e-05 | E87: =D87+0.1*($B88-$B87) -> 1e-05 | F87: =E87+0.1*($B88-$B87) -> 1e-05 | G87: =F87+0.1*($B88-$B87) -> 1e-05 | H87: =G87+0.1*($B88-$B87) -> 1e-05 | I87: =H87+0.1*($B88-$B87) -> 1e-05 | J87: =I87+0.1*($B88-$B87) -> 1e-05 | ... L87: =K87+0.1*($B88-$B87) -> 1e-05 | O87: 464 | P87: =P86 -> 29 | Q87: =MOD(O87,10)+2 -> 6 | R87: {=INDIRECT(ADDRESS(P87,Q87))} -> 0.79588
A88: 1050 | B88: 1e-05 | C88: =B88+0.1*($B89-$B88) -> 1e-05 | D88: =C88+0.1*($B89-$B88) -> 1e-05 | E88: =D88+0.1*($B89-$B88) -> 1e-05 | F88: =E88+0.1*($B89-$B88) -> 1e-05 | G88: =F88+0.1*($B89-$B88) -> 1e-05 | H88: =G88+0.1*($B89-$B88) -> 1e-05 | I88: =H88+0.1*($B89-$B88) -> 1e-05 | J88: =I88+0.1*($B89-$B88) -> 1e-05 | ... L88: =K88+0.1*($B89-$B88) -> 1e-05 | O88: 465 | P88: =P87 -> 29 | Q88: =MOD(O88,10)+2 -> 7 | R88: {=INDIRECT(ADDRESS(P88,Q88))} -> 0.79795
A89: 1060 | B89: 1e-05 | C89: =B89+0.1*($B90-$B89) -> 1e-05 | D89: =C89+0.1*($B90-$B89) -> 1e-05 | E89: =D89+0.1*($B90-$B89) -> 1e-05 | F89: =E89+0.1*($B90-$B89) -> 1e-05 | G89: =F89+0.1*($B90-$B89) -> 1e-05 | H89: =G89+0.1*($B90-$B89) -> 1e-05 | I89: =H89+0.1*($B90-$B89) -> 1e-05 | J89: =I89+0.1*($B90-$B89) -> 1e-05 | ... L89: =K89+0.1*($B90-$B89) -> 1e-05 | O89: 466 | P89: =P88 -> 29 | Q89: =MOD(O89,10)+2 -> 8 | R89: {=INDIRECT(ADDRESS(P89,Q89))} -> 0.80002
A90: 1070 | B90: 1e-05 | C90: =B90+0.1*($B91-$B90) -> 1e-05 | D90: =C90+0.1*($B91-$B90) -> 1e-05 | E90: =D90+0.1*($B91-$B90) -> 1e-05 | F90: =E90+0.1*($B91-$B90) -> 1e-05 | G90: =F90+0.1*($B91-$B90) -> 1e-05 | H90: =G90+0.1*($B91-$B90) -> 1e-05 | I90: =H90+0.1*($B91-$B90) -> 1e-05 | J90: =I90+0.1*($B91-$B90) -> 1e-05 | ... L90: =K90+0.1*($B91-$B90) -> 1e-05 | O90: 467 | P90: =P89 -> 29 | Q90: =MOD(O90,10)+2 -> 9 | R90: {=INDIRECT(ADDRESS(P90,Q90))} -> 0.80209
A91: 1080 | B91: 1e-05 | C91: =B91+0.1*($B92-$B91) -> 1e-05 | D91: =C91+0.1*($B92-$B91) -> 1e-05 | E91: =D91+0.1*($B92-$B91) -> 1e-05 | F91: =E91+0.1*($B92-$B91) -> 1e-05 | G91: =F91+0.1*($B92-$B91) -> 1e-05 | H91: =G91+0.1*($B92-$B91) -> 1e-05 | I91: =H91+0.1*($B92-$B91) -> 1e-05 | J91: =I91+0.1*($B92-$B91) -> 1e-05 | ... L91: =K91+0.1*($B92-$B91) -> 1e-05 | O91: 468 | P91: =P90 -> 29 | Q91: =MOD(O91,10)+2 -> 10 | R91: {=INDIRECT(ADDRESS(P91,Q91))} -> 0.80416
A92: 1090 | B92: 1e-05 | C92: =B92+0.1*($B93-$B92) -> 1e-05 | D92: =C92+0.1*($B93-$B92) -> 1e-05 | E92: =D92+0.1*($B93-$B92) -> 1e-05 | F92: =E92+0.1*($B93-$B92) -> 1e-05 | G92: =F92+0.1*($B93-$B92) -> 1e-05 | H92: =G92+0.1*($B93-$B92) -> 1e-05 | I92: =H92+0.1*($B93-$B92) -> 1e-05 | J92: =I92+0.1*($B93-$B92) -> 1e-05 | ... L92: =K92+0.1*($B93-$B92) -> 1e-05 | O92: 469 | P92: =P91 -> 29 | Q92: =MOD(O92,10)+2 -> 11 | R92: {=INDIRECT(ADDRESS(P92,Q92))} -> 0.80623
A93: 1100 | B93: 1e-05 | C93: =B93+0.1*($B94-$B93) -> 1e-05 | D93: =C93+0.1*($B94-$B93) -> 1e-05 | E93: =D93+0.1*($B94-$B93) -> 1e-05 | F93: =E93+0.1*($B94-$B93) -> 1e-05 | G93: =F93+0.1*($B94-$B93) -> 1e-05 | H93: =G93+0.1*($B94-$B93) -> 1e-05 | I93: =H93+0.1*($B94-$B93) -> 1e-05 | J93: =I93+0.1*($B94-$B93) -> 1e-05 | ... L93: =K93+0.1*($B94-$B93) -> 1e-05 | O93: 470 | P93: =MATCH(O93,$A$3:$A$182,0)+2 -> 30 | Q93: =MOD(O93,10)+2 -> 2 | R93: {=INDIRECT(ADDRESS(P93,Q93))} -> 0.8083
A94: 1110 | B94: 1e-05 | C94: =B94+0.1*($B95-$B94) -> 1e-05 | D94: =C94+0.1*($B95-$B94) -> 1e-05 | E94: =D94+0.1*($B95-$B94) -> 1e-05 | F94: =E94+0.1*($B95-$B94) -> 1e-05 | G94: =F94+0.1*($B95-$B94) -> 1e-05 | H94: =G94+0.1*($B95-$B94) -> 1e-05 | I94: =H94+0.1*($B95-$B94) -> 1e-05 | J94: =I94+0.1*($B95-$B94) -> 1e-05 | ... L94: =K94+0.1*($B95-$B94) -> 1e-05 | O94: 471 | P94: =P93 -> 30 | Q94: =MOD(O94,10)+2 -> 3 | R94: {=INDIRECT(ADDRESS(P94,Q94))} -> 0.81061
A95: 1120 | B95: 1e-05 | C95: =B95+0.1*($B96-$B95) -> 1e-05 | D95: =C95+0.1*($B96-$B95) -> 1e-05 | E95: =D95+0.1*($B96-$B95) -> 1e-05 | F95: =E95+0.1*($B96-$B95) -> 1e-05 | G95: =F95+0.1*($B96-$B95) -> 1e-05 | H95: =G95+0.1*($B96-$B95) -> 1e-05 | I95: =H95+0.1*($B96-$B95) -> 1e-05 | J95: =I95+0.1*($B96-$B95) -> 1e-05 | ... L95: =K95+0.1*($B96-$B95) -> 1e-05 | O95: 472 | P95: =P94 -> 30 | Q95: =MOD(O95,10)+2 -> 4 | R95: {=INDIRECT(ADDRESS(P95,Q95))} -> 0.81292
A96: 1130 | B96: 1e-05 | C96: =B96+0.1*($B97-$B96) -> 1e-05 | D96: =C96+0.1*($B97-$B96) -> 1e-05 | E96: =D96+0.1*($B97-$B96) -> 1e-05 | F96: =E96+0.1*($B97-$B96) -> 1e-05 | G96: =F96+0.1*($B97-$B96) -> 1e-05 | H96: =G96+0.1*($B97-$B96) -> 1e-05 | I96: =H96+0.1*($B97-$B96) -> 1e-05 | J96: =I96+0.1*($B97-$B96) -> 1e-05 | ... L96: =K96+0.1*($B97-$B96) -> 1e-05 | O96: 473 | P96: =P95 -> 30 | Q96: =MOD(O96,10)+2 -> 5 | R96: {=INDIRECT(ADDRESS(P96,Q96))} -> 0.81523
A97: 1140 | B97: 1e-05 | C97: =B97+0.1*($B98-$B97) -> 1e-05 | D97: =C97+0.1*($B98-$B97) -> 1e-05 | E97: =D97+0.1*($B98-$B97) -> 1e-05 | F97: =E97+0.1*($B98-$B97) -> 1e-05 | G97: =F97+0.1*($B98-$B97) -> 1e-05 | H97: =G97+0.1*($B98-$B97) -> 1e-05 | I97: =H97+0.1*($B98-$B97) -> 1e-05 | J97: =I97+0.1*($B98-$B97) -> 1e-05 | ... L97: =K97+0.1*($B98-$B97) -> 1e-05 | O97: 474 | P97: =P96 -> 30 | Q97: =MOD(O97,10)+2 -> 6 | R97: {=INDIRECT(ADDRESS(P97,Q97))} -> 0.81754
A98: 1150 | B98: 1e-05 | C98: =B98+0.1*($B99-$B98) -> 1e-05 | D98: =C98+0.1*($B99-$B98) -> 1e-05 | E98: =D98+0.1*($B99-$B98) -> 1e-05 | F98: =E98+0.1*($B99-$B98) -> 1e-05 | G98: =F98+0.1*($B99-$B98) -> 1e-05 | H98: =G98+0.1*($B99-$B98) -> 1e-05 | I98: =H98+0.1*($B99-$B98) -> 1e-05 | J98: =I98+0.1*($B99-$B98) -> 1e-05 | ... L98: =K98+0.1*($B99-$B98) -> 1e-05 | O98: 475 | P98: =P97 -> 30 | Q98: =MOD(O98,10)+2 -> 7 | R98: {=INDIRECT(ADDRESS(P98,Q98))} -> 0.81985
A99: 1160 | B99: 1e-05 | C99: =B99+0.1*($B100-$B99) -> 1e-05 | D99: =C99+0.1*($B100-$B99) -> 1e-05 | E99: =D99+0.1*($B100-$B99) -> 1e-05 | F99: =E99+0.1*($B100-$B99) -> 1e-05 | G99: =F99+0.1*($B100-$B99) -> 1e-05 | H99: =G99+0.1*($B100-$B99) -> 1e-05 | I99: =H99+0.1*($B100-$B99) -> 1e-05 | J99: =I99+0.1*($B100-$B99) -> 1e-05 | ... L99: =K99+0.1*($B100-$B99) -> 1e-05 | O99: 476 | P99: =P98 -> 30 | Q99: =MOD(O99,10)+2 -> 8 | R99: {=INDIRECT(ADDRESS(P99,Q99))} -> 0.82216
A100: 1170 | B100: 1e-05 | C100: =B100+0.1*($B101-$B100) -> 1.0128e-05 | D100: =C100+0.1*($B101-$B100) -> 1.0256e-05 | E100: =D100+0.1*($B101-$B100) -> 1.0384e-05 | F100: =E100+0.1*($B101-$B100) -> 1.0512e-05 | G100: =F100+0.1*($B101-$B100) -> 1.064e-05 | H100: =G100+0.1*($B101-$B100) -> 1.0768e-05 | I100: =H100+0.1*($B101-$B100) -> 1.0896e-05 | J100: =I100+0.1*($B101-$B100) -> 1.1024e-05 | ... L100: =K100+0.1*($B101-$B100) -> 1.128e-05 | O100: 477 | P100: =P99 -> 30 | Q100: =MOD(O100,10)+2 -> 9 | R100: {=INDIRECT(ADDRESS(P100,Q100))} -> 0.82447
...

Sheet OG530
B1: schott-optical-filter-datasheet-collection-de.pdf | F1: Interpolation of the filter characteristics
C2: 1 | D2: 2 | E2: 3 | F2: 4 | G2: 5 | H2: 6 | I2: 7 | J2: 8 | K2: 9 | L2: 10 | P2: row
A3: 200 | B3: 1e-05 | C3: =B3+0.1*($B4-$B3) -> 1e-05 | D3: =C3+0.1*($B4-$B3) -> 1e-05 | E3: =D3+0.1*($B4-$B3) -> 1e-05 | F3: =E3+0.1*($B4-$B3) -> 1e-05 | G3: =F3+0.1*($B4-$B3) -> 1e-05 | H3: =G3+0.1*($B4-$B3) -> 1e-05 | I3: =H3+0.1*($B4-$B3) -> 1e-05 | J3: =I3+0.1*($B4-$B3) -> 1e-05 | ... L3: =K3+0.1*($B4-$B3) -> 1e-05 | O3: 380 | P3: =MATCH(O3,$A$3:$A$182,0)+2 -> 21 | Q3: =MOD(O3,10)+2 -> 2 | R3: {=INDIRECT(ADDRESS(P3,Q3))} -> 1e-05
A4: 210 | B4: 1e-05 | C4: =B4+0.1*($B5-$B4) -> 1e-05 | D4: =C4+0.1*($B5-$B4) -> 1e-05 | E4: =D4+0.1*($B5-$B4) -> 1e-05 | F4: =E4+0.1*($B5-$B4) -> 1e-05 | G4: =F4+0.1*($B5-$B4) -> 1e-05 | H4: =G4+0.1*($B5-$B4) -> 1e-05 | I4: =H4+0.1*($B5-$B4) -> 1e-05 | J4: =I4+0.1*($B5-$B4) -> 1e-05 | ... L4: =K4+0.1*($B5-$B4) -> 1e-05 | O4: 381 | P4: =P3 -> 21 | Q4: =MOD(O4,10)+2 -> 3 | R4: {=INDIRECT(ADDRESS(P4,Q4))} -> 1e-05
A5: 220 | B5: 1e-05 | C5: =B5+0.1*($B6-$B5) -> 1e-05 | D5: =C5+0.1*($B6-$B5) -> 1e-05 | E5: =D5+0.1*($B6-$B5) -> 1e-05 | F5: =E5+0.1*($B6-$B5) -> 1e-05 | G5: =F5+0.1*($B6-$B5) -> 1e-05 | H5: =G5+0.1*($B6-$B5) -> 1e-05 | I5: =H5+0.1*($B6-$B5) -> 1e-05 | J5: =I5+0.1*($B6-$B5) -> 1e-05 | ... L5: =K5+0.1*($B6-$B5) -> 1e-05 | O5: 382 | P5: =P4 -> 21 | Q5: =MOD(O5,10)+2 -> 4 | R5: {=INDIRECT(ADDRESS(P5,Q5))} -> 1e-05
A6: 230 | B6: 1e-05 | C6: =B6+0.1*($B7-$B6) -> 1e-05 | D6: =C6+0.1*($B7-$B6) -> 1e-05 | E6: =D6+0.1*($B7-$B6) -> 1e-05 | F6: =E6+0.1*($B7-$B6) -> 1e-05 | G6: =F6+0.1*($B7-$B6) -> 1e-05 | H6: =G6+0.1*($B7-$B6) -> 1e-05 | I6: =H6+0.1*($B7-$B6) -> 1e-05 | J6: =I6+0.1*($B7-$B6) -> 1e-05 | ... L6: =K6+0.1*($B7-$B6) -> 1e-05 | O6: 383 | P6: =P5 -> 21 | Q6: =MOD(O6,10)+2 -> 5 | R6: {=INDIRECT(ADDRESS(P6,Q6))} -> 1e-05
A7: 240 | B7: 1e-05 | C7: =B7+0.1*($B8-$B7) -> 1e-05 | D7: =C7+0.1*($B8-$B7) -> 1e-05 | E7: =D7+0.1*($B8-$B7) -> 1e-05 | F7: =E7+0.1*($B8-$B7) -> 1e-05 | G7: =F7+0.1*($B8-$B7) -> 1e-05 | H7: =G7+0.1*($B8-$B7) -> 1e-05 | I7: =H7+0.1*($B8-$B7) -> 1e-05 | J7: =I7+0.1*($B8-$B7) -> 1e-05 | ... L7: =K7+0.1*($B8-$B7) -> 1e-05 | O7: 384 | P7: =P6 -> 21 | Q7: =MOD(O7,10)+2 -> 6 | R7: {=INDIRECT(ADDRESS(P7,Q7))} -> 1e-05
A8: 250 | B8: 1e-05 | C8: =B8+0.1*($B9-$B8) -> 1e-05 | D8: =C8+0.1*($B9-$B8) -> 1e-05 | E8: =D8+0.1*($B9-$B8) -> 1e-05 | F8: =E8+0.1*($B9-$B8) -> 1e-05 | G8: =F8+0.1*($B9-$B8) -> 1e-05 | H8: =G8+0.1*($B9-$B8) -> 1e-05 | I8: =H8+0.1*($B9-$B8) -> 1e-05 | J8: =I8+0.1*($B9-$B8) -> 1e-05 | ... L8: =K8+0.1*($B9-$B8) -> 1e-05 | O8: 385 | P8: =P7 -> 21 | Q8: =MOD(O8,10)+2 -> 7 | R8: {=INDIRECT(ADDRESS(P8,Q8))} -> 1e-05
A9: 260 | B9: 1e-05 | C9: =B9+0.1*($B10-$B9) -> 1e-05 | D9: =C9+0.1*($B10-$B9) -> 1e-05 | E9: =D9+0.1*($B10-$B9) -> 1e-05 | F9: =E9+0.1*($B10-$B9) -> 1e-05 | G9: =F9+0.1*($B10-$B9) -> 1e-05 | H9: =G9+0.1*($B10-$B9) -> 1e-05 | I9: =H9+0.1*($B10-$B9) -> 1e-05 | J9: =I9+0.1*($B10-$B9) -> 1e-05 | ... L9: =K9+0.1*($B10-$B9) -> 1e-05 | O9: 386 | P9: =P8 -> 21 | Q9: =MOD(O9,10)+2 -> 8 | R9: {=INDIRECT(ADDRESS(P9,Q9))} -> 1e-05
A10: 270 | B10: 1e-05 | C10: =B10+0.1*($B11-$B10) -> 1e-05 | D10: =C10+0.1*($B11-$B10) -> 1e-05 | E10: =D10+0.1*($B11-$B10) -> 1e-05 | F10: =E10+0.1*($B11-$B10) -> 1e-05 | G10: =F10+0.1*($B11-$B10) -> 1e-05 | H10: =G10+0.1*($B11-$B10) -> 1e-05 | I10: =H10+0.1*($B11-$B10) -> 1e-05 | J10: =I10+0.1*($B11-$B10) -> 1e-05 | ... L10: =K10+0.1*($B11-$B10) -> 1e-05 | O10: 387 | P10: =P9 -> 21 | Q10: =MOD(O10,10)+2 -> 9 | R10: {=INDIRECT(ADDRESS(P10,Q10))} -> 1e-05
A11: 280 | B11: 1e-05 | C11: =B11+0.1*($B12-$B11) -> 1e-05 | D11: =C11+0.1*($B12-$B11) -> 1e-05 | E11: =D11+0.1*($B12-$B11) -> 1e-05 | F11: =E11+0.1*($B12-$B11) -> 1e-05 | G11: =F11+0.1*($B12-$B11) -> 1e-05 | H11: =G11+0.1*($B12-$B11) -> 1e-05 | I11: =H11+0.1*($B12-$B11) -> 1e-05 | J11: =I11+0.1*($B12-$B11) -> 1e-05 | ... L11: =K11+0.1*($B12-$B11) -> 1e-05 | O11: 388 | P11: =P10 -> 21 | Q11: =MOD(O11,10)+2 -> 10 | R11: {=INDIRECT(ADDRESS(P11,Q11))} -> 1e-05
A12: 290 | B12: 1e-05 | C12: =B12+0.1*($B13-$B12) -> 1e-05 | D12: =C12+0.1*($B13-$B12) -> 1e-05 | E12: =D12+0.1*($B13-$B12) -> 1e-05 | F12: =E12+0.1*($B13-$B12) -> 1e-05 | G12: =F12+0.1*($B13-$B12) -> 1e-05 | H12: =G12+0.1*($B13-$B12) -> 1e-05 | I12: =H12+0.1*($B13-$B12) -> 1e-05 | J12: =I12+0.1*($B13-$B12) -> 1e-05 | ... L12: =K12+0.1*($B13-$B12) -> 1e-05 | O12: 389 | P12: =P11 -> 21 | Q12: =MOD(O12,10)+2 -> 11 | R12: {=INDIRECT(ADDRESS(P12,Q12))} -> 1e-05
A13: 300 | B13: 1e-05 | C13: =B13+0.1*($B14-$B13) -> 1e-05 | D13: =C13+0.1*($B14-$B13) -> 1e-05 | E13: =D13+0.1*($B14-$B13) -> 1e-05 | F13: =E13+0.1*($B14-$B13) -> 1e-05 | G13: =F13+0.1*($B14-$B13) -> 1e-05 | H13: =G13+0.1*($B14-$B13) -> 1e-05 | I13: =H13+0.1*($B14-$B13) -> 1e-05 | J13: =I13+0.1*($B14-$B13) -> 1e-05 | ... L13: =K13+0.1*($B14-$B13) -> 1e-05 | O13: 390 | P13: =MATCH(O13,$A$3:$A$182,0)+2 -> 22 | Q13: =MOD(O13,10)+2 -> 2 | R13: {=INDIRECT(ADDRESS(P13,Q13))} -> 1e-05
A14: 310 | B14: 1e-05 | C14: =B14+0.1*($B15-$B14) -> 1e-05 | D14: =C14+0.1*($B15-$B14) -> 1e-05 | E14: =D14+0.1*($B15-$B14) -> 1e-05 | F14: =E14+0.1*($B15-$B14) -> 1e-05 | G14: =F14+0.1*($B15-$B14) -> 1e-05 | H14: =G14+0.1*($B15-$B14) -> 1e-05 | I14: =H14+0.1*($B15-$B14) -> 1e-05 | J14: =I14+0.1*($B15-$B14) -> 1e-05 | ... L14: =K14+0.1*($B15-$B14) -> 1e-05 | O14: 391 | P14: =P13 -> 22 | Q14: =MOD(O14,10)+2 -> 3 | R14: {=INDIRECT(ADDRESS(P14,Q14))} -> 1e-05
A15: 320 | B15: 1e-05 | C15: =B15+0.1*($B16-$B15) -> 1e-05 | D15: =C15+0.1*($B16-$B15) -> 1e-05 | E15: =D15+0.1*($B16-$B15) -> 1e-05 | F15: =E15+0.1*($B16-$B15) -> 1e-05 | G15: =F15+0.1*($B16-$B15) -> 1e-05 | H15: =G15+0.1*($B16-$B15) -> 1e-05 | I15: =H15+0.1*($B16-$B15) -> 1e-05 | J15: =I15+0.1*($B16-$B15) -> 1e-05 | ... L15: =K15+0.1*($B16-$B15) -> 1e-05 | O15: 392 | P15: =P14 -> 22 | Q15: =MOD(O15,10)+2 -> 4 | R15: {=INDIRECT(ADDRESS(P15,Q15))} -> 1e-05
A16: 330 | B16: 1e-05 | C16: =B16+0.1*($B17-$B16) -> 1e-05 | D16: =C16+0.1*($B17-$B16) -> 1e-05 | E16: =D16+0.1*($B17-$B16) -> 1e-05 | F16: =E16+0.1*($B17-$B16) -> 1e-05 | G16: =F16+0.1*($B17-$B16) -> 1e-05 | H16: =G16+0.1*($B17-$B16) -> 1e-05 | I16: =H16+0.1*($B17-$B16) -> 1e-05 | J16: =I16+0.1*($B17-$B16) -> 1e-05 | ... L16: =K16+0.1*($B17-$B16) -> 1e-05 | O16: 393 | P16: =P15 -> 22 | Q16: =MOD(O16,10)+2 -> 5 | R16: {=INDIRECT(ADDRESS(P16,Q16))} -> 1e-05
A17: 340 | B17: 1e-05 | C17: =B17+0.1*($B18-$B17) -> 1e-05 | D17: =C17+0.1*($B18-$B17) -> 1e-05 | E17: =D17+0.1*($B18-$B17) -> 1e-05 | F17: =E17+0.1*($B18-$B17) -> 1e-05 | G17: =F17+0.1*($B18-$B17) -> 1e-05 | H17: =G17+0.1*($B18-$B17) -> 1e-05 | I17: =H17+0.1*($B18-$B17) -> 1e-05 | J17: =I17+0.1*($B18-$B17) -> 1e-05 | ... L17: =K17+0.1*($B18-$B17) -> 1e-05 | O17: 394 | P17: =P16 -> 22 | Q17: =MOD(O17,10)+2 -> 6 | R17: {=INDIRECT(ADDRESS(P17,Q17))} -> 1e-05
A18: 350 | B18: 1e-05 | C18: =B18+0.1*($B19-$B18) -> 1e-05 | D18: =C18+0.1*($B19-$B18) -> 1e-05 | E18: =D18+0.1*($B19-$B18) -> 1e-05 | F18: =E18+0.1*($B19-$B18) -> 1e-05 | G18: =F18+0.1*($B19-$B18) -> 1e-05 | H18: =G18+0.1*($B19-$B18) -> 1e-05 | I18: =H18+0.1*($B19-$B18) -> 1e-05 | J18: =I18+0.1*($B19-$B18) -> 1e-05 | ... L18: =K18+0.1*($B19-$B18) -> 1e-05 | O18: 395 | P18: =P17 -> 22 | Q18: =MOD(O18,10)+2 -> 7 | R18: {=INDIRECT(ADDRESS(P18,Q18))} -> 1e-05
A19: 360 | B19: 1e-05 | C19: =B19+0.1*($B20-$B19) -> 1e-05 | D19: =C19+0.1*($B20-$B19) -> 1e-05 | E19: =D19+0.1*($B20-$B19) -> 1e-05 | F19: =E19+0.1*($B20-$B19) -> 1e-05 | G19: =F19+0.1*($B20-$B19) -> 1e-05 | H19: =G19+0.1*($B20-$B19) -> 1e-05 | I19: =H19+0.1*($B20-$B19) -> 1e-05 | J19: =I19+0.1*($B20-$B19) -> 1e-05 | ... L19: =K19+0.1*($B20-$B19) -> 1e-05 | O19: 396 | P19: =P18 -> 22 | Q19: =MOD(O19,10)+2 -> 8 | R19: {=INDIRECT(ADDRESS(P19,Q19))} -> 1e-05
A20: 370 | B20: 1e-05 | C20: =B20+0.1*($B21-$B20) -> 1e-05 | D20: =C20+0.1*($B21-$B20) -> 1e-05 | E20: =D20+0.1*($B21-$B20) -> 1e-05 | F20: =E20+0.1*($B21-$B20) -> 1e-05 | G20: =F20+0.1*($B21-$B20) -> 1e-05 | H20: =G20+0.1*($B21-$B20) -> 1e-05 | I20: =H20+0.1*($B21-$B20) -> 1e-05 | J20: =I20+0.1*($B21-$B20) -> 1e-05 | ... L20: =K20+0.1*($B21-$B20) -> 1e-05 | O20: 397 | P20: =P19 -> 22 | Q20: =MOD(O20,10)+2 -> 9 | R20: {=INDIRECT(ADDRESS(P20,Q20))} -> 1e-05
A21: 380 | B21: 1e-05 | C21: =B21+0.1*($B22-$B21) -> 1e-05 | D21: =C21+0.1*($B22-$B21) -> 1e-05 | E21: =D21+0.1*($B22-$B21) -> 1e-05 | F21: =E21+0.1*($B22-$B21) -> 1e-05 | G21: =F21+0.1*($B22-$B21) -> 1e-05 | H21: =G21+0.1*($B22-$B21) -> 1e-05 | I21: =H21+0.1*($B22-$B21) -> 1e-05 | J21: =I21+0.1*($B22-$B21) -> 1e-05 | ... L21: =K21+0.1*($B22-$B21) -> 1e-05 | O21: 398 | P21: =P20 -> 22 | Q21: =MOD(O21,10)+2 -> 10 | R21: {=INDIRECT(ADDRESS(P21,Q21))} -> 1e-05
A22: 390 | B22: 1e-05 | C22: =B22+0.1*($B23-$B22) -> 1e-05 | D22: =C22+0.1*($B23-$B22) -> 1e-05 | E22: =D22+0.1*($B23-$B22) -> 1e-05 | F22: =E22+0.1*($B23-$B22) -> 1e-05 | G22: =F22+0.1*($B23-$B22) -> 1e-05 | H22: =G22+0.1*($B23-$B22) -> 1e-05 | I22: =H22+0.1*($B23-$B22) -> 1e-05 | J22: =I22+0.1*($B23-$B22) -> 1e-05 | ... L22: =K22+0.1*($B23-$B22) -> 1e-05 | O22: 399 | P22: =P21 -> 22 | Q22: =MOD(O22,10)+2 -> 11 | R22: {=INDIRECT(ADDRESS(P22,Q22))} -> 1e-05
A23: 400 | B23: 1e-05 | C23: =B23+0.1*($B24-$B23) -> 1e-05 | D23: =C23+0.1*($B24-$B23) -> 1e-05 | E23: =D23+0.1*($B24-$B23) -> 1e-05 | F23: =E23+0.1*($B24-$B23) -> 1e-05 | G23: =F23+0.1*($B24-$B23) -> 1e-05 | H23: =G23+0.1*($B24-$B23) -> 1e-05 | I23: =H23+0.1*($B24-$B23) -> 1e-05 | J23: =I23+0.1*($B24-$B23) -> 1e-05 | ... L23: =K23+0.1*($B24-$B23) -> 1e-05 | O23: 400 | P23: =MATCH(O23,$A$3:$A$182,0)+2 -> 23 | Q23: =MOD(O23,10)+2 -> 2 | R23: {=INDIRECT(ADDRESS(P23,Q23))} -> 1e-05
A24: 410 | B24: 1e-05 | C24: =B24+0.1*($B25-$B24) -> 1e-05 | D24: =C24+0.1*($B25-$B24) -> 1e-05 | E24: =D24+0.1*($B25-$B24) -> 1e-05 | F24: =E24+0.1*($B25-$B24) -> 1e-05 | G24: =F24+0.1*($B25-$B24) -> 1e-05 | H24: =G24+0.1*($B25-$B24) -> 1e-05 | I24: =H24+0.1*($B25-$B24) -> 1e-05 | J24: =I24+0.1*($B25-$B24) -> 1e-05 | ... L24: =K24+0.1*($B25-$B24) -> 1e-05 | O24: 401 | P24: =P23 -> 23 | Q24: =MOD(O24,10)+2 -> 3 | R24: {=INDIRECT(ADDRESS(P24,Q24))} -> 1e-05
A25: 420 | B25: 1e-05 | C25: =B25+0.1*($B26-$B25) -> 1e-05 | D25: =C25+0.1*($B26-$B25) -> 1e-05 | E25: =D25+0.1*($B26-$B25) -> 1e-05 | F25: =E25+0.1*($B26-$B25) -> 1e-05 | G25: =F25+0.1*($B26-$B25) -> 1e-05 | H25: =G25+0.1*($B26-$B25) -> 1e-05 | I25: =H25+0.1*($B26-$B25) -> 1e-05 | J25: =I25+0.1*($B26-$B25) -> 1e-05 | ... L25: =K25+0.1*($B26-$B25) -> 1e-05 | O25: 402 | P25: =P24 -> 23 | Q25: =MOD(O25,10)+2 -> 4 | R25: {=INDIRECT(ADDRESS(P25,Q25))} -> 1e-05
A26: 430 | B26: 1e-05 | C26: =B26+0.1*($B27-$B26) -> 1e-05 | D26: =C26+0.1*($B27-$B26) -> 1e-05 | E26: =D26+0.1*($B27-$B26) -> 1e-05 | F26: =E26+0.1*($B27-$B26) -> 1e-05 | G26: =F26+0.1*($B27-$B26) -> 1e-05 | H26: =G26+0.1*($B27-$B26) -> 1e-05 | I26: =H26+0.1*($B27-$B26) -> 1e-05 | J26: =I26+0.1*($B27-$B26) -> 1e-05 | ... L26: =K26+0.1*($B27-$B26) -> 1e-05 | O26: 403 | P26: =P25 -> 23 | Q26: =MOD(O26,10)+2 -> 5 | R26: {=INDIRECT(ADDRESS(P26,Q26))} -> 1e-05
A27: 440 | B27: 1e-05 | C27: =B27+0.1*($B28-$B27) -> 1e-05 | D27: =C27+0.1*($B28-$B27) -> 1e-05 | E27: =D27+0.1*($B28-$B27) -> 1e-05 | F27: =E27+0.1*($B28-$B27) -> 1e-05 | G27: =F27+0.1*($B28-$B27) -> 1e-05 | H27: =G27+0.1*($B28-$B27) -> 1e-05 | I27: =H27+0.1*($B28-$B27) -> 1e-05 | J27: =I27+0.1*($B28-$B27) -> 1e-05 | ... L27: =K27+0.1*($B28-$B27) -> 1e-05 | O27: 404 | P27: =P26 -> 23 | Q27: =MOD(O27,10)+2 -> 6 | R27: {=INDIRECT(ADDRESS(P27,Q27))} -> 1e-05
A28: 450 | B28: 1e-05 | C28: =B28+0.1*($B29-$B28) -> 1e-05 | D28: =C28+0.1*($B29-$B28) -> 1e-05 | E28: =D28+0.1*($B29-$B28) -> 1e-05 | F28: =E28+0.1*($B29-$B28) -> 1e-05 | G28: =F28+0.1*($B29-$B28) -> 1e-05 | H28: =G28+0.1*($B29-$B28) -> 1e-05 | I28: =H28+0.1*($B29-$B28) -> 1e-05 | J28: =I28+0.1*($B29-$B28) -> 1e-05 | ... L28: =K28+0.1*($B29-$B28) -> 1e-05 | O28: 405 | P28: =P27 -> 23 | Q28: =MOD(O28,10)+2 -> 7 | R28: {=INDIRECT(ADDRESS(P28,Q28))} -> 1e-05
A29: 460 | B29: 1e-05 | C29: =B29+0.1*($B30-$B29) -> 1e-05 | D29: =C29+0.1*($B30-$B29) -> 1e-05 | E29: =D29+0.1*($B30-$B29) -> 1e-05 | F29: =E29+0.1*($B30-$B29) -> 1e-05 | G29: =F29+0.1*($B30-$B29) -> 1e-05 | H29: =G29+0.1*($B30-$B29) -> 1e-05 | I29: =H29+0.1*($B30-$B29) -> 1e-05 | J29: =I29+0.1*($B30-$B29) -> 1e-05 | ... L29: =K29+0.1*($B30-$B29) -> 1e-05 | O29: 405 | P29: =P28 -> 23 | Q29: =MOD(O29,10)+2 -> 7 | R29: {=INDIRECT(ADDRESS(P29,Q29))} -> 1e-05
A30: 470 | B30: 1e-05 | C30: =B30+0.1*($B31-$B30) -> 1e-05 | D30: =C30+0.1*($B31-$B30) -> 1e-05 | E30: =D30+0.1*($B31-$B30) -> 1e-05 | F30: =E30+0.1*($B31-$B30) -> 1e-05 | G30: =F30+0.1*($B31-$B30) -> 1e-05 | H30: =G30+0.1*($B31-$B30) -> 1e-05 | I30: =H30+0.1*($B31-$B30) -> 1e-05 | J30: =I30+0.1*($B31-$B30) -> 1e-05 | ... L30: =K30+0.1*($B31-$B30) -> 1e-05 | O30: 407 | P30: =P29 -> 23 | Q30: =MOD(O30,10)+2 -> 9 | R30: {=INDIRECT(ADDRESS(P30,Q30))} -> 1e-05
A31: 480 | B31: 1e-05 | C31: =B31+0.1*($B32-$B31) -> 1e-05 | D31: =C31+0.1*($B32-$B31) -> 1e-05 | E31: =D31+0.1*($B32-$B31) -> 1e-05 | F31: =E31+0.1*($B32-$B31) -> 1e-05 | G31: =F31+0.1*($B32-$B31) -> 1e-05 | H31: =G31+0.1*($B32-$B31) -> 1e-05 | I31: =H31+0.1*($B32-$B31) -> 1e-05 | J31: =I31+0.1*($B32-$B31) -> 1e-05 | ... L31: =K31+0.1*($B32-$B31) -> 1e-05 | O31: 408 | P31: =P30 -> 23 | Q31: =MOD(O31,10)+2 -> 10 | R31: {=INDIRECT(ADDRESS(P31,Q31))} -> 1e-05
A32: 490 | B32: 1e-05 | C32: =B32+0.1*($B33-$B32) -> 1e-05 | D32: =C32+0.1*($B33-$B32) -> 1e-05 | E32: =D32+0.1*($B33-$B32) -> 1e-05 | F32: =E32+0.1*($B33-$B32) -> 1e-05 | G32: =F32+0.1*($B33-$B32) -> 1e-05 | H32: =G32+0.1*($B33-$B32) -> 1e-05 | I32: =H32+0.1*($B33-$B32) -> 1e-05 | J32: =I32+0.1*($B33-$B32) -> 1e-05 | ... L32: =K32+0.1*($B33-$B32) -> 1e-05 | O32: 409 | P32: =P31 -> 23 | Q32: =MOD(O32,10)+2 -> 11 | R32: {=INDIRECT(ADDRESS(P32,Q32))} -> 1e-05
A33: 500 | B33: 1e-05 | C33: =B33+0.1*($B34-$B33) -> 0.0005279 | D33: =C33+0.1*($B34-$B33) -> 0.0010458 | E33: =D33+0.1*($B34-$B33) -> 0.0015637 | F33: =E33+0.1*($B34-$B33) -> 0.0020816 | G33: =F33+0.1*($B34-$B33) -> 0.0025995 | H33: =G33+0.1*($B34-$B33) -> 0.0031174 | I33: =H33+0.1*($B34-$B33) -> 0.0036353 | J33: =I33+0.1*($B34-$B33) -> 0.0041532 | ... L33: =K33+0.1*($B34-$B33) -> 0.005189 | O33: 410 | P33: =MATCH(O33,$A$3:$A$182,0)+2 -> 24 | Q33: =MOD(O33,10)+2 -> 2 | R33: {=INDIRECT(ADDRESS(P33,Q33))} -> 1e-05
A34: 510 | B34: 0.005189 | C34: =B34+0.1*($B35-$B34) -> 0.0183101 | D34: =C34+0.1*($B35-$B34) -> 0.0314312 | E34: =D34+0.1*($B35-$B34) -> 0.0445523 | F34: =E34+0.1*($B35-$B34) -> 0.0576734 | G34: =F34+0.1*($B35-$B34) -> 0.0707945 | H34: =G34+0.1*($B35-$B34) -> 0.0839156 | I34: =H34+0.1*($B35-$B34) -> 0.0970367 | J34: =I34+0.1*($B35-$B34) -> 0.1101578 | ... L34: =K34+0.1*($B35-$B34) -> 0.1364 | O34: 411 | P34: =P33 -> 24 | Q34: =MOD(O34,10)+2 -> 3 | R34: {=INDIRECT(ADDRESS(P34,Q34))} -> 1e-05
A35: 520 | B35: 0.1364 | C35: =B35+0.1*($B36-$B35) -> 0.17416 | D35: =C35+0.1*($B36-$B35) -> 0.21192 | E35: =D35+0.1*($B36-$B35) -> 0.24968 | F35: =E35+0.1*($B36-$B35) -> 0.28744 | G35: =F35+0.1*($B36-$B35) -> 0.3252 | H35: =G35+0.1*($B36-$B35) -> 0.36296 | I35: =H35+0.1*($B36-$B35) -> 0.40072 | J35: =I35+0.1*($B36-$B35) -> 0.43848 | ... L35: =K35+0.1*($B36-$B35) -> 0.514 | O35: 412 | P35: =P34 -> 24 | Q35: =MOD(O35,10)+2 -> 4 | R35: {=INDIRECT(ADDRESS(P35,Q35))} -> 1e-05
A36: 530 | B36: 0.514 | C36: =B36+0.1*($B37-$B36) -> 0.54278 | D36: =C36+0.1*($B37-$B36) -> 0.57156 | E36: =D36+0.1*($B37-$B36) -> 0.60034 | F36: =E36+0.1*($B37-$B36) -> 0.62912 | G36: =F36+0.1*($B37-$B36) -> 0.6579 | H36: =G36+0.1*($B37-$B36) -> 0.68668 | I36: =H36+0.1*($B37-$B36) -> 0.71546 | J36: =I36+0.1*($B37-$B36) -> 0.74424 | ... L36: =K36+0.1*($B37-$B36) -> 0.8018 | O36: 413 | P36: =P35 -> 24 | Q36: =MOD(O36,10)+2 -> 5 | R36: {=INDIRECT(ADDRESS(P36,Q36))} -> 1e-05
A37: 540 | B37: 0.8018 | C37: =B37+0.1*($B38-$B37) -> 0.81353 | D37: =C37+0.1*($B38-$B37) -> 0.82526 | E37: =D37+0.1*($B38-$B37) -> 0.83699 | F37: =E37+0.1*($B38-$B37) -> 0.84872 | G37: =F37+0.1*($B38-$B37) -> 0.86045 | H37: =G37+0.1*($B38-$B37) -> 0.87218 | I37: =H37+0.1*($B38-$B37) -> 0.88391 | J37: =I37+0.1*($B38-$B37) -> 0.89564 | ... L37: =K37+0.1*($B38-$B37) -> 0.9191 | O37: 414 | P37: =P36 -> 24 | Q37: =MOD(O37,10)+2 -> 6 | R37: {=INDIRECT(ADDRESS(P37,Q37))} -> 1e-05
A38: 550 | B38: 0.9191 | C38: =B38+0.1*($B39-$B38) -> 0.92327 | D38: =C38+0.1*($B39-$B38) -> 0.92744 | E38: =D38+0.1*($B39-$B38) -> 0.93161 | F38: =E38+0.1*($B39-$B38) -> 0.93578 | G38: =F38+0.1*($B39-$B38) -> 0.93995 | H38: =G38+0.1*($B39-$B38) -> 0.94412 | I38: =H38+0.1*($B39-$B38) -> 0.94829 | J38: =I38+0.1*($B39-$B38) -> 0.95246 | ... L38: =K38+0.1*($B39-$B38) -> 0.9608 | O38: 415 | P38: =P37 -> 24 | Q38: =MOD(O38,10)+2 -> 7 | R38: {=INDIRECT(ADDRESS(P38,Q38))} -> 1e-05
A39: 560 | B39: 0.9608 | C39: =B39+0.1*($B40-$B39) -> 0.96232 | D39: =C39+0.1*($B40-$B39) -> 0.96384 | E39: =D39+0.1*($B40-$B39) -> 0.96536 | F39: =E39+0.1*($B40-$B39) -> 0.96688 | G39: =F39+0.1*($B40-$B39) -> 0.9684 | H39: =G39+0.1*($B40-$B39) -> 0.96992 | I39: =H39+0.1*($B40-$B39) -> 0.97144 | J39: =I39+0.1*($B40-$B39) -> 0.97296 | ... L39: =K39+0.1*($B40-$B39) -> 0.976 | O39: 416 | P39: =P38 -> 24 | Q39: =MOD(O39,10)+2 -> 8 | R39: {=INDIRECT(ADDRESS(P39,Q39))} -> 1e-05
A40: 570 | B40: 0.976 | C40: =B40+0.1*($B41-$B40) -> 0.97659 | D40: =C40+0.1*($B41-$B40) -> 0.97718 | E40: =D40+0.1*($B41-$B40) -> 0.97777 | F40: =E40+0.1*($B41-$B40) -> 0.97836 | G40: =F40+0.1*($B41-$B40) -> 0.97895 | H40: =G40+0.1*($B41-$B40) -> 0.97954 | I40: =H40+0.1*($B41-$B40) -> 0.98013 | J40: =I40+0.1*($B41-$B40) -> 0.98072 | ... L40: =K40+0.1*($B41-$B40) -> 0.9819 | O40: 417 | P40: =P39 -> 24 | Q40: =MOD(O40,10)+2 -> 9 | R40: {=INDIRECT(ADDRESS(P40,Q40))} -> 1e-05
A41: 580 | B41: 0.9819 | C41: =B41+0.1*($B42-$B41) -> 0.98217 | D41: =C41+0.1*($B42-$B41) -> 0.98244 | E41: =D41+0.1*($B42-$B41) -> 0.98271 | F41: =E41+0.1*($B42-$B41) -> 0.98298 | G41: =F41+0.1*($B42-$B41) -> 0.98325 | H41: =G41+0.1*($B42-$B41) -> 0.98352 | I41: =H41+0.1*($B42-$B41) -> 0.98379 | J41: =I41+0.1*($B42-$B41) -> 0.98406 | ... L41: =K41+0.1*($B42-$B41) -> 0.9846 | O41: 418 | P41: =P40 -> 24 | Q41: =MOD(O41,10)+2 -> 10 | R41: {=INDIRECT(ADDRESS(P41,Q41))} -> 1e-05
A42: 590 | B42: 0.9846 | C42: =B42+0.1*($B43-$B42) -> 0.9847 | D42: =C42+0.1*($B43-$B42) -> 0.9848 | E42: =D42+0.1*($B43-$B42) -> 0.9849 | F42: =E42+0.1*($B43-$B42) -> 0.985 | G42: =F42+0.1*($B43-$B42) -> 0.9851 | H42: =G42+0.1*($B43-$B42) -> 0.9852 | I42: =H42+0.1*($B43-$B42) -> 0.9853 | J42: =I42+0.1*($B43-$B42) -> 0.9854 | ... L42: =K42+0.1*($B43-$B42) -> 0.9856 | O42: 419 | P42: =P41 -> 24 | Q42: =MOD(O42,10)+2 -> 11 | R42: {=INDIRECT(ADDRESS(P42,Q42))} -> 1e-05
A43: 600 | B43: 0.9856 | C43: =B43+0.1*($B44-$B43) -> 0.98565 | D43: =C43+0.1*($B44-$B43) -> 0.9857 | E43: =D43+0.1*($B44-$B43) -> 0.98575 | F43: =E43+0.1*($B44-$B43) -> 0.9858 | G43: =F43+0.1*($B44-$B43) -> 0.98585 | H43: =G43+0.1*($B44-$B43) -> 0.9859 | I43: =H43+0.1*($B44-$B43) -> 0.98595 | J43: =I43+0.1*($B44-$B43) -> 0.986 | ... L43: =K43+0.1*($B44-$B43) -> 0.9861 | O43: 420 | P43: =MATCH(O43,$A$3:$A$182,0)+2 -> 25 | Q43: =MOD(O43,10)+2 -> 2 | R43: {=INDIRECT(ADDRESS(P43,Q43))} -> 1e-05
A44: 610 | B44: 0.9861 | C44: =B44+0.1*($B45-$B44) -> 0.98609 | D44: =C44+0.1*($B45-$B44) -> 0.98608 | E44: =D44+0.1*($B45-$B44) -> 0.98607 | F44: =E44+0.1*($B45-$B44) -> 0.98606 | G44: =F44+0.1*($B45-$B44) -> 0.98605 | H44: =G44+0.1*($B45-$B44) -> 0.98604 | I44: =H44+0.1*($B45-$B44) -> 0.98603 | J44: =I44+0.1*($B45-$B44) -> 0.98602 | ... L44: =K44+0.1*($B45-$B44) -> 0.986 | O44: 421 | P44: =P43 -> 25 | Q44: =MOD(O44,10)+2 -> 3 | R44: {=INDIRECT(ADDRESS(P44,Q44))} -> 1e-05
A45: 620 | B45: 0.986 | C45: =B45+0.1*($B46-$B45) -> 0.98596 | D45: =C45+0.1*($B46-$B45) -> 0.98592 | E45: =D45+0.1*($B46-$B45) -> 0.98588 | F45: =E45+0.1*($B46-$B45) -> 0.98584 | G45: =F45+0.1*($B46-$B45) -> 0.9858 | H45: =G45+0.1*($B46-$B45) -> 0.98576 | I45: =H45+0.1*($B46-$B45) -> 0.98572 | J45: =I45+0.1*($B46-$B45) -> 0.98568 | ... L45: =K45+0.1*($B46-$B45) -> 0.9856 | O45: 422 | P45: =P44 -> 25 | Q45: =MOD(O45,10)+2 -> 4 | R45: {=INDIRECT(ADDRESS(P45,Q45))} -> 1e-05
A46: 630 | B46: 0.9856 | C46: =B46+0.1*($B47-$B46) -> 0.98556 | D46: =C46+0.1*($B47-$B46) -> 0.98552 | E46: =D46+0.1*($B47-$B46) -> 0.98548 | F46: =E46+0.1*($B47-$B46) -> 0.98544 | G46: =F46+0.1*($B47-$B46) -> 0.9854 | H46: =G46+0.1*($B47-$B46) -> 0.98536 | I46: =H46+0.1*($B47-$B46) -> 0.98532 | J46: =I46+0.1*($B47-$B46) -> 0.98528 | ... L46: =K46+0.1*($B47-$B46) -> 0.9852 | O46: 423 | P46: =P45 -> 25 | Q46: =MOD(O46,10)+2 -> 5 | R46: {=INDIRECT(ADDRESS(P46,Q46))} -> 1e-05
A47: 640 | B47: 0.9852 | C47: =B47+0.1*($B48-$B47) -> 0.98513 | D47: =C47+0.1*($B48-$B47) -> 0.98506 | E47: =D47+0.1*($B48-$B47) -> 0.98499 | F47: =E47+0.1*($B48-$B47) -> 0.98492 | G47: =F47+0.1*($B48-$B47) -> 0.98485 | H47: =G47+0.1*($B48-$B47) -> 0.98478 | I47: =H47+0.1*($B48-$B47) -> 0.98471 | J47: =I47+0.1*($B48-$B47) -> 0.98464 | ... L47: =K47+0.1*($B48-$B47) -> 0.9845 | O47: 424 | P47: =P46 -> 25 | Q47: =MOD(O47,10)+2 -> 6 | R47: {=INDIRECT(ADDRESS(P47,Q47))} -> 1e-05
A48: 650 | B48: 0.9845 | C48: =B48+0.1*($B49-$B48) -> 0.98442 | D48: =C48+0.1*($B49-$B48) -> 0.98434 | E48: =D48+0.1*($B49-$B48) -> 0.98426 | F48: =E48+0.1*($B49-$B48) -> 0.98418 | G48: =F48+0.1*($B49-$B48) -> 0.9841 | H48: =G48+0.1*($B49-$B48) -> 0.98402 | I48: =H48+0.1*($B49-$B48) -> 0.98394 | J48: =I48+0.1*($B49-$B48) -> 0.98386 | ... L48: =K48+0.1*($B49-$B48) -> 0.9837 | O48: 425 | P48: =P47 -> 25 | Q48: =MOD(O48,10)+2 -> 7 | R48: {=INDIRECT(ADDRESS(P48,Q48))} -> 1e-05
A49: 660 | B49: 0.9837 | C49: =B49+0.1*($B50-$B49) -> 0.98361 | D49: =C49+0.1*($B50-$B49) -> 0.98352 | E49: =D49+0.1*($B50-$B49) -> 0.98343 | F49: =E49+0.1*($B50-$B49) -> 0.98334 | G49: =F49+0.1*($B50-$B49) -> 0.98325 | H49: =G49+0.1*($B50-$B49) -> 0.98316 | I49: =H49+0.1*($B50-$B49) -> 0.98307 | J49: =I49+0.1*($B50-$B49) -> 0.98298 | ... L49: =K49+0.1*($B50-$B49) -> 0.9828 | O49: 426 | P49: =P48 -> 25 | Q49: =MOD(O49,10)+2 -> 8 | R49: {=INDIRECT(ADDRESS(P49,Q49))} -> 1e-05
A50: 670 | B50: 0.9828 | C50: =B50+0.1*($B51-$B50) -> 0.9827 | D50: =C50+0.1*($B51-$B50) -> 0.9826 | E50: =D50+0.1*($B51-$B50) -> 0.9825 | F50: =E50+0.1*($B51-$B50) -> 0.9824 | G50: =F50+0.1*($B51-$B50) -> 0.9823 | H50: =G50+0.1*($B51-$B50) -> 0.9822 | I50: =H50+0.1*($B51-$B50) -> 0.9821 | J50: =I50+0.1*($B51-$B50) -> 0.982 | ... L50: =K50+0.1*($B51-$B50) -> 0.9818 | O50: 427 | P50: =P49 -> 25 | Q50: =MOD(O50,10)+2 -> 9 | R50: {=INDIRECT(ADDRESS(P50,Q50))} -> 1e-05
A51: 680 | B51: 0.9818 | C51: =B51+0.1*($B52-$B51) -> 0.98169 | D51: =C51+0.1*($B52-$B51) -> 0.98158 | E51: =D51+0.1*($B52-$B51) -> 0.98147 | F51: =E51+0.1*($B52-$B51) -> 0.98136 | G51: =F51+0.1*($B52-$B51) -> 0.98125 | H51: =G51+0.1*($B52-$B51) -> 0.98114 | I51: =H51+0.1*($B52-$B51) -> 0.98103 | J51: =I51+0.1*($B52-$B51) -> 0.98092 | ... L51: =K51+0.1*($B52-$B51) -> 0.9807 | O51: 428 | P51: =P50 -> 25 | Q51: =MOD(O51,10)+2 -> 10 | R51: {=INDIRECT(ADDRESS(P51,Q51))} -> 1e-05
A52: 690 | B52: 0.9807 | C52: =B52+0.1*($B53-$B52) -> 0.98059 | D52: =C52+0.1*($B53-$B52) -> 0.98048 | E52: =D52+0.1*($B53-$B52) -> 0.98037 | F52: =E52+0.1*($B53-$B52) -> 0.98026 | G52: =F52+0.1*($B53-$B52) -> 0.98015 | H52: =G52+0.1*($B53-$B52) -> 0.98004 | I52: =H52+0.1*($B53-$B52) -> 0.97993 | J52: =I52+0.1*($B53-$B52) -> 0.97982 | ... L52: =K52+0.1*($B53-$B52) -> 0.9796 | O52: 429 | P52: =P51 -> 25 | Q52: =MOD(O52,10)+2 -> 11 | R52: {=INDIRECT(ADDRESS(P52,Q52))} -> 1e-05
A53: 700 | B53: 0.9796 | C53: =B53+0.1*($B54-$B53) -> 0.97948 | D53: =C53+0.1*($B54-$B53) -> 0.97936 | E53: =D53+0.1*($B54-$B53) -> 0.97924 | F53: =E53+0.1*($B54-$B53) -> 0.97912 | G53: =F53+0.1*($B54-$B53) -> 0.979 | H53: =G53+0.1*($B54-$B53) -> 0.97888 | I53: =H53+0.1*($B54-$B53) -> 0.97876 | J53: =I53+0.1*($B54-$B53) -> 0.97864 | ... L53: =K53+0.1*($B54-$B53) -> 0.9784 | O53: 430 | P53: =MATCH(O53,$A$3:$A$182,0)+2 -> 26 | Q53: =MOD(O53,10)+2 -> 2 | R53: {=INDIRECT(ADDRESS(P53,Q53))} -> 1e-05
A54: 710 | B54: 0.9784 | C54: =B54+0.1*($B55-$B54) -> 0.97827 | D54: =C54+0.1*($B55-$B54) -> 0.97814 | E54: =D54+0.1*($B55-$B54) -> 0.97801 | F54: =E54+0.1*($B55-$B54) -> 0.97788 | G54: =F54+0.1*($B55-$B54) -> 0.97775 | H54: =G54+0.1*($B55-$B54) -> 0.97762 | I54: =H54+0.1*($B55-$B54) -> 0.97749 | J54: =I54+0.1*($B55-$B54) -> 0.97736 | ... L54: =K54+0.1*($B55-$B54) -> 0.9771 | O54: 431 | P54: =P53 -> 26 | Q54: =MOD(O54,10)+2 -> 3 | R54: {=INDIRECT(ADDRESS(P54,Q54))} -> 1e-05
A55: 720 | B55: 0.9771 | C55: =B55+0.1*($B56-$B55) -> 0.97697 | D55: =C55+0.1*($B56-$B55) -> 0.97684 | E55: =D55+0.1*($B56-$B55) -> 0.97671 | F55: =E55+0.1*($B56-$B55) -> 0.97658 | G55: =F55+0.1*($B56-$B55) -> 0.97645 | H55: =G55+0.1*($B56-$B55) -> 0.97632 | I55: =H55+0.1*($B56-$B55) -> 0.97619 | J55: =I55+0.1*($B56-$B55) -> 0.97606 | ... L55: =K55+0.1*($B56-$B55) -> 0.9758 | O55: 432 | P55: =P54 -> 26 | Q55: =MOD(O55,10)+2 -> 4 | R55: {=INDIRECT(ADDRESS(P55,Q55))} -> 1e-05
A56: 730 | B56: 0.9758 | C56: =B56+0.1*($B57-$B56) -> 0.97565 | D56: =C56+0.1*($B57-$B56) -> 0.9755 | E56: =D56+0.1*($B57-$B56) -> 0.97535 | F56: =E56+0.1*($B57-$B56) -> 0.9752 | G56: =F56+0.1*($B57-$B56) -> 0.97505 | H56: =G56+0.1*($B57-$B56) -> 0.9749 | I56: =H56+0.1*($B57-$B56) -> 0.97475 | J56: =I56+0.1*($B57-$B56) -> 0.9746 | ... L56: =K56+0.1*($B57-$B56) -> 0.9743 | O56: 433 | P56: =P55 -> 26 | Q56: =MOD(O56,10)+2 -> 5 | R56: {=INDIRECT(ADDRESS(P56,Q56))} -> 1e-05
A57: 740 | B57: 0.9743 | C57: =B57+0.1*($B58-$B57) -> 0.97415 | D57: =C57+0.1*($B58-$B57) -> 0.974 | E57: =D57+0.1*($B58-$B57) -> 0.97385 | F57: =E57+0.1*($B58-$B57) -> 0.9737 | G57: =F57+0.1*($B58-$B57) -> 0.97355 | H57: =G57+0.1*($B58-$B57) -> 0.9734 | I57: =H57+0.1*($B58-$B57) -> 0.97325 | J57: =I57+0.1*($B58-$B57) -> 0.9731 | ... L57: =K57+0.1*($B58-$B57) -> 0.9728 | O57: 434 | P57: =P56 -> 26 | Q57: =MOD(O57,10)+2 -> 6 | R57: {=INDIRECT(ADDRESS(P57,Q57))} -> 1e-05
A58: 750 | B58: 0.9728 | C58: =B58+0.1*($B59-$B58) -> 0.97265 | D58: =C58+0.1*($B59-$B58) -> 0.9725 | E58: =D58+0.1*($B59-$B58) -> 0.97235 | F58: =E58+0.1*($B59-$B58) -> 0.9722 | G58: =F58+0.1*($B59-$B58) -> 0.97205 | H58: =G58+0.1*($B59-$B58) -> 0.9719 | I58: =H58+0.1*($B59-$B58) -> 0.97175 | J58: =I58+0.1*($B59-$B58) -> 0.9716 | ... L58: =K58+0.1*($B59-$B58) -> 0.9713 | O58: 435 | P58: =P57 -> 26 | Q58: =MOD(O58,10)+2 -> 7 | R58: {=INDIRECT(ADDRESS(P58,Q58))} -> 1e-05
A59: 760 | B59: 0.9713 | C59: =B59+0.1*($B60-$B59) -> 0.97114 | D59: =C59+0.1*($B60-$B59) -> 0.97098 | E59: =D59+0.1*($B60-$B59) -> 0.97082 | F59: =E59+0.1*($B60-$B59) -> 0.97066 | G59: =F59+0.1*($B60-$B59) -> 0.9705 | H59: =G59+0.1*($B60-$B59) -> 0.97034 | I59: =H59+0.1*($B60-$B59) -> 0.97018 | J59: =I59+0.1*($B60-$B59) -> 0.97002 | ... L59: =K59+0.1*($B60-$B59) -> 0.9697 | O59: 436 | P59: =P58 -> 26 | Q59: =MOD(O59,10)+2 -> 8 | R59: {=INDIRECT(ADDRESS(P59,Q59))} -> 1e-05
A60: 770 | B60: 0.9697 | C60: =B60+0.1*($B61-$B60) -> 0.96954 | D60: =C60+0.1*($B61-$B60) -> 0.96938 | E60: =D60+0.1*($B61-$B60) -> 0.96922 | F60: =E60+0.1*($B61-$B60) -> 0.96906 | G60: =F60+0.1*($B61-$B60) -> 0.9689 | H60: =G60+0.1*($B61-$B60) -> 0.96874 | I60: =H60+0.1*($B61-$B60) -> 0.96858 | J60: =I60+0.1*($B61-$B60) -> 0.96842 | ... L60: =K60+0.1*($B61-$B60) -> 0.9681 | O60: 437 | P60: =P59 -> 26 | Q60: =MOD(O60,10)+2 -> 9 | R60: {=INDIRECT(ADDRESS(P60,Q60))} -> 1e-05
A61: 780 | B61: 0.9681 | C61: =B61+0.1*($B62-$B61) -> 0.96794 | D61: =C61+0.1*($B62-$B61) -> 0.96778 | E61: =D61+0.1*($B62-$B61) -> 0.96762 | F61: =E61+0.1*($B62-$B61) -> 0.96746 | G61: =F61+0.1*($B62-$B61) -> 0.9673 | H61: =G61+0.1*($B62-$B61) -> 0.96714 | I61: =H61+0.1*($B62-$B61) -> 0.96698 | J61: =I61+0.1*($B62-$B61) -> 0.96682 | ... L61: =K61+0.1*($B62-$B61) -> 0.9665 | O61: 438 | P61: =P60 -> 26 | Q61: =MOD(O61,10)+2 -> 10 | R61: {=INDIRECT(ADDRESS(P61,Q61))} -> 1e-05
A62: 790 | B62: 0.9665 | C62: =B62+0.1*($B63-$B62) -> 0.96634 | D62: =C62+0.1*($B63-$B62) -> 0.96618 | E62: =D62+0.1*($B63-$B62) -> 0.96602 | F62: =E62+0.1*($B63-$B62) -> 0.96586 | G62: =F62+0.1*($B63-$B62) -> 0.9657 | H62: =G62+0.1*($B63-$B62) -> 0.96554 | I62: =H62+0.1*($B63-$B62) -> 0.96538 | J62: =I62+0.1*($B63-$B62) -> 0.96522 | ... L62: =K62+0.1*($B63-$B62) -> 0.9649 | O62: 439 | P62: =P61 -> 26 | Q62: =MOD(O62,10)+2 -> 11 | R62: {=INDIRECT(ADDRESS(P62,Q62))} -> 1e-05
A63: 800 | B63: 0.9649 | C63: =B63+0.1*($B64-$B63) -> 0.96474 | D63: =C63+0.1*($B64-$B63) -> 0.96458 | E63: =D63+0.1*($B64-$B63) -> 0.96442 | F63: =E63+0.1*($B64-$B63) -> 0.96426 | G63: =F63+0.1*($B64-$B63) -> 0.9641 | H63: =G63+0.1*($B64-$B63) -> 0.96394 | I63: =H63+0.1*($B64-$B63) -> 0.96378 | J63: =I63+0.1*($B64-$B63) -> 0.96362 | ... L63: =K63+0.1*($B64-$B63) -> 0.9633 | O63: 440 | P63: =MATCH(O63,$A$3:$A$182,0)+2 -> 27 | Q63: =MOD(O63,10)+2 -> 2 | R63: {=INDIRECT(ADDRESS(P63,Q63))} -> 1e-05
A64: 810 | B64: 0.9633 | C64: =B64+0.1*($B65-$B64) -> 0.96314 | D64: =C64+0.1*($B65-$B64) -> 0.96298 | E64: =D64+0.1*($B65-$B64) -> 0.96282 | F64: =E64+0.1*($B65-$B64) -> 0.96266 | G64: =F64+0.1*($B65-$B64) -> 0.9625 | H64: =G64+0.1*($B65-$B64) -> 0.96234 | I64: =H64+0.1*($B65-$B64) -> 0.96218 | J64: =I64+0.1*($B65-$B64) -> 0.96202 | ... L64: =K64+0.1*($B65-$B64) -> 0.9617 | O64: 441 | P64: =P63 -> 27 | Q64: =MOD(O64,10)+2 -> 3 | R64: {=INDIRECT(ADDRESS(P64,Q64))} -> 1e-05
A65: 820 | B65: 0.9617 | C65: =B65+0.1*($B66-$B65) -> 0.96156 | D65: =C65+0.1*($B66-$B65) -> 0.96142 | E65: =D65+0.1*($B66-$B65) -> 0.96128 | F65: =E65+0.1*($B66-$B65) -> 0.96114 | G65: =F65+0.1*($B66-$B65) -> 0.961 | H65: =G65+0.1*($B66-$B65) -> 0.96086 | I65: =H65+0.1*($B66-$B65) -> 0.96072 | J65: =I65+0.1*($B66-$B65) -> 0.96058 | ... L65: =K65+0.1*($B66-$B65) -> 0.9603 | O65: 442 | P65: =P64 -> 27 | Q65: =MOD(O65,10)+2 -> 4 | R65: {=INDIRECT(ADDRESS(P65,Q65))} -> 1e-05
A66: 830 | B66: 0.9603 | C66: =B66+0.1*($B67-$B66) -> 0.96018 | D66: =C66+0.1*($B67-$B66) -> 0.96006 | E66: =D66+0.1*($B67-$B66) -> 0.95994 | F66: =E66+0.1*($B67-$B66) -> 0.95982 | G66: =F66+0.1*($B67-$B66) -> 0.9597 | H66: =G66+0.1*($B67-$B66) -> 0.95958 | I66: =H66+0.1*($B67-$B66) -> 0.95946 | J66: =I66+0.1*($B67-$B66) -> 0.95934 | ... L66: =K66+0.1*($B67-$B66) -> 0.9591 | O66: 443 | P66: =P65 -> 27 | Q66: =MOD(O66,10)+2 -> 5 | R66: {=INDIRECT(ADDRESS(P66,Q66))} -> 1e-05
A67: 840 | B67: 0.9591 | C67: =B67+0.1*($B68-$B67) -> 0.95898 | D67: =C67+0.1*($B68-$B67) -> 0.95886 | E67: =D67+0.1*($B68-$B67) -> 0.95874 | F67: =E67+0.1*($B68-$B67) -> 0.95862 | G67: =F67+0.1*($B68-$B67) -> 0.9585 | H67: =G67+0.1*($B68-$B67) -> 0.95838 | I67: =H67+0.1*($B68-$B67) -> 0.95826 | J67: =I67+0.1*($B68-$B67) -> 0.95814 | ... L67: =K67+0.1*($B68-$B67) -> 0.9579 | O67: 444 | P67: =P66 -> 27 | Q67: =MOD(O67,10)+2 -> 6 | R67: {=INDIRECT(ADDRESS(P67,Q67))} -> 1e-05
A68: 850 | B68: 0.9579 | C68: =B68+0.1*($B69-$B68) -> 0.95781 | D68: =C68+0.1*($B69-$B68) -> 0.95772 | E68: =D68+0.1*($B69-$B68) -> 0.95763 | F68: =E68+0.1*($B69-$B68) -> 0.95754 | G68: =F68+0.1*($B69-$B68) -> 0.95745 | H68: =G68+0.1*($B69-$B68) -> 0.95736 | I68: =H68+0.1*($B69-$B68) -> 0.95727 | J68: =I68+0.1*($B69-$B68) -> 0.95718 | ... L68: =K68+0.1*($B69-$B68) -> 0.957 | O68: 445 | P68: =P67 -> 27 | Q68: =MOD(O68,10)+2 -> 7 | R68: {=INDIRECT(ADDRESS(P68,Q68))} -> 1e-05
A69: 860 | B69: 0.957 | C69: =B69+0.1*($B70-$B69) -> 0.95692 | D69: =C69+0.1*($B70-$B69) -> 0.95684 | E69: =D69+0.1*($B70-$B69) -> 0.95676 | F69: =E69+0.1*($B70-$B69) -> 0.95668 | G69: =F69+0.1*($B70-$B69) -> 0.9566 | H69: =G69+0.1*($B70-$B69) -> 0.95652 | I69: =H69+0.1*($B70-$B69) -> 0.95644 | J69: =I69+0.1*($B70-$B69) -> 0.95636 | ... L69: =K69+0.1*($B70-$B69) -> 0.9562 | O69: 446 | P69: =P68 -> 27 | Q69: =MOD(O69,10)+2 -> 8 | R69: {=INDIRECT(ADDRESS(P69,Q69))} -> 1e-05
A70: 870 | B70: 0.9562 | C70: =B70+0.1*($B71-$B70) -> 0.95613 | D70: =C70+0.1*($B71-$B70) -> 0.95606 | E70: =D70+0.1*($B71-$B70) -> 0.95599 | F70: =E70+0.1*($B71-$B70) -> 0.95592 | G70: =F70+0.1*($B71-$B70) -> 0.95585 | H70: =G70+0.1*($B71-$B70) -> 0.95578 | I70: =H70+0.1*($B71-$B70) -> 0.95571 | J70: =I70+0.1*($B71-$B70) -> 0.95564 | ... L70: =K70+0.1*($B71-$B70) -> 0.9555 | O70: 447 | P70: =P69 -> 27 | Q70: =MOD(O70,10)+2 -> 9 | R70: {=INDIRECT(ADDRESS(P70,Q70))} -> 1e-05
A71: 880 | B71: 0.9555 | C71: =B71+0.1*($B72-$B71) -> 0.95543 | D71: =C71+0.1*($B72-$B71) -> 0.95536 | E71: =D71+0.1*($B72-$B71) -> 0.95529 | F71: =E71+0.1*($B72-$B71) -> 0.95522 | G71: =F71+0.1*($B72-$B71) -> 0.95515 | H71: =G71+0.1*($B72-$B71) -> 0.95508 | I71: =H71+0.1*($B72-$B71) -> 0.95501 | J71: =I71+0.1*($B72-$B71) -> 0.95494 | ... L71: =K71+0.1*($B72-$B71) -> 0.9548 | O71: 448 | P71: =P70 -> 27 | Q71: =MOD(O71,10)+2 -> 10 | R71: {=INDIRECT(ADDRESS(P71,Q71))} -> 1e-05
A72: 890 | B72: 0.9548 | C72: =B72+0.1*($B73-$B72) -> 0.95474 | D72: =C72+0.1*($B73-$B72) -> 0.95468 | E72: =D72+0.1*($B73-$B72) -> 0.95462 | F72: =E72+0.1*($B73-$B72) -> 0.95456 | G72: =F72+0.1*($B73-$B72) -> 0.9545 | H72: =G72+0.1*($B73-$B72) -> 0.95444 | I72: =H72+0.1*($B73-$B72) -> 0.95438 | J72: =I72+0.1*($B73-$B72) -> 0.95432 | ... L72: =K72+0.1*($B73-$B72) -> 0.9542 | O72: 449 | P72: =P71 -> 27 | Q72: =MOD(O72,10)+2 -> 11 | R72: {=INDIRECT(ADDRESS(P72,Q72))} -> 1e-05
A73: 900 | B73: 0.9542 | C73: =B73+0.1*($B74-$B73) -> 0.95414 | D73: =C73+0.1*($B74-$B73) -> 0.95408 | E73: =D73+0.1*($B74-$B73) -> 0.95402 | F73: =E73+0.1*($B74-$B73) -> 0.95396 | G73: =F73+0.1*($B74-$B73) -> 0.9539 | H73: =G73+0.1*($B74-$B73) -> 0.95384 | I73: =H73+0.1*($B74-$B73) -> 0.95378 | J73: =I73+0.1*($B74-$B73) -> 0.95372 | ... L73: =K73+0.1*($B74-$B73) -> 0.9536 | O73: 450 | P73: =MATCH(O73,$A$3:$A$182,0)+2 -> 28 | Q73: =MOD(O73,10)+2 -> 2 | R73: {=INDIRECT(ADDRESS(P73,Q73))} -> 1e-05
A74: 910 | B74: 0.9536 | C74: =B74+0.1*($B75-$B74) -> 0.95353 | D74: =C74+0.1*($B75-$B74) -> 0.95346 | E74: =D74+0.1*($B75-$B74) -> 0.95339 | F74: =E74+0.1*($B75-$B74) -> 0.95332 | G74: =F74+0.1*($B75-$B74) -> 0.95325 | H74: =G74+0.1*($B75-$B74) -> 0.95318 | I74: =H74+0.1*($B75-$B74) -> 0.95311 | J74: =I74+0.1*($B75-$B74) -> 0.95304 | ... L74: =K74+0.1*($B75-$B74) -> 0.9529 | O74: 451 | P74: =P73 -> 28 | Q74: =MOD(O74,10)+2 -> 3 | R74: {=INDIRECT(ADDRESS(P74,Q74))} -> 1e-05
A75: 920 | B75: 0.9529 | C75: =B75+0.1*($B76-$B75) -> 0.95284 | D75: =C75+0.1*($B76-$B75) -> 0.95278 | E75: =D75+0.1*($B76-$B75) -> 0.95272 | F75: =E75+0.1*($B76-$B75) -> 0.95266 | G75: =F75+0.1*($B76-$B75) -> 0.9526 | H75: =G75+0.1*($B76-$B75) -> 0.95254 | I75: =H75+0.1*($B76-$B75) -> 0.95248 | J75: =I75+0.1*($B76-$B75) -> 0.95242 | ... L75: =K75+0.1*($B76-$B75) -> 0.9523 | O75: 452 | P75: =P74 -> 28 | Q75: =MOD(O75,10)+2 -> 4 | R75: {=INDIRECT(ADDRESS(P75,Q75))} -> 1e-05
A76: 930 | B76: 0.9523 | C76: =B76+0.1*($B77-$B76) -> 0.95224 | D76: =C76+0.1*($B77-$B76) -> 0.95218 | E76: =D76+0.1*($B77-$B76) -> 0.95212 | F76: =E76+0.1*($B77-$B76) -> 0.95206 | G76: =F76+0.1*($B77-$B76) -> 0.952 | H76: =G76+0.1*($B77-$B76) -> 0.95194 | I76: =H76+0.1*($B77-$B76) -> 0.95188 | J76: =I76+0.1*($B77-$B76) -> 0.95182 | ... L76: =K76+0.1*($B77-$B76) -> 0.9517 | O76: 453 | P76: =P75 -> 28 | Q76: =MOD(O76,10)+2 -> 5 | R76: {=INDIRECT(ADDRESS(P76,Q76))} -> 1e-05
A77: 940 | B77: 0.9517 | C77: =B77+0.1*($B78-$B77) -> 0.95165 | D77: =C77+0.1*($B78-$B77) -> 0.9516 | E77: =D77+0.1*($B78-$B77) -> 0.95155 | F77: =E77+0.1*($B78-$B77) -> 0.9515 | G77: =F77+0.1*($B78-$B77) -> 0.95145 | H77: =G77+0.1*($B78-$B77) -> 0.9514 | I77: =H77+0.1*($B78-$B77) -> 0.95135 | J77: =I77+0.1*($B78-$B77) -> 0.9513 | ... L77: =K77+0.1*($B78-$B77) -> 0.9512 | O77: 454 | P77: =P76 -> 28 | Q77: =MOD(O77,10)+2 -> 6 | R77: {=INDIRECT(ADDRESS(P77,Q77))} -> 1e-05
A78: 950 | B78: 0.9512 | C78: =B78+0.1*($B79-$B78) -> 0.95114 | D78: =C78+0.1*($B79-$B78) -> 0.95108 | E78: =D78+0.1*($B79-$B78) -> 0.95102 | F78: =E78+0.1*($B79-$B78) -> 0.95096 | G78: =F78+0.1*($B79-$B78) -> 0.9509 | H78: =G78+0.1*($B79-$B78) -> 0.95084 | I78: =H78+0.1*($B79-$B78) -> 0.95078 | J78: =I78+0.1*($B79-$B78) -> 0.95072 | ... L78: =K78+0.1*($B79-$B78) -> 0.9506 | O78: 455 | P78: =P77 -> 28 | Q78: =MOD(O78,10)+2 -> 7 | R78: {=INDIRECT(ADDRESS(P78,Q78))} -> 1e-05
A79: 960 | B79: 0.9506 | C79: =B79+0.1*($B80-$B79) -> 0.95055 | D79: =C79+0.1*($B80-$B79) -> 0.9505 | E79: =D79+0.1*($B80-$B79) -> 0.95045 | F79: =E79+0.1*($B80-$B79) -> 0.9504 | G79: =F79+0.1*($B80-$B79) -> 0.95035 | H79: =G79+0.1*($B80-$B79) -> 0.9503 | I79: =H79+0.1*($B80-$B79) -> 0.95025 | J79: =I79+0.1*($B80-$B79) -> 0.9502 | ... L79: =K79+0.1*($B80-$B79) -> 0.9501 | O79: 456 | P79: =P78 -> 28 | Q79: =MOD(O79,10)+2 -> 8 | R79: {=INDIRECT(ADDRESS(P79,Q79))} -> 1e-05
A80: 970 | B80: 0.9501 | C80: =B80+0.1*($B81-$B80) -> 0.95006 | D80: =C80+0.1*($B81-$B80) -> 0.95002 | E80: =D80+0.1*($B81-$B80) -> 0.94998 | F80: =E80+0.1*($B81-$B80) -> 0.94994 | G80: =F80+0.1*($B81-$B80) -> 0.9499 | H80: =G80+0.1*($B81-$B80) -> 0.94986 | I80: =H80+0.1*($B81-$B80) -> 0.94982 | J80: =I80+0.1*($B81-$B80) -> 0.94978 | ... L80: =K80+0.1*($B81-$B80) -> 0.9497 | O80: 457 | P80: =P79 -> 28 | Q80: =MOD(O80,10)+2 -> 9 | R80: {=INDIRECT(ADDRESS(P80,Q80))} -> 1e-05
A81: 980 | B81: 0.9497 | C81: =B81+0.1*($B82-$B81) -> 0.94965 | D81: =C81+0.1*($B82-$B81) -> 0.9496 | E81: =D81+0.1*($B82-$B81) -> 0.94955 | F81: =E81+0.1*($B82-$B81) -> 0.9495 | G81: =F81+0.1*($B82-$B81) -> 0.94945 | H81: =G81+0.1*($B82-$B81) -> 0.9494 | I81: =H81+0.1*($B82-$B81) -> 0.94935 | J81: =I81+0.1*($B82-$B81) -> 0.9493 | ... L81: =K81+0.1*($B82-$B81) -> 0.9492 | O81: 458 | P81: =P80 -> 28 | Q81: =MOD(O81,10)+2 -> 10 | R81: {=INDIRECT(ADDRESS(P81,Q81))} -> 1e-05
A82: 990 | B82: 0.9492 | C82: =B82+0.1*($B83-$B82) -> 0.94916 | D82: =C82+0.1*($B83-$B82) -> 0.94912 | E82: =D82+0.1*($B83-$B82) -> 0.94908 | F82: =E82+0.1*($B83-$B82) -> 0.94904 | G82: =F82+0.1*($B83-$B82) -> 0.949 | H82: =G82+0.1*($B83-$B82) -> 0.94896 | I82: =H82+0.1*($B83-$B82) -> 0.94892 | J82: =I82+0.1*($B83-$B82) -> 0.94888 | ... L82: =K82+0.1*($B83-$B82) -> 0.9488 | O82: 459 | P82: =P81 -> 28 | Q82: =MOD(O82,10)+2 -> 11 | R82: {=INDIRECT(ADDRESS(P82,Q82))} -> 1e-05
A83: 1000 | B83: 0.9488 | C83: =B83+0.1*($B84-$B83) -> 0.94876 | D83: =C83+0.1*($B84-$B83) -> 0.94872 | E83: =D83+0.1*($B84-$B83) -> 0.94868 | F83: =E83+0.1*($B84-$B83) -> 0.94864 | G83: =F83+0.1*($B84-$B83) -> 0.9486 | H83: =G83+0.1*($B84-$B83) -> 0.94856 | I83: =H83+0.1*($B84-$B83) -> 0.94852 | J83: =I83+0.1*($B84-$B83) -> 0.94848 | ... L83: =K83+0.1*($B84-$B83) -> 0.9484 | O83: 460 | P83: =MATCH(O83,$A$3:$A$182,0)+2 -> 29 | Q83: =MOD(O83,10)+2 -> 2 | R83: {=INDIRECT(ADDRESS(P83,Q83))} -> 1e-05
A84: 1010 | B84: 0.9484 | C84: =B84+0.1*($B85-$B84) -> 0.94838 | D84: =C84+0.1*($B85-$B84) -> 0.94836 | E84: =D84+0.1*($B85-$B84) -> 0.94834 | F84: =E84+0.1*($B85-$B84) -> 0.94832 | G84: =F84+0.1*($B85-$B84) -> 0.9483 | H84: =G84+0.1*($B85-$B84) -> 0.94828 | I84: =H84+0.1*($B85-$B84) -> 0.94826 | J84: =I84+0.1*($B85-$B84) -> 0.94824 | ... L84: =K84+0.1*($B85-$B84) -> 0.9482 | O84: 461 | P84: =P83 -> 29 | Q84: =MOD(O84,10)+2 -> 3 | R84: {=INDIRECT(ADDRESS(P84,Q84))} -> 1e-05
A85: 1020 | B85: 0.9482 | C85: =B85+0.1*($B86-$B85) -> 0.94817 | D85: =C85+0.1*($B86-$B85) -> 0.94814 | E85: =D85+0.1*($B86-$B85) -> 0.94811 | F85: =E85+0.1*($B86-$B85) -> 0.94808 | G85: =F85+0.1*($B86-$B85) -> 0.94805 | H85: =G85+0.1*($B86-$B85) -> 0.94802 | I85: =H85+0.1*($B86-$B85) -> 0.94799 | J85: =I85+0.1*($B86-$B85) -> 0.94796 | ... L85: =K85+0.1*($B86-$B85) -> 0.9479 | O85: 462 | P85: =P84 -> 29 | Q85: =MOD(O85,10)+2 -> 4 | R85: {=INDIRECT(ADDRESS(P85,Q85))} -> 1e-05
A86: 1030 | B86: 0.9479 | C86: =B86+0.1*($B87-$B86) -> 0.94788 | D86: =C86+0.1*($B87-$B86) -> 0.94786 | E86: =D86+0.1*($B87-$B86) -> 0.94784 | F86: =E86+0.1*($B87-$B86) -> 0.94782 | G86: =F86+0.1*($B87-$B86) -> 0.9478 | H86: =G86+0.1*($B87-$B86) -> 0.94778 | I86: =H86+0.1*($B87-$B86) -> 0.94776 | J86: =I86+0.1*($B87-$B86) -> 0.94774 | ... L86: =K86+0.1*($B87-$B86) -> 0.9477 | O86: 463 | P86: =P85 -> 29 | Q86: =MOD(O86,10)+2 -> 5 | R86: {=INDIRECT(ADDRESS(P86,Q86))} -> 1e-05
A87: 1040 | B87: 0.9477 | C87: =B87+0.1*($B88-$B87) -> 0.94769 | D87: =C87+0.1*($B88-$B87) -> 0.94768 | E87: =D87+0.1*($B88-$B87) -> 0.94767 | F87: =E87+0.1*($B88-$B87) -> 0.94766 | G87: =F87+0.1*($B88-$B87) -> 0.94765 | H87: =G87+0.1*($B88-$B87) -> 0.94764 | I87: =H87+0.1*($B88-$B87) -> 0.94763 | J87: =I87+0.1*($B88-$B87) -> 0.94762 | ... L87: =K87+0.1*($B88-$B87) -> 0.9476 | O87: 464 | P87: =P86 -> 29 | Q87: =MOD(O87,10)+2 -> 6 | R87: {=INDIRECT(ADDRESS(P87,Q87))} -> 1e-05
A88: 1050 | B88: 0.9476 | C88: =B88+0.1*($B89-$B88) -> 0.94759 | D88: =C88+0.1*($B89-$B88) -> 0.94758 | E88: =D88+0.1*($B89-$B88) -> 0.94757 | F88: =E88+0.1*($B89-$B88) -> 0.94756 | G88: =F88+0.1*($B89-$B88) -> 0.94755 | H88: =G88+0.1*($B89-$B88) -> 0.94754 | I88: =H88+0.1*($B89-$B88) -> 0.94753 | J88: =I88+0.1*($B89-$B88) -> 0.94752 | ... L88: =K88+0.1*($B89-$B88) -> 0.9475 | O88: 465 | P88: =P87 -> 29 | Q88: =MOD(O88,10)+2 -> 7 | R88: {=INDIRECT(ADDRESS(P88,Q88))} -> 1e-05
A89: 1060 | B89: 0.9475 | C89: =B89+0.1*($B90-$B89) -> 0.94749 | D89: =C89+0.1*($B90-$B89) -> 0.94748 | E89: =D89+0.1*($B90-$B89) -> 0.94747 | F89: =E89+0.1*($B90-$B89) -> 0.94746 | G89: =F89+0.1*($B90-$B89) -> 0.94745 | H89: =G89+0.1*($B90-$B89) -> 0.94744 | I89: =H89+0.1*($B90-$B89) -> 0.94743 | J89: =I89+0.1*($B90-$B89) -> 0.94742 | ... L89: =K89+0.1*($B90-$B89) -> 0.9474 | O89: 466 | P89: =P88 -> 29 | Q89: =MOD(O89,10)+2 -> 8 | R89: {=INDIRECT(ADDRESS(P89,Q89))} -> 1e-05
A90: 1070 | B90: 0.9474 | C90: =B90+0.1*($B91-$B90) -> 0.9474 | D90: =C90+0.1*($B91-$B90) -> 0.9474 | E90: =D90+0.1*($B91-$B90) -> 0.9474 | F90: =E90+0.1*($B91-$B90) -> 0.9474 | G90: =F90+0.1*($B91-$B90) -> 0.9474 | H90: =G90+0.1*($B91-$B90) -> 0.9474 | I90: =H90+0.1*($B91-$B90) -> 0.9474 | J90: =I90+0.1*($B91-$B90) -> 0.9474 | ... L90: =K90+0.1*($B91-$B90) -> 0.9474 | O90: 467 | P90: =P89 -> 29 | Q90: =MOD(O90,10)+2 -> 9 | R90: {=INDIRECT(ADDRESS(P90,Q90))} -> 1e-05
A91: 1080 | B91: 0.9474 | C91: =B91+0.1*($B92-$B91) -> 0.9474 | D91: =C91+0.1*($B92-$B91) -> 0.9474 | E91: =D91+0.1*($B92-$B91) -> 0.9474 | F91: =E91+0.1*($B92-$B91) -> 0.9474 | G91: =F91+0.1*($B92-$B91) -> 0.9474 | H91: =G91+0.1*($B92-$B91) -> 0.9474 | I91: =H91+0.1*($B92-$B91) -> 0.9474 | J91: =I91+0.1*($B92-$B91) -> 0.9474 | ... L91: =K91+0.1*($B92-$B91) -> 0.9474 | O91: 468 | P91: =P90 -> 29 | Q91: =MOD(O91,10)+2 -> 10 | R91: {=INDIRECT(ADDRESS(P91,Q91))} -> 1e-05
A92: 1090 | B92: 0.9474 | C92: =B92+0.1*($B93-$B92) -> 0.9474 | D92: =C92+0.1*($B93-$B92) -> 0.9474 | E92: =D92+0.1*($B93-$B92) -> 0.9474 | F92: =E92+0.1*($B93-$B92) -> 0.9474 | G92: =F92+0.1*($B93-$B92) -> 0.9474 | H92: =G92+0.1*($B93-$B92) -> 0.9474 | I92: =H92+0.1*($B93-$B92) -> 0.9474 | J92: =I92+0.1*($B93-$B92) -> 0.9474 | ... L92: =K92+0.1*($B93-$B92) -> 0.9474 | O92: 469 | P92: =P91 -> 29 | Q92: =MOD(O92,10)+2 -> 11 | R92: {=INDIRECT(ADDRESS(P92,Q92))} -> 1e-05
A93: 1100 | B93: 0.9474 | C93: =B93+0.1*($B94-$B93) -> 0.9474 | D93: =C93+0.1*($B94-$B93) -> 0.9474 | E93: =D93+0.1*($B94-$B93) -> 0.9474 | F93: =E93+0.1*($B94-$B93) -> 0.9474 | G93: =F93+0.1*($B94-$B93) -> 0.9474 | H93: =G93+0.1*($B94-$B93) -> 0.9474 | I93: =H93+0.1*($B94-$B93) -> 0.9474 | J93: =I93+0.1*($B94-$B93) -> 0.9474 | ... L93: =K93+0.1*($B94-$B93) -> 0.9474 | O93: 470 | P93: =MATCH(O93,$A$3:$A$182,0)+2 -> 30 | Q93: =MOD(O93,10)+2 -> 2 | R93: {=INDIRECT(ADDRESS(P93,Q93))} -> 1e-05
A94: 1110 | B94: 0.9474 | C94: =B94+0.1*($B95-$B94) -> 0.94741 | D94: =C94+0.1*($B95-$B94) -> 0.94742 | E94: =D94+0.1*($B95-$B94) -> 0.94743 | F94: =E94+0.1*($B95-$B94) -> 0.94744 | G94: =F94+0.1*($B95-$B94) -> 0.94745 | H94: =G94+0.1*($B95-$B94) -> 0.94746 | I94: =H94+0.1*($B95-$B94) -> 0.94747 | J94: =I94+0.1*($B95-$B94) -> 0.94748 | ... L94: =K94+0.1*($B95-$B94) -> 0.9475 | O94: 471 | P94: =P93 -> 30 | Q94: =MOD(O94,10)+2 -> 3 | R94: {=INDIRECT(ADDRESS(P94,Q94))} -> 1e-05
A95: 1120 | B95: 0.9475 | C95: =B95+0.1*($B96-$B95) -> 0.94751 | D95: =C95+0.1*($B96-$B95) -> 0.94752 | E95: =D95+0.1*($B96-$B95) -> 0.94753 | F95: =E95+0.1*($B96-$B95) -> 0.94754 | G95: =F95+0.1*($B96-$B95) -> 0.94755 | H95: =G95+0.1*($B96-$B95) -> 0.94756 | I95: =H95+0.1*($B96-$B95) -> 0.94757 | J95: =I95+0.1*($B96-$B95) -> 0.94758 | ... L95: =K95+0.1*($B96-$B95) -> 0.9476 | O95: 472 | P95: =P94 -> 30 | Q95: =MOD(O95,10)+2 -> 4 | R95: {=INDIRECT(ADDRESS(P95,Q95))} -> 1e-05
A96: 1130 | B96: 0.9476 | C96: =B96+0.1*($B97-$B96) -> 0.94761 | D96: =C96+0.1*($B97-$B96) -> 0.94762 | E96: =D96+0.1*($B97-$B96) -> 0.94763 | F96: =E96+0.1*($B97-$B96) -> 0.94764 | G96: =F96+0.1*($B97-$B96) -> 0.94765 | H96: =G96+0.1*($B97-$B96) -> 0.94766 | I96: =H96+0.1*($B97-$B96) -> 0.94767 | J96: =I96+0.1*($B97-$B96) -> 0.94768 | ... L96: =K96+0.1*($B97-$B96) -> 0.9477 | O96: 473 | P96: =P95 -> 30 | Q96: =MOD(O96,10)+2 -> 5 | R96: {=INDIRECT(ADDRESS(P96,Q96))} -> 1e-05
A97: 1140 | B97: 0.9477 | C97: =B97+0.1*($B98-$B97) -> 0.94771 | D97: =C97+0.1*($B98-$B97) -> 0.94772 | E97: =D97+0.1*($B98-$B97) -> 0.94773 | F97: =E97+0.1*($B98-$B97) -> 0.94774 | G97: =F97+0.1*($B98-$B97) -> 0.94775 | H97: =G97+0.1*($B98-$B97) -> 0.94776 | I97: =H97+0.1*($B98-$B97) -> 0.94777 | J97: =I97+0.1*($B98-$B97) -> 0.94778 | ... L97: =K97+0.1*($B98-$B97) -> 0.9478 | O97: 474 | P97: =P96 -> 30 | Q97: =MOD(O97,10)+2 -> 6 | R97: {=INDIRECT(ADDRESS(P97,Q97))} -> 1e-05
A98: 1150 | B98: 0.9478 | C98: =B98+0.1*($B99-$B98) -> 0.94781 | D98: =C98+0.1*($B99-$B98) -> 0.94782 | E98: =D98+0.1*($B99-$B98) -> 0.94783 | F98: =E98+0.1*($B99-$B98) -> 0.94784 | G98: =F98+0.1*($B99-$B98) -> 0.94785 | H98: =G98+0.1*($B99-$B98) -> 0.94786 | I98: =H98+0.1*($B99-$B98) -> 0.94787 | J98: =I98+0.1*($B99-$B98) -> 0.94788 | ... L98: =K98+0.1*($B99-$B98) -> 0.9479 | O98: 475 | P98: =P97 -> 30 | Q98: =MOD(O98,10)+2 -> 7 | R98: {=INDIRECT(ADDRESS(P98,Q98))} -> 1e-05
A99: 1160 | B99: 0.9479 | C99: =B99+0.1*($B100-$B99) -> 0.94791 | D99: =C99+0.1*($B100-$B99) -> 0.94792 | E99: =D99+0.1*($B100-$B99) -> 0.94793 | F99: =E99+0.1*($B100-$B99) -> 0.94794 | G99: =F99+0.1*($B100-$B99) -> 0.94795 | H99: =G99+0.1*($B100-$B99) -> 0.94796 | I99: =H99+0.1*($B100-$B99) -> 0.94797 | J99: =I99+0.1*($B100-$B99) -> 0.94798 | ... L99: =K99+0.1*($B100-$B99) -> 0.948 | O99: 476 | P99: =P98 -> 30 | Q99: =MOD(O99,10)+2 -> 8 | R99: {=INDIRECT(ADDRESS(P99,Q99))} -> 1e-05
A100: 1170 | B100: 0.948 | C100: =B100+0.1*($B101-$B100) -> 0.94801 | D100: =C100+0.1*($B101-$B100) -> 0.94802 | E100: =D100+0.1*($B101-$B100) -> 0.94803 | F100: =E100+0.1*($B101-$B100) -> 0.94804 | G100: =F100+0.1*($B101-$B100) -> 0.94805 | H100: =G100+0.1*($B101-$B100) -> 0.94806 | I100: =H100+0.1*($B101-$B100) -> 0.94807 | J100: =I100+0.1*($B101-$B100) -> 0.94808 | ... L100: =K100+0.1*($B101-$B100) -> 0.9481 | O100: 477 | P100: =P99 -> 30 | Q100: =MOD(O100,10)+2 -> 9 | R100: {=INDIRECT(ADDRESS(P100,Q100))} -> 1e-05
...

Sheet sources
M1: LED raw spectra
L3: sum | M3: =SUM(M6:M71) -> 17.979 | O3: =SUM(O6:O86) -> 66.635
D4: Duris E3 | L4: share | M4: 0.3716 | O4: =1-M4 -> 0.6284 | P4: radiometric | Q4: from info file
B5: Halogen | D5: LED | L5: factor | M5: =M4/M3 -> 0.020668558 | O5: =O4/O3 -> 0.0094304795
B6: 3000 K | C6: normalized | D6: blue | E6: yellow | F6: sum | G6: normalized | H6: smoothened | I6: smoothened | L6: 380 | M6: 0.002 | N6: 510 | O6: 0.8813
L7: 382 | M7: 0.003 | N7: 512 | O7: 0.8967
A8: 300 | B8: 5.5912226 | C8: =B8/MAX($B$8:$B$508) -> 0.0061588744 | F8: =D8*$M$5+E8*$O$5 -> 0 | G8: =F8/MAX($F$8:$F$508) -> 0 | H8: =G8 -> 0 | L8: 384 | M8: 0.002 | N8: 514 | O8: 0.9099
A9: 301 | B9: 5.7989106 | C9: =B9/MAX($B$8:$B$508) -> 0.006387648 | F9: =D9*$M$5+E9*$O$5 -> 0 | G9: =F9/MAX($F$8:$F$508) -> 0 | H9: =AVERAGE(G8,G10) -> 0 | I9: =AVERAGE(H8:H10) -> 0 | L9: 386 | M9: 0.003 | N9: 516 | O9: 0.9165
A10: 302 | B10: 6.01253 | C10: =B10/MAX($B$8:$B$508) -> 0.0066229552 | F10: =D10*$M$5+E10*$O$5 -> 0 | G10: =F10/MAX($F$8:$F$508) -> 0 | H10: =G10 -> 0 | I10: =AVERAGE(H9:H11) -> 0 | L10: 388 | M10: 0.003 | N10: 518 | O10: 0.9297
A11: 303 | B11: 6.2321897 | C11: =B11/MAX($B$8:$B$508) -> 0.006864916 | F11: =D11*$M$5+E11*$O$5 -> 0 | G11: =F11/MAX($F$8:$F$508) -> 0 | H11: =AVERAGE(G10,G12) -> 0 | I11: =AVERAGE(H10:H12) -> 0 | L11: 390 | M11: 0.002 | N11: 520 | O11: 0.9385
A12: 304 | B12: 6.457999 | C12: =B12/MAX($B$8:$B$508) -> 0.0071136507 | F12: =D12*$M$5+E12*$O$5 -> 0 | G12: =F12/MAX($F$8:$F$508) -> 0 | H12: =G12 -> 0 | I12: =AVERAGE(H11:H13) -> 0 | L12: 392 | M12: 0.003 | N12: 522 | O12: 0.9451
A13: 305 | B13: 6.6900676 | C13: =B13/MAX($B$8:$B$508) -> 0.0073692802 | F13: =D13*$M$5+E13*$O$5 -> 0 | G13: =F13/MAX($F$8:$F$508) -> 0 | H13: =AVERAGE(G12,G14) -> 0 | I13: =AVERAGE(H12:H14) -> 0 | L13: 394 | M13: 0.003 | N13: 524 | O13: 0.956
A14: 306 | B14: 6.9285054 | C14: =B14/MAX($B$8:$B$508) -> 0.0076319255 | F14: =D14*$M$5+E14*$O$5 -> 0 | G14: =F14/MAX($F$8:$F$508) -> 0 | H14: =G14 -> 0 | I14: =AVERAGE(H13:H15) -> 0 | L14: 396 | M14: 0.002 | N14: 526 | O14: 0.9648
A15: 307 | B15: 7.1734226 | C15: =B15/MAX($B$8:$B$508) -> 0.0079017081 | F15: =D15*$M$5+E15*$O$5 -> 0 | G15: =F15/MAX($F$8:$F$508) -> 0 | H15: =AVERAGE(G14,G16) -> 0 | I15: =AVERAGE(H14:H16) -> 0 | L15: 398 | M15: 0.003 | N15: 528 | O15: 0.967
A16: 308 | B16: 7.4249297 | C16: =B16/MAX($B$8:$B$508) -> 0.0081787495 | F16: =D16*$M$5+E16*$O$5 -> 0 | G16: =F16/MAX($F$8:$F$508) -> 0 | H16: =G16 -> 0 | I16: =AVERAGE(H15:H17) -> 0 | L16: 400 | M16: 0.003 | N16: 530 | O16: 0.9692
A17: 309 | B17: 7.6831372 | C17: =B17/MAX($B$8:$B$508) -> 0.0084631717 | F17: =D17*$M$5+E17*$O$5 -> 0 | G17: =F17/MAX($F$8:$F$508) -> 0 | H17: =AVERAGE(G16,G18) -> 0 | I17: =AVERAGE(H16:H18) -> 0 | L17: 402 | M17: 0.003 | N17: 532 | O17: 0.9758
A18: 310 | B18: 7.9481559 | C18: =B18/MAX($B$8:$B$508) -> 0.0087550966 | F18: =D18*$M$5+E18*$O$5 -> 0 | G18: =F18/MAX($F$8:$F$508) -> 0 | H18: =G18 -> 0 | I18: =AVERAGE(H17:H19) -> 0 | L18: 404 | M18: 0.004 | N18: 534 | O18: 0.9802
A19: 311 | B19: 8.2200969 | C19: =B19/MAX($B$8:$B$508) -> 0.0090546465 | F19: =D19*$M$5+E19*$O$5 -> 0 | G19: =F19/MAX($F$8:$F$508) -> 0 | H19: =AVERAGE(G18,G20) -> 0 | I19: =AVERAGE(H18:H20) -> 0 | L19: 406 | M19: 0.004 | N19: 536 | O19: 0.9824
A20: 312 | B20: 8.499071 | C20: =B20/MAX($B$8:$B$508) -> 0.0093619436 | F20: =D20*$M$5+E20*$O$5 -> 0 | G20: =F20/MAX($F$8:$F$508) -> 0 | H20: =G20 -> 0 | I20: =AVERAGE(H19:H21) -> 0 | L20: 408 | M20: 0.005 | N20: 538 | O20: 0.9846
A21: 313 | B21: 8.7851893 | C21: =B21/MAX($B$8:$B$508) -> 0.0096771102 | F21: =D21*$M$5+E21*$O$5 -> 0 | G21: =F21/MAX($F$8:$F$508) -> 0 | H21: =AVERAGE(G20,G22) -> 0 | I21: =AVERAGE(H20:H22) -> 0 | L21: 410 | M21: 0.006 | N21: 540 | O21: 0.9934
A22: 314 | B22: 9.0785629 | C22: =B22/MAX($B$8:$B$508) -> 0.010000269 | F22: =D22*$M$5+E22*$O$5 -> 0 | G22: =F22/MAX($F$8:$F$508) -> 0 | H22: =G22 -> 0 | I22: =AVERAGE(H21:H23) -> 0 | L22: 412 | M22: 0.008 | N22: 542 | O22: 0.9912
A23: 315 | B23: 9.3793028 | C23: =B23/MAX($B$8:$B$508) -> 0.010331541 | F23: =D23*$M$5+E23*$O$5 -> 0 | G23: =F23/MAX($F$8:$F$508) -> 0 | H23: =AVERAGE(G22,G24) -> 0 | I23: =AVERAGE(H22:H24) -> 0 | L23: 414 | M23: 0.009 | N23: 544 | O23: 0.9978
A24: 316 | B24: 9.6875201 | C24: =B24/MAX($B$8:$B$508) -> 0.010671051 | F24: =D24*$M$5+E24*$O$5 -> 0 | G24: =F24/MAX($F$8:$F$508) -> 0 | H24: =G24 -> 0 | I24: =AVERAGE(H23:H25) -> 0 | L24: 416 | M24: 0.012 | N24: 546 | O24: 1
A25: 317 | B25: 10.003326 | C25: =B25/MAX($B$8:$B$508) -> 0.011018918 | F25: =D25*$M$5+E25*$O$5 -> 0 | G25: =F25/MAX($F$8:$F$508) -> 0 | H25: =AVERAGE(G24,G26) -> 0 | I25: =AVERAGE(H24:H26) -> 0 | L25: 418 | M25: 0.015 | N25: 548 | O25: 0.9956
A26: 318 | B26: 10.32683 | C26: =B26/MAX($B$8:$B$508) -> 0.011375267 | F26: =D26*$M$5+E26*$O$5 -> 0 | G26: =F26/MAX($F$8:$F$508) -> 0 | H26: =G26 -> 0 | I26: =AVERAGE(H25:H27) -> 0 | L26: 420 | M26: 0.019 | N26: 550 | O26: 0.989
A27: 319 | B27: 10.658144 | C27: =B27/MAX($B$8:$B$508) -> 0.011740218 | F27: =D27*$M$5+E27*$O$5 -> 0 | G27: =F27/MAX($F$8:$F$508) -> 0 | H27: =AVERAGE(G26,G28) -> 0 | I27: =AVERAGE(H26:H28) -> 0 | L27: 422 | M27: 0.023 | N27: 552 | O27: 0.9868
A28: 320 | B28: 10.997378 | C28: =B28/MAX($B$8:$B$508) -> 0.012113893 | F28: =D28*$M$5+E28*$O$5 -> 0 | G28: =F28/MAX($F$8:$F$508) -> 0 | H28: =G28 -> 0 | I28: =AVERAGE(H27:H29) -> 0 | L28: 424 | M28: 0.031 | N28: 554 | O28: 0.9824
A29: 321 | B29: 11.344642 | C29: =B29/MAX($B$8:$B$508) -> 0.012496413 | F29: =D29*$M$5+E29*$O$5 -> 0 | G29: =F29/MAX($F$8:$F$508) -> 0 | H29: =AVERAGE(G28,G30) -> 0 | I29: =AVERAGE(H28:H30) -> 0 | L29: 426 | M29: 0.04 | N29: 556 | O29: 0.9802
A30: 322 | B30: 11.700046 | C30: =B30/MAX($B$8:$B$508) -> 0.0128879 | F30: =D30*$M$5+E30*$O$5 -> 0 | G30: =F30/MAX($F$8:$F$508) -> 0 | H30: =G30 -> 0 | I30: =AVERAGE(H29:H31) -> 0 | L30: 428 | M30: 0.053 | N30: 558 | O30: 0.9714
A31: 323 | B31: 12.0637 | C31: =B31/MAX($B$8:$B$508) -> 0.013288473 | F31: =D31*$M$5+E31*$O$5 -> 0 | G31: =F31/MAX($F$8:$F$508) -> 0 | H31: =AVERAGE(G30,G32) -> 0 | I31: =AVERAGE(H30:H32) -> 0 | L31: 430 | M31: 0.068 | N31: 560 | O31: 0.967
A32: 324 | B32: 12.435712 | C32: =B32/MAX($B$8:$B$508) -> 0.013698255 | F32: =D32*$M$5+E32*$O$5 -> 0 | G32: =F32/MAX($F$8:$F$508) -> 0 | H32: =G32 -> 0 | I32: =AVERAGE(H31:H33) -> 0 | L32: 432 | M32: 0.091 | N32: 562 | O32: 0.9582
A33: 325 | B33: 12.816192 | C33: =B33/MAX($B$8:$B$508) -> 0.014117363 | F33: =D33*$M$5+E33*$O$5 -> 0 | G33: =F33/MAX($F$8:$F$508) -> 0 | H33: =AVERAGE(G32,G34) -> 0 | I33: =AVERAGE(H32:H34) -> 0 | L33: 434 | M33: 0.121 | N33: 564 | O33: 0.9495
A34: 326 | B34: 13.205249 | C34: =B34/MAX($B$8:$B$508) -> 0.014545918 | F34: =D34*$M$5+E34*$O$5 -> 0 | G34: =F34/MAX($F$8:$F$508) -> 0 | H34: =G34 -> 0 | I34: =AVERAGE(H33:H35) -> 0 | L34: 436 | M34: 0.158 | N34: 566 | O34: 0.9429
A35: 327 | B35: 13.602989 | C35: =B35/MAX($B$8:$B$508) -> 0.014984039 | F35: =D35*$M$5+E35*$O$5 -> 0 | G35: =F35/MAX($F$8:$F$508) -> 0 | H35: =AVERAGE(G34,G36) -> 0 | I35: =AVERAGE(H34:H36) -> 0 | L35: 438 | M35: 0.211 | N35: 568 | O35: 0.9319
A36: 328 | B36: 14.00952 | C36: =B36/MAX($B$8:$B$508) -> 0.015431844 | F36: =D36*$M$5+E36*$O$5 -> 0 | G36: =F36/MAX($F$8:$F$508) -> 0 | H36: =G36 -> 0 | I36: =AVERAGE(H35:H37) -> 0 | L36: 440 | M36: 0.285 | N36: 570 | O36: 0.9231
A37: 329 | B37: 14.42495 | C37: =B37/MAX($B$8:$B$508) -> 0.015889451 | F37: =D37*$M$5+E37*$O$5 -> 0 | G37: =F37/MAX($F$8:$F$508) -> 0 | H37: =AVERAGE(G36,G38) -> 0 | I37: =AVERAGE(H36:H38) -> 0 | L37: 442 | M37: 0.388 | N37: 572 | O37: 0.9077
A38: 330 | B38: 14.849385 | C38: =B38/MAX($B$8:$B$508) -> 0.016356977 | F38: =D38*$M$5+E38*$O$5 -> 0 | G38: =F38/MAX($F$8:$F$508) -> 0 | H38: =G38 -> 0 | I38: =AVERAGE(H37:H39) -> 0 | L38: 444 | M38: 0.529 | N38: 574 | O38: 0.9011
A39: 331 | B39: 15.28293 | C39: =B39/MAX($B$8:$B$508) -> 0.016834538 | F39: =D39*$M$5+E39*$O$5 -> 0 | G39: =F39/MAX($F$8:$F$508) -> 0 | H39: =AVERAGE(G38,G40) -> 0 | I39: =AVERAGE(H38:H40) -> 0 | L39: 446 | M39: 0.693 | N39: 576 | O39: 0.8923
A40: 332 | B40: 15.725692 | C40: =B40/MAX($B$8:$B$508) -> 0.017322251 | F40: =D40*$M$5+E40*$O$5 -> 0 | G40: =F40/MAX($F$8:$F$508) -> 0 | H40: =G40 -> 0 | I40: =AVERAGE(H39:H41) -> 0 | L40: 448 | M40: 0.853 | N40: 578 | O40: 0.8747
A41: 333 | B41: 16.177773 | C41: =B41/MAX($B$8:$B$508) -> 0.01782023 | F41: =D41*$M$5+E41*$O$5 -> 0 | G41: =F41/MAX($F$8:$F$508) -> 0 | H41: =AVERAGE(G40,G42) -> 0 | I41: =AVERAGE(H40:H42) -> 0 | L41: 450 | M41: 0.971 | N41: 580 | O41: 0.8703
A42: 334 | B42: 16.639278 | C42: =B42/MAX($B$8:$B$508) -> 0.01832859 | F42: =D42*$M$5+E42*$O$5 -> 0 | G42: =F42/MAX($F$8:$F$508) -> 0 | H42: =G42 -> 0 | I42: =AVERAGE(H41:H43) -> 0 | L42: 452 | M42: 1 | N42: 582 | O42: 0.8615
A43: 335 | B43: 17.110311 | C43: =B43/MAX($B$8:$B$508) -> 0.018847444 | F43: =D43*$M$5+E43*$O$5 -> 0 | G43: =F43/MAX($F$8:$F$508) -> 0 | H43: =AVERAGE(G42,G44) -> 0 | I43: =AVERAGE(H42:H44) -> 0 | L43: 454 | M43: 0.937 | N43: 584 | O43: 0.8484
A44: 336 | B44: 17.590973 | C44: =B44/MAX($B$8:$B$508) -> 0.019376906 | F44: =D44*$M$5+E44*$O$5 -> 0 | G44: =F44/MAX($F$8:$F$508) -> 0 | H44: =G44 -> 0 | I44: =AVERAGE(H43:H45) -> 0 | L44: 456 | M44: 0.819 | N44: 586 | O44: 0.8484
A45: 337 | B45: 18.081367 | C45: =B45/MAX($B$8:$B$508) -> 0.019917087 | F45: =D45*$M$5+E45*$O$5 -> 0 | G45: =F45/MAX($F$8:$F$508) -> 0 | H45: =AVERAGE(G44,G46) -> 0 | I45: =AVERAGE(H44:H46) -> 0 | L45: 458 | M45: 0.698 | N45: 588 | O45: 0.8352
A46: 338 | B46: 18.581591 | C46: =B46/MAX($B$8:$B$508) -> 0.020468097 | F46: =D46*$M$5+E46*$O$5 -> 0 | G46: =F46/MAX($F$8:$F$508) -> 0 | H46: =G46 -> 0 | I46: =AVERAGE(H45:H47) -> 0 | L46: 460 | M46: 0.619 | N46: 590 | O46: 0.8308
A47: 339 | B47: 19.091748 | C47: =B47/MAX($B$8:$B$508) -> 0.021030048 | F47: =D47*$M$5+E47*$O$5 -> 0 | G47: =F47/MAX($F$8:$F$508) -> 0 | H47: =AVERAGE(G46,G48) -> 0 | I47: =AVERAGE(H46:H48) -> 0 | L47: 462 | M47: 0.574 | N47: 592 | O47: 0.822
A48: 340 | B48: 19.611935 | C48: =B48/MAX($B$8:$B$508) -> 0.021603047 | F48: =D48*$M$5+E48*$O$5 -> 0 | G48: =F48/MAX($F$8:$F$508) -> 0 | H48: =G48 -> 0 | I48: =AVERAGE(H47:H49) -> 0 | L48: 464 | M48: 0.554 | N48: 594 | O48: 0.811
A49: 341 | B49: 20.142251 | C49: =B49/MAX($B$8:$B$508) -> 0.022187203 | F49: =D49*$M$5+E49*$O$5 -> 0 | G49: =F49/MAX($F$8:$F$508) -> 0 | H49: =AVERAGE(G48,G50) -> 0 | I49: =AVERAGE(H48:H50) -> 0 | L49: 466 | M49: 0.523 | N49: 596 | O49: 0.8044
A50: 342 | B50: 20.682792 | C50: =B50/MAX($B$8:$B$508) -> 0.022782623 | F50: =D50*$M$5+E50*$O$5 -> 0 | G50: =F50/MAX($F$8:$F$508) -> 0 | H50: =G50 -> 0 | I50: =AVERAGE(H49:H51) -> 0 | L50: 468 | M50: 0.477 | N50: 598 | O50: 0.8022
A51: 343 | B51: 21.233655 | C51: =B51/MAX($B$8:$B$508) -> 0.023389413 | F51: =D51*$M$5+E51*$O$5 -> 0 | G51: =F51/MAX($F$8:$F$508) -> 0 | H51: =AVERAGE(G50,G52) -> 0 | I51: =AVERAGE(H50:H52) -> 0 | L51: 470 | M51: 0.425 | N51: 600 | O51: 0.7956
A52: 344 | B52: 21.794935 | C52: =B52/MAX($B$8:$B$508) -> 0.024007677 | F52: =D52*$M$5+E52*$O$5 -> 0 | G52: =F52/MAX($F$8:$F$508) -> 0 | H52: =G52 -> 0 | I52: =AVERAGE(H51:H53) -> 0 | L52: 472 | M52: 0.371 | N52: 602 | O52: 0.7934
A53: 345 | B53: 22.366726 | C53: =B53/MAX($B$8:$B$508) -> 0.02463752 | F53: =D53*$M$5+E53*$O$5 -> 0 | G53: =F53/MAX($F$8:$F$508) -> 0 | H53: =AVERAGE(G52,G54) -> 0 | I53: =AVERAGE(H52:H54) -> 0 | L53: 474 | M53: 0.332 | N53: 604 | O53: 0.7934
A54: 346 | B54: 22.949121 | C54: =B54/MAX($B$8:$B$508) -> 0.025279043 | F54: =D54*$M$5+E54*$O$5 -> 0 | G54: =F54/MAX($F$8:$F$508) -> 0 | H54: =G54 -> 0 | I54: =AVERAGE(H53:H55) -> 0 | L54: 476 | M54: 0.308 | N54: 606 | O54: 0.7934
A55: 347 | B55: 23.542212 | C55: =B55/MAX($B$8:$B$508) -> 0.025932348 | F55: =D55*$M$5+E55*$O$5 -> 0 | G55: =F55/MAX($F$8:$F$508) -> 0 | H55: =AVERAGE(G54,G56) -> 0 | I55: =AVERAGE(H54:H56) -> 0 | L55: 478 | M55: 0.299 | N55: 608 | O55: 0.7912
A56: 348 | B56: 24.14609 | C56: =B56/MAX($B$8:$B$508) -> 0.026597534 | F56: =D56*$M$5+E56*$O$5 -> 0 | G56: =F56/MAX($F$8:$F$508) -> 0 | H56: =G56 -> 0 | I56: =AVERAGE(H55:H57) -> 0 | L56: 480 | M56: 0.294 | N56: 610 | O56: 0.7824
A57: 349 | B57: 24.760844 | C57: =B57/MAX($B$8:$B$508) -> 0.027274702 | F57: =D57*$M$5+E57*$O$5 -> 0 | G57: =F57/MAX($F$8:$F$508) -> 0 | H57: =AVERAGE(G56,G58) -> 0 | I57: =AVERAGE(H56:H58) -> 0 | L57: 482 | M57: 0.298 | N57: 612 | O57: 0.7846
A58: 350 | B58: 25.386563 | C58: =B58/MAX($B$8:$B$508) -> 0.027963947 | F58: =D58*$M$5+E58*$O$5 -> 0 | G58: =F58/MAX($F$8:$F$508) -> 0 | H58: =G58 -> 0 | I58: =AVERAGE(H57:H59) -> 0 | L58: 484 | M58: 0.301 | N58: 614 | O58: 0.778
A59: 351 | B59: 26.023334 | C59: =B59/MAX($B$8:$B$508) -> 0.028665366 | F59: =D59*$M$5+E59*$O$5 -> 0 | G59: =F59/MAX($F$8:$F$508) -> 0 | H59: =AVERAGE(G58,G60) -> 0 | I59: =AVERAGE(H58:H60) -> 0 | L59: 486 | M59: 0.301 | N59: 616 | O59: 0.7824
A60: 352 | B60: 26.671243 | C60: =B60/MAX($B$8:$B$508) -> 0.029379055 | F60: =D60*$M$5+E60*$O$5 -> 0 | G60: =F60/MAX($F$8:$F$508) -> 0 | H60: =G60 -> 0 | I60: =AVERAGE(H59:H61) -> 0 | L60: 488 | M60: 0.303 | N60: 618 | O60: 0.778
A61: 353 | B61: 27.330375 | C61: =B61/MAX($B$8:$B$508) -> 0.030105106 | F61: =D61*$M$5+E61*$O$5 -> 0 | G61: =F61/MAX($F$8:$F$508) -> 0 | H61: =AVERAGE(G60,G62) -> 0 | I61: =AVERAGE(H60:H62) -> 0 | L61: 490 | M61: 0.307 | N61: 620 | O61: 0.778
A62: 354 | B62: 28.000814 | C62: =B62/MAX($B$8:$B$508) -> 0.030843611 | F62: =D62*$M$5+E62*$O$5 -> 0 | G62: =F62/MAX($F$8:$F$508) -> 0 | H62: =G62 -> 0 | I62: =AVERAGE(H61:H63) -> 0 | L62: 492 | M62: 0.314 | N62: 622 | O62: 0.7714
A63: 355 | B63: 28.682641 | C63: =B63/MAX($B$8:$B$508) -> 0.031594661 | F63: =D63*$M$5+E63*$O$5 -> 0 | G63: =F63/MAX($F$8:$F$508) -> 0 | H63: =AVERAGE(G62,G64) -> 0 | I63: =AVERAGE(H62:H64) -> 0 | L63: 494 | M63: 0.327 | N63: 624 | O63: 0.7648
A64: 356 | B64: 29.375938 | C64: =B64/MAX($B$8:$B$508) -> 0.032358345 | F64: =D64*$M$5+E64*$O$5 -> 0 | G64: =F64/MAX($F$8:$F$508) -> 0 | H64: =G64 -> 0 | I64: =AVERAGE(H63:H65) -> 0 | L64: 496 | M64: 0.336 | N64: 626 | O64: 0.7582
A65: 357 | B65: 30.080784 | C65: =B65/MAX($B$8:$B$508) -> 0.033134751 | F65: =D65*$M$5+E65*$O$5 -> 0 | G65: =F65/MAX($F$8:$F$508) -> 0 | H65: =AVERAGE(G64,G66) -> 0 | I65: =AVERAGE(H64:H66) -> 0 | L65: 498 | M65: 0.348 | N65: 628 | O65: 0.7582
A66: 358 | B66: 30.797258 | C66: =B66/MAX($B$8:$B$508) -> 0.033923965 | F66: =D66*$M$5+E66*$O$5 -> 0 | G66: =F66/MAX($F$8:$F$508) -> 0 | H66: =G66 -> 0 | I66: =AVERAGE(H65:H67) -> 0 | L66: 500 | M66: 0.36 | N66: 630 | O66: 0.7495
A67: 359 | B67: 31.525435 | C67: =B67/MAX($B$8:$B$508) -> 0.034726071 | F67: =D67*$M$5+E67*$O$5 -> 0 | G67: =F67/MAX($F$8:$F$508) -> 0 | H67: =AVERAGE(G66,G68) -> 0 | I67: =AVERAGE(H66:H68) -> 0 | L67: 502 | M67: 0.368 | N67: 632 | O67: 0.7451
A68: 360 | B68: 32.265392 | C68: =B68/MAX($B$8:$B$508) -> 0.035541153 | F68: =D68*$M$5+E68*$O$5 -> 0 | G68: =F68/MAX($F$8:$F$508) -> 0 | H68: =G68 -> 0 | I68: =AVERAGE(H67:H69) -> 0 | L68: 504 | M68: 0.377 | N68: 634 | O68: 0.7319
A69: 361 | B69: 33.017203 | C69: =B69/MAX($B$8:$B$508) -> 0.036369292 | F69: =D69*$M$5+E69*$O$5 -> 0 | G69: =F69/MAX($F$8:$F$508) -> 0 | H69: =AVERAGE(G68,G70) -> 0 | I69: =AVERAGE(H68:H70) -> 0 | L69: 506 | M69: 0.385 | N69: 636 | O69: 0.7231
A70: 362 | B70: 33.78094 | C70: =B70/MAX($B$8:$B$508) -> 0.037210568 | F70: =D70*$M$5+E70*$O$5 -> 0 | G70: =F70/MAX($F$8:$F$508) -> 0 | H70: =G70 -> 0 | I70: =AVERAGE(H69:H71) -> 0 | L70: 508 | M70: 0.394 | N70: 638 | O70: 0.7165
A71: 363 | B71: 34.556674 | C71: =B71/MAX($B$8:$B$508) -> 0.038065059 | F71: =D71*$M$5+E71*$O$5 -> 0 | G71: =F71/MAX($F$8:$F$508) -> 0 | H71: =AVERAGE(G70,G72) -> 0 | I71: =AVERAGE(H70:H72) -> 0 | L71: 510 | M71: 0.401 | N71: 640 | O71: 0.7055
A72: 364 | B72: 35.344475 | C72: =B72/MAX($B$8:$B$508) -> 0.038932841 | F72: =D72*$M$5+E72*$O$5 -> 0 | G72: =F72/MAX($F$8:$F$508) -> 0 | H72: =G72 -> 0 | I72: =AVERAGE(H71:H73) -> 0 | N72: 642 | O72: 0.6945
A73: 365 | B73: 36.144411 | C73: =B73/MAX($B$8:$B$508) -> 0.039813991 | F73: =D73*$M$5+E73*$O$5 -> 0 | G73: =F73/MAX($F$8:$F$508) -> 0 | H73: =AVERAGE(G72,G74) -> 0 | I73: =AVERAGE(H72:H74) -> 0 | N73: 644 | O73: 0.6857
A74: 366 | B74: 36.956548 | C74: =B74/MAX($B$8:$B$508) -> 0.04070858 | F74: =D74*$M$5+E74*$O$5 -> 0 | G74: =F74/MAX($F$8:$F$508) -> 0 | H74: =G74 -> 0 | I74: =AVERAGE(H73:H75) -> 0 | N74: 646 | O74: 0.6681
A75: 367 | B75: 37.780951 | C75: =B75/MAX($B$8:$B$508) -> 0.041616682 | F75: =D75*$M$5+E75*$O$5 -> 0 | G75: =F75/MAX($F$8:$F$508) -> 0 | H75: =AVERAGE(G74,G76) -> 0 | I75: =AVERAGE(H74:H76) -> 0 | N75: 648 | O75: 0.6549
A76: 368 | B76: 38.617684 | C76: =B76/MAX($B$8:$B$508) -> 0.042538365 | F76: =D76*$M$5+E76*$O$5 -> 0 | G76: =F76/MAX($F$8:$F$508) -> 0 | H76: =G76 -> 0 | I76: =AVERAGE(H75:H77) -> 0 | N76: 650 | O76: 0.6418
A77: 369 | B77: 39.466809 | C77: =B77/MAX($B$8:$B$508) -> 0.043473697 | F77: =D77*$M$5+E77*$O$5 -> 0 | G77: =F77/MAX($F$8:$F$508) -> 0 | H77: =AVERAGE(G76,G78) -> 0 | I77: =AVERAGE(H76:H78) -> 0 | N77: 652 | O77: 0.6308
A78: 370 | B78: 40.328386 | C78: =B78/MAX($B$8:$B$508) -> 0.044422746 | F78: =D78*$M$5+E78*$O$5 -> 0 | G78: =F78/MAX($F$8:$F$508) -> 0 | H78: =G78 -> 0 | I78: =AVERAGE(H77:H79) -> 0 | N78: 654 | O78: 0.6176
A79: 371 | B79: 41.202473 | C79: =B79/MAX($B$8:$B$508) -> 0.045385576 | F79: =D79*$M$5+E79*$O$5 -> 0 | G79: =F79/MAX($F$8:$F$508) -> 0 | H79: =AVERAGE(G78,G80) -> 0 | I79: =AVERAGE(H78:H80) -> 0 | N79: 656 | O79: 0.5956
A80: 372 | B80: 42.089129 | C80: =B80/MAX($B$8:$B$508) -> 0.046362249 | F80: =D80*$M$5+E80*$O$5 -> 0 | G80: =F80/MAX($F$8:$F$508) -> 0 | H80: =G80 -> 0 | I80: =AVERAGE(H79:H81) -> 0 | N80: 658 | O80: 0.5802
A81: 373 | B81: 42.988407 | C81: =B81/MAX($B$8:$B$508) -> 0.047352828 | F81: =D81*$M$5+E81*$O$5 -> 0 | G81: =F81/MAX($F$8:$F$508) -> 0 | H81: =AVERAGE(G80,G82) -> 0 | I81: =AVERAGE(H80:H82) -> 0 | N81: 660 | O81: 0.5648
A82: 374 | B82: 43.900363 | C82: =B82/MAX($B$8:$B$508) -> 0.04835737 | F82: =D82*$M$5+E82*$O$5 -> 0 | G82: =F82/MAX($F$8:$F$508) -> 0 | H82: =G82 -> 0 | I82: =AVERAGE(H81:H83) -> 0 | N82: 662 | O82: 0.5451
A83: 375 | B83: 44.825048 | C83: =B83/MAX($B$8:$B$508) -> 0.049375935 | F83: =D83*$M$5+E83*$O$5 -> 0 | G83: =F83/MAX($F$8:$F$508) -> 0 | H83: =AVERAGE(G82,G84) -> 0 | I83: =AVERAGE(H82:H84) -> 0 | N83: 664 | O83: 0.5297
A84: 376 | B84: 45.762513 | C84: =B84/MAX($B$8:$B$508) -> 0.050408576 | F84: =D84*$M$5+E84*$O$5 -> 0 | G84: =F84/MAX($F$8:$F$508) -> 0 | H84: =G84 -> 0 | I84: =AVERAGE(H83:H85) -> 0 | N84: 666 | O84: 0.5121
A85: 377 | B85: 46.712807 | C85: =B85/MAX($B$8:$B$508) -> 0.051455349 | F85: =D85*$M$5+E85*$O$5 -> 0 | G85: =F85/MAX($F$8:$F$508) -> 0 | H85: =AVERAGE(G84,G86) -> 0 | I85: =AVERAGE(H84:H86) -> 0 | N85: 668 | O85: 0.4923
A86: 378 | B86: 47.675976 | C86: =B86/MAX($B$8:$B$508) -> 0.052516305 | F86: =D86*$M$5+E86*$O$5 -> 0 | G86: =F86/MAX($F$8:$F$508) -> 0 | H86: =G86 -> 0 | I86: =AVERAGE(H85:H87) -> 0.00033333333 | N86: 670 | O86: 0.4791
A87: 379 | B87: 48.652067 | C87: =B87/MAX($B$8:$B$508) -> 0.053591494 | F87: =D87*$M$5+E87*$O$5 -> 0 | G87: =F87/MAX($F$8:$F$508) -> 0 | H87: =AVERAGE(G86,G88) -> 0.001 | I87: =AVERAGE(H86:H88) -> 0.001 | N87: 672 | O87: 0.4593
A88: 380 | B88: 49.641123 | C88: =B88/MAX($B$8:$B$508) -> 0.054680964 | D88: =LOOKUP(A88,$L$6:$L$71,$M$6:$M$71) -> 0.002 | F88: =D88*$M$5+E88*$O$5 -> 4.1337116e-05 | G88: =F88/MAX($F$8:$F$508) -> 0.002 | H88: =G88 -> 0.002 | I88: =AVERAGE(H87:H89) -> 0.0018333333 | N88: 674 | O88: 0.444
A89: 381 | B89: 50.643187 | C89: =B89/MAX($B$8:$B$508) -> 0.055784762 | D89: =LOOKUP(A89,$L$6:$L$71,$M$6:$M$71) -> 0.002 | F89: =D89*$M$5+E89*$O$5 -> 4.1337116e-05 | G89: =F89/MAX($F$8:$F$508) -> 0.002 | H89: =AVERAGE(G88,G90) -> 0.0025 | I89: =AVERAGE(H88:H90) -> 0.0025 | N89: 676 | O89: 0.4286
A90: 382 | B90: 51.658297 | C90: =B90/MAX($B$8:$B$508) -> 0.056902933 | D90: =LOOKUP(A90,$L$6:$L$71,$M$6:$M$71) -> 0.003 | F90: =D90*$M$5+E90*$O$5 -> 6.2005673e-05 | G90: =F90/MAX($F$8:$F$508) -> 0.003 | H90: =G90 -> 0.003 | I90: =AVERAGE(H89:H91) -> 0.0026666667 | N90: 678 | O90: 0.4132
A91: 383 | B91: 52.686494 | C91: =B91/MAX($B$8:$B$508) -> 0.058035518 | D91: =LOOKUP(A91,$L$6:$L$71,$M$6:$M$71) -> 0.003 | F91: =D91*$M$5+E91*$O$5 -> 6.2005673e-05 | G91: =F91/MAX($F$8:$F$508) -> 0.003 | H91: =AVERAGE(G90,G92) -> 0.0025 | I91: =AVERAGE(H90:H92) -> 0.0025 | N91: 680 | O91: 0.3912
A92: 384 | B92: 53.727815 | C92: =B92/MAX($B$8:$B$508) -> 0.059182559 | D92: =LOOKUP(A92,$L$6:$L$71,$M$6:$M$71) -> 0.002 | F92: =D92*$M$5+E92*$O$5 -> 4.1337116e-05 | G92: =F92/MAX($F$8:$F$508) -> 0.002 | H92: =G92 -> 0.002 | I92: =AVERAGE(H91:H93) -> 0.0023333333 | N92: 682 | O92: 0.3802
A93: 385 | B93: 54.782293 | C93: =B93/MAX($B$8:$B$508) -> 0.060344094 | D93: =LOOKUP(A93,$L$6:$L$71,$M$6:$M$71) -> 0.002 | F93: =D93*$M$5+E93*$O$5 -> 4.1337116e-05 | G93: =F93/MAX($F$8:$F$508) -> 0.002 | H93: =AVERAGE(G92,G94) -> 0.0025 | I93: =AVERAGE(H92:H94) -> 0.0025 | N93: 684 | O93: 0.3626
A94: 386 | B94: 55.849963 | C94: =B94/MAX($B$8:$B$508) -> 0.06152016 | D94: =LOOKUP(A94,$L$6:$L$71,$M$6:$M$71) -> 0.003 | F94: =D94*$M$5+E94*$O$5 -> 6.2005673e-05 | G94: =F94/MAX($F$8:$F$508) -> 0.003 | H94: =G94 -> 0.003 | I94: =AVERAGE(H93:H95) -> 0.0028333333 | N94: 686 | O94: 0.3451
A95: 387 | B95: 56.930857 | C95: =B95/MAX($B$8:$B$508) -> 0.062710792 | D95: =LOOKUP(A95,$L$6:$L$71,$M$6:$M$71) -> 0.003 | F95: =D95*$M$5+E95*$O$5 -> 6.2005673e-05 | G95: =F95/MAX($F$8:$F$508) -> 0.003 | H95: =AVERAGE(G94,G96) -> 0.003 | I95: =AVERAGE(H94:H96) -> 0.003 | N95: 688 | O95: 0.3319
A96: 388 | B96: 58.025004 | C96: =B96/MAX($B$8:$B$508) -> 0.063916023 | D96: =LOOKUP(A96,$L$6:$L$71,$M$6:$M$71) -> 0.003 | F96: =D96*$M$5+E96*$O$5 -> 6.2005673e-05 | G96: =F96/MAX($F$8:$F$508) -> 0.003 | H96: =G96 -> 0.003 | I96: =AVERAGE(H95:H97) -> 0.0028333333 | N96: 690 | O96: 0.3165
A97: 389 | B97: 59.132433 | C97: =B97/MAX($B$8:$B$508) -> 0.065135884 | D97: =LOOKUP(A97,$L$6:$L$71,$M$6:$M$71) -> 0.003 | F97: =D97*$M$5+E97*$O$5 -> 6.2005673e-05 | G97: =F97/MAX($F$8:$F$508) -> 0.003 | H97: =AVERAGE(G96,G98) -> 0.0025 | I97: =AVERAGE(H96:H98) -> 0.0025 | N97: 692 | O97: 0.2989
A98: 390 | B98: 60.25317 | C98: =B98/MAX($B$8:$B$508) -> 0.066370404 | D98: =LOOKUP(A98,$L$6:$L$71,$M$6:$M$71) -> 0.002 | F98: =D98*$M$5+E98*$O$5 -> 4.1337116e-05 | G98: =F98/MAX($F$8:$F$508) -> 0.002 | H98: =G98 -> 0.002 | I98: =AVERAGE(H97:H99) -> 0.0023333333 | N98: 694 | O98: 0.2879
A99: 391 | B99: 61.387239 | C99: =B99/MAX($B$8:$B$508) -> 0.06761961 | D99: =LOOKUP(A99,$L$6:$L$71,$M$6:$M$71) -> 0.002 | F99: =D99*$M$5+E99*$O$5 -> 4.1337116e-05 | G99: =F99/MAX($F$8:$F$508) -> 0.002 | H99: =AVERAGE(G98,G100) -> 0.0025 | I99: =AVERAGE(H98:H100) -> 0.0025 | N99: 696 | O99: 0.2703
A100: 392 | B100: 62.534664 | C100: =B100/MAX($B$8:$B$508) -> 0.068883528 | D100: =LOOKUP(A100,$L$6:$L$71,$M$6:$M$71) -> 0.003 | F100: =D100*$M$5+E100*$O$5 -> 6.2005673e-05 | G100: =F100/MAX($F$8:$F$508) -> 0.003 | H100: =G100 -> 0.003 | I100: =AVERAGE(H99:H101) -> 0.0028333333 | N100: 698 | O100: 0.2615
A101: 393 | B101: 63.695466 | C101: =B101/MAX($B$8:$B$508) -> 0.070162181 | D101: =LOOKUP(A101,$L$6:$L$71,$M$6:$M$71) -> 0.003 | F101: =D101*$M$5+E101*$O$5 -> 6.2005673e-05 | G101: =F101/MAX($F$8:$F$508) -> 0.003 | H101: =AVERAGE(G100,G102) -> 0.003 | I101: =AVERAGE(H100:H102) -> 0.003 | N101: 700 | O101: 0.2462
...

Sheet calc
B2: V(L) | C2: 685 | D2: x̅ | E2: y̅ | F2: z̅ | G2: x | H2: y | I2: =sources!B5 -> Halogen | J2: LED | K2: BG47 | L2: OG530 | M2: HxB | N2: HxO | O2: LxB | P2: LxO | U2: X | V2: Y | W2: Z | X2: x | Y2: y
A3: 380 | B3: 3.9e-05 | C3: =B3*$C$2 -> 0.026715 | D3: 0.001368 | E3: 3.9e-05 | F3: 0.006450001 | G3: =D3/SUM($D3:$F3) -> 0.17411223 | H3: =E3/SUM($D3:$F3) -> 0.004963726 | I3: =sources!C88 -> 0.054680964 | J3: =sources!I88 -> 0.0018333333 | K3: ='BG47'!R3 -> 0.5989 | L3: ='OG530'!R3 -> 1e-05 | M3: =I3*K3 -> 0.032748429 | N3: =I3*L3 -> 5.4680964e-07 | O3: =J3*K3 -> 0.0010979833 | P3: =J3*L3 -> 1.8333333e-08 | S3: =$I$2 -> Halogen | T3: original | U3: =SUMPRODUCT($I3:$I403,D3:D403) -> 52.696639 | V3: =SUMPRODUCT($I3:$I403,E3:E403) -> 48.734588 | W3: =SUMPRODUCT($I3:$I403,F3:F403) -> 19.173937 | X3: =U3/(SUM($U3:$W3)) -> 0.43693518 | Y3: =V3/(SUM($U3:$W3)) -> 0.40408376
A4: =A3+1 -> 381 | B4: 4.28264e-05 | C4: =B4*$C$2 -> 0.029336084 | D4: 0.00150205 | E4: 4.28264e-05 | F4: 0.007083216 | G4: =D4/SUM($D4:$F4) -> 0.17408831 | H4: =E4/SUM($D4:$F4) -> 0.0049636001 | I4: =sources!C89 -> 0.055784762 | J4: =sources!I89 -> 0.0025 | K4: ='BG47'!R4 -> 0.60425 | L4: ='OG530'!R4 -> 1e-05 | M4: =I4*K4 -> 0.033707943 | N4: =I4*L4 -> 5.5784762e-07 | O4: =J4*K4 -> 0.001510625 | P4: =J4*L4 -> 2.5e-08 | S4: =$I$2 -> Halogen | T4: + BG47 | U4: =SUMPRODUCT($M3:$M403,D3:D403) -> 17.26506 | V4: =SUMPRODUCT($M3:$M403,E3:E403) -> 25.860084 | W4: =SUMPRODUCT($M3:$M403,F3:F403) -> 15.175679 | X4: =U4/(SUM($U4:$W4)) -> 0.2961375 | Y4: =V4/(SUM($U4:$W4)) -> 0.44356293
A5: =A4+1 -> 382 | B5: 4.69146e-05 | C5: =B5*$C$2 -> 0.032136501 | D5: 0.001642328 | E5: 4.69146e-05 | F5: 0.007745488 | G5: =D5/SUM($D5:$F5) -> 0.17407259 | H5: =E5/SUM($D5:$F5) -> 0.0049725426 | I5: =sources!C90 -> 0.056902933 | J5: =sources!I90 -> 0.0026666667 | K5: ='BG47'!R5 -> 0.6096 | L5: ='OG530'!R5 -> 1e-05 | M5: =I5*K5 -> 0.034688028 | N5: =I5*L5 -> 5.6902933e-07 | O5: =J5*K5 -> 0.0016256 | P5: =J5*L5 -> 2.6666667e-08 | S5: =$I$2 -> Halogen | T5: + OG530 | U5: =SUMPRODUCT($N3:$N403,D3:D403) -> 48.046246 | V5: =SUMPRODUCT($N3:$N403,E3:E403) -> 39.535377 | W5: =SUMPRODUCT($N3:$N403,F3:F403) -> 0.27554471 | X5: =U5/(SUM($U5:$W5)) -> 0.54686769 | Y5: =V5/(SUM($U5:$W5)) -> 0.44999603
A6: =A5+1 -> 383 | B6: 5.15896e-05 | C6: =B6*$C$2 -> 0.035338876 | D6: 0.001802382 | E6: 5.15896e-05 | F6: 0.008501152 | G6: =D6/SUM($D6:$F6) -> 0.17405702 | H6: =E6/SUM($D6:$F6) -> 0.0049820361 | I6: =sources!C91 -> 0.058035518 | J6: =sources!I91 -> 0.0025 | K6: ='BG47'!R6 -> 0.61495 | L6: ='OG530'!R6 -> 1e-05 | M6: =I6*K6 -> 0.035688942 | N6: =I6*L6 -> 5.8035518e-07 | O6: =J6*K6 -> 0.001537375 | P6: =J6*L6 -> 2.5e-08
A7: =A6+1 -> 384 | B7: 5.71764e-05 | C7: =B7*$C$2 -> 0.039165834 | D7: 0.001995757 | E7: 5.71764e-05 | F7: 0.009414544 | G7: =D7/SUM($D7:$F7) -> 0.17403627 | H7: =E7/SUM($D7:$F7) -> 0.0049859614 | I7: =sources!C92 -> 0.059182559 | J7: =sources!I92 -> 0.0023333333 | K7: ='BG47'!R7 -> 0.6203 | L7: ='OG530'!R7 -> 1e-05 | M7: =I7*K7 -> 0.036710941 | N7: =I7*L7 -> 5.9182559e-07 | O7: =J7*K7 -> 0.0014473667 | P7: =J7*L7 -> 2.3333333e-08 | S7: LED | T7: original | U7: =SUMPRODUCT($J3:$J403,D3:D403) -> 40.856637 | V7: =SUMPRODUCT($J3:$J403,E3:E403) -> 43.31568 | W7: =SUMPRODUCT($J3:$J403,F3:F403) -> 45.175122 | X7: =U7/(SUM($U7:$W7)) -> 0.31586738 | Y7: =V7/(SUM($U7:$W7)) -> 0.33487853
A8: =A7+1 -> 385 | B8: 6.4e-05 | C8: =B8*$C$2 -> 0.04384 | D8: 0.002236 | E8: 6.4e-05 | F8: 0.01054999 | G8: =D8/SUM($D8:$F8) -> 0.17400792 | H8: =E8/SUM($D8:$F8) -> 0.0049805486 | I8: =sources!C93 -> 0.060344094 | J8: =sources!I93 -> 0.0025 | K8: ='BG47'!R8 -> 0.62565 | L8: ='OG530'!R8 -> 1e-05 | M8: =I8*K8 -> 0.037754282 | N8: =I8*L8 -> 6.0344094e-07 | O8: =J8*K8 -> 0.001564125 | P8: =J8*L8 -> 2.5e-08 | S8: LED | T8: + BG47 | U8: =SUMPRODUCT($O3:$O403,D3:D403) -> 18.325594 | V8: =SUMPRODUCT($O3:$O403,E3:E403) -> 26.84126 | W8: =SUMPRODUCT($O3:$O403,F3:F403) -> 35.560664 | X8: =U8/(SUM($U8:$W8)) -> 0.22700555 | Y8: =V8/(SUM($U8:$W8)) -> 0.33249208
A9: =A8+1 -> 386 | B9: 7.234421e-05 | C9: =B9*$C$2 -> 0.049555784 | D9: 0.002535385 | E9: 7.234421e-05 | F9: 0.0119658 | G9: =D9/SUM($D9:$F9) -> 0.17397193 | H9: =E9/SUM($D9:$F9) -> 0.0049640831 | I9: =sources!C94 -> 0.06152016 | J9: =sources!I94 -> 0.0028333333 | K9: ='BG47'!R9 -> 0.631 | L9: ='OG530'!R9 -> 1e-05 | M9: =I9*K9 -> 0.038819221 | N9: =I9*L9 -> 6.152016e-07 | O9: =J9*K9 -> 0.0017878333 | P9: =J9*L9 -> 2.8333333e-08 | S9: LED | T9: + OG530 | U9: =SUMPRODUCT($P3:$P403,D3:D403) -> 31.743535 | V9: =SUMPRODUCT($P3:$P403,E3:E403) -> 31.661316 | W9: =SUMPRODUCT($P3:$P403,F3:F403) -> 0.30690484 | X9: =U9/(SUM($U9:$W9)) -> 0.4982367 | Y9: =V9/(SUM($U9:$W9)) -> 0.49694622
A10: =A9+1 -> 387 | B10: 8.221224e-05 | C10: =B10*$C$2 -> 0.056315384 | D10: 0.002892603 | E10: 8.221224e-05 | F10: 0.01365587 | G10: =D10/SUM($D10:$F10) -> 0.17393168 | H10: =E10/SUM($D10:$F10) -> 0.0049434066 | I10: =sources!C95 -> 0.062710792 | J10: =sources!I95 -> 0.003 | K10: ='BG47'!R10 -> 0.63635 | L10: ='OG530'!R10 -> 1e-05 | M10: =I10*K10 -> 0.039906013 | N10: =I10*L10 -> 6.2710792e-07 | O10: =J10*K10 -> 0.00190905 | P10: =J10*L10 -> 3e-08
A11: =A10+1 -> 388 | B11: 9.350816e-05 | C11: =B11*$C$2 -> 0.06405309 | D11: 0.003300829 | E11: 9.350816e-05 | F11: 0.01558805 | G11: =D11/SUM($D11:$F11) -> 0.17388904 | H11: =E11/SUM($D11:$F11) -> 0.0049260485 | I11: =sources!C96 -> 0.063916023 | J11: =sources!I96 -> 0.0028333333 | K11: ='BG47'!R11 -> 0.6417 | L11: ='OG530'!R11 -> 1e-05 | M11: =I11*K11 -> 0.041014912 | N11: =I11*L11 -> 6.3916023e-07 | O11: =J11*K11 -> 0.00181815 | P11: =J11*L11 -> 2.8333333e-08 | S11: const | T11: BG47 | U11: =SUMPRODUCT($K3:$K403,D3:D403) -> 44.230518 | V11: =SUMPRODUCT($K3:$K403,E3:E403) -> 63.769592 | W11: =SUMPRODUCT($K3:$K403,F3:F403) -> 83.36764 | X11: =U11/(SUM($U11:$W11)) -> 0.23112838 | Y11: =V11/(SUM($U11:$W11)) -> 0.33323061 | AA11: no information
A12: =A11+1 -> 389 | B12: 0.0001061361 | C12: =B12*$C$2 -> 0.072703228 | D12: 0.003753236 | E12: 0.0001061361 | F12: 0.01773015 | G12: =D12/SUM($D12:$F12) -> 0.17384526 | H12: =E12/SUM($D12:$F12) -> 0.0049160931 | I12: =sources!C97 -> 0.065135884 | J12: =sources!I97 -> 0.0025 | K12: ='BG47'!R12 -> 0.64705 | L12: ='OG530'!R12 -> 1e-05 | M12: =I12*K12 -> 0.042146174 | N12: =I12*L12 -> 6.5135884e-07 | O12: =J12*K12 -> 0.001617625 | P12: =J12*L12 -> 2.5e-08 | S12: const | T12: OG530 | U12: =SUMPRODUCT($L3:$L403,D3:D403) -> 85.122825 | V12: =SUMPRODUCT($L3:$L403,E3:E403) -> 78.536534 | W12: =SUMPRODUCT($L3:$L403,F3:F403) -> 0.70129489 | X12: =U12/(SUM($U12:$W12)) -> 0.51790269 | Y12: =V12/(SUM($U12:$W12)) -> 0.4778305 | AA12: no information
A13: =A12+1 -> 390 | B13: 0.00012 | C13: =B13*$C$2 -> 0.0822 | D13: 0.004243 | E13: 0.00012 | F13: 0.02005001 | G13: =D13/SUM($D13:$F13) -> 0.17380077 | H13: =E13/SUM($D13:$F13) -> 0.0049154119 | I13: =sources!C98 -> 0.066370404 | J13: =sources!I98 -> 0.0023333333 | K13: ='BG47'!R13 -> 0.6524 | L13: ='OG530'!R13 -> 1e-05 | M13: =I13*K13 -> 0.043300052 | N13: =I13*L13 -> 6.6370404e-07 | O13: =J13*K13 -> 0.0015222667 | P13: =J13*L13 -> 2.3333333e-08
A14: =A13+1 -> 391 | B14: 0.000134984 | C14: =B14*$C$2 -> 0.09246404 | D14: 0.004762389 | E14: 0.000134984 | F14: 0.02251136 | G14: =D14/SUM($D14:$F14) -> 0.17375444 | H14: =E14/SUM($D14:$F14) -> 0.0049248537 | I14: =sources!C99 -> 0.06761961 | J14: =sources!I99 -> 0.0025 | K14: ='BG47'!R14 -> 0.65592 | L14: ='OG530'!R14 -> 1e-05 | M14: =I14*K14 -> 0.044353055 | N14: =I14*L14 -> 6.761961e-07 | O14: =J14*K14 -> 0.0016398 | P14: =J14*L14 -> 2.5e-08
A15: =A14+1 -> 392 | B15: 0.000151492 | C15: =B15*$C$2 -> 0.10377202 | D15: 0.005330048 | E15: 0.000151492 | F15: 0.02520288 | G15: =D15/SUM($D15:$F15) -> 0.17370535 | H15: =E15/SUM($D15:$F15) -> 0.0049370984 | I15: =sources!C100 -> 0.068883528 | J15: =sources!I100 -> 0.0028333333 | K15: ='BG47'!R15 -> 0.65944 | L15: ='OG530'!R15 -> 1e-05 | M15: =I15*K15 -> 0.045424554 | N15: =I15*L15 -> 6.8883528e-07 | O15: =J15*K15 -> 0.0018684133 | P15: =J15*L15 -> 2.8333333e-08
A16: =A15+1 -> 393 | B16: 0.000170208 | C16: =B16*$C$2 -> 0.11659248 | D16: 0.005978712 | E16: 0.000170208 | F16: 0.02827972 | G16: =D16/SUM($D16:$F16) -> 0.17365519 | H16: =E16/SUM($D16:$F16) -> 0.004943791 | I16: =sources!C101 -> 0.070162181 | J16: =sources!I101 -> 0.003 | K16: ='BG47'!R16 -> 0.66296 | L16: ='OG530'!R16 -> 1e-05 | M16: =I16*K16 -> 0.04651472 | N16: =I16*L16 -> 7.0162181e-07 | O16: =J16*K16 -> 0.00198888 | P16: =J16*L16 -> 3e-08
A17: =A16+1 -> 394 | B17: 0.00019186 | C17: =B17*$C$2 -> 0.1314241 | D17: 0.006741117 | E17: 0.000191816 | F17: 0.03189704 | G17: =D17/SUM($D17:$F17) -> 0.17360602 | H17: =E17/SUM($D17:$F17) -> 0.0049398953 | I17: =sources!C102 -> 0.07145559 | J17: =sources!I102 -> 0.0028333333 | K17: ='BG47'!R17 -> 0.66648 | L17: ='OG530'!R17 -> 1e-05 | M17: =I17*K17 -> 0.047623722 | N17: =I17*L17 -> 7.145559e-07 | O17: =J17*K17 -> 0.00188836 | P17: =J17*L17 -> 2.8333333e-08
A18: =A17+1 -> 395 | B18: 0.000217 | C18: =B18*$C$2 -> 0.148645 | D18: 0.00765 | E18: 0.000217 | F18: 0.03621 | G18: =D18/SUM($D18:$F18) -> 0.17355991 | H18: =E18/SUM($D18:$F18) -> 0.0049232026 | I18: =sources!C103 -> 0.072763775 | J18: =sources!I103 -> 0.0025 | K18: ='BG47'!R18 -> 0.67 | L18: ='OG530'!R18 -> 1e-05 | M18: =I18*K18 -> 0.048751729 | N18: =I18*L18 -> 7.2763775e-07 | O18: =J18*K18 -> 0.001675 | P18: =J18*L18 -> 2.5e-08
A19: =A18+1 -> 396 | B19: 0.0002469067 | C19: =B19*$C$2 -> 0.16913109 | D19: 0.008751373 | E19: 0.0002469067 | F19: 0.04143771 | G19: =D19/SUM($D19:$F19) -> 0.17351445 | H19: =E19/SUM($D19:$F19) -> 0.0048954467 | I19: =sources!C104 -> 0.074086752 | J19: =sources!I104 -> 0.0023333333 | K19: ='BG47'!R19 -> 0.67352 | L19: ='OG530'!R19 -> 1e-05 | M19: =I19*K19 -> 0.049898909 | N19: =I19*L19 -> 7.4086752e-07 | O19: =J19*K19 -> 0.0015715467 | P19: =J19*L19 -> 2.3333333e-08
A20: =A19+1 -> 397 | B20: 0.00028124 | C20: =B20*$C$2 -> 0.1926494 | D20: 0.01002888 | E20: 0.00028124 | F20: 0.04750372 | G20: =D20/SUM($D20:$F20) -> 0.1734685 | H20: =E20/SUM($D20:$F20) -> 0.0048645791 | I20: =sources!C105 -> 0.075424538 | J20: =sources!I105 -> 0.0025 | K20: ='BG47'!R20 -> 0.67704 | L20: ='OG530'!R20 -> 1e-05 | M20: =I20*K20 -> 0.051065429 | N20: =I20*L20 -> 7.5424538e-07 | O20: =J20*K20 -> 0.0016926 | P20: =J20*L20 -> 2.5e-08
A21: =A20+1 -> 398 | B21: 0.0003185 | C21: =B21*$C$2 -> 0.2181725 | D21: 0.0114217 | E21: 0.00031852 | F21: 0.05411988 | G21: =D21/SUM($D21:$F21) -> 0.17342367 | H21: =E21/SUM($D21:$F21) -> 0.0048363121 | I21: =sources!C106 -> 0.076777147 | J21: =sources!I106 -> 0.0028333333 | K21: ='BG47'!R21 -> 0.68056 | L21: ='OG530'!R21 -> 1e-05 | M21: =I21*K21 -> 0.052251455 | N21: =I21*L21 -> 7.6777147e-07 | O21: =J21*K21 -> 0.0019282533 | P21: =J21*L21 -> 2.8333333e-08
A22: =A21+1 -> 399 | B22: 0.0003572667 | C22: =B22*$C$2 -> 0.24472769 | D22: 0.01286901 | E22: 0.0003572667 | F22: 0.06099803 | G22: =D22/SUM($D22:$F22) -> 0.17338 | H22: =E22/SUM($D22:$F22) -> 0.0048133383 | I22: =sources!C107 -> 0.078144589 | J22: =sources!I107 -> 0.003 | K22: ='BG47'!R22 -> 0.68408 | L22: ='OG530'!R22 -> 1e-05 | M22: =I22*K22 -> 0.05345715 | N22: =I22*L22 -> 7.8144589e-07 | O22: =J22*K22 -> 0.00205224 | P22: =J22*L22 -> 3e-08
A23: =A22+1 -> 400 | B23: 0.000396 | C23: =B23*$C$2 -> 0.27126 | D23: 0.01431 | E23: 0.000396 | F23: 0.06785001 | G23: =D23/SUM($D23:$F23) -> 0.17333687 | H23: =E23/SUM($D23:$F23) -> 0.0047967434 | I23: =sources!C108 -> 0.079526875 | J23: =sources!I108 -> 0.003 | K23: ='BG47'!R23 -> 0.6876 | L23: ='OG530'!R23 -> 1e-05 | M23: =I23*K23 -> 0.054682679 | N23: =I23*L23 -> 7.9526875e-07 | O23: =J23*K23 -> 0.0020628 | P23: =J23*L23 -> 3e-08
A24: =A23+1 -> 401 | B24: 0.0004337147 | C24: =B24*$C$2 -> 0.29709457 | D24: 0.01570443 | E24: 0.0004337147 | F24: 0.07448632 | G24: =D24/SUM($D24:$F24) -> 0.17329129 | H24: =E24/SUM($D24:$F24) -> 0.0047858456 | I24: =sources!C109 -> 0.080924012 | J24: =sources!I109 -> 0.003 | K24: ='BG47'!R24 -> 0.68992 | L24: ='OG530'!R24 -> 1e-05 | M24: =I24*K24 -> 0.055831094 | N24: =I24*L24 -> 8.0924012e-07 | O24: =J24*K24 -> 0.00206976 | P24: =J24*L24 -> 3e-08
... A403: =A402+1 -> 780 | B403: 1.499e-05 | C403: =B403*$C$2 -> 0.01026815 | D403: 4.150994e-05 | E403: 1.499e-05 | F403: 0 | G403: =D403/SUM($D403:$F403) -> 0.73468998 | H403: =E403/SUM($D403:$F403) -> 0.26531002 | I403: =sources!C488 -> 0.97289185 | J403: =sources!I488 -> 0.010037979 | K403: ='BG47'!R403 -> 1e-05 | L403: ='OG530'!R403 -> 0.9681 | M403: =I403*K403 -> 9.7289185e-06 | N403: =I403*L403 -> 0.9418566 | O403: =J403*K403 -> 1.0037979e-07 | P403: =J403*L403 -> 0.0097177675
